BEGIN:VCALENDAR
VERSION:2.0
PRODID:-//Shine Sanctuary Sedona - ECPv6.15.20//NONSGML v1.0//EN
CALSCALE:GREGORIAN
METHOD:PUBLISH
X-ORIGINAL-URL:https://shinesedona.com
X-WR-CALDESC:Events for Shine Sanctuary Sedona
REFRESH-INTERVAL;VALUE=DURATION:PT1H
X-Robots-Tag:noindex
X-PUBLISHED-TTL:PT1H
BEGIN:VTIMEZONE
TZID:UTC
BEGIN:STANDARD
TZOFFSETFROM:+0000
TZOFFSETTO:+0000
TZNAME:UTC
DTSTART:20220101T000000
END:STANDARD
END:VTIMEZONE
BEGIN:VEVENT
DTSTART;TZID=UTC:20230909T100000
DTEND;TZID=UTC:20230909T120000
DTSTAMP:20260422T183547
CREATED:20230623T201509Z
LAST-MODIFIED:20230623T201509Z
UID:239398-1694253600-1694260800@shinesedona.com
SUMMARY:Healing Core Wounds Workshop w/ Anahata Ananda
DESCRIPTION:
URL:https://shinesedona.com/event/healing-core-wounds-workshop-w-anahata-ananda-2/
CATEGORIES:Events,Expand,Heal,Learn
ATTACH;FMTTYPE=image/jpeg:https://shinesedona.com/wp-content/uploads/2022/06/learn-golden-heart-key-700-square-image.jpg
END:VEVENT
BEGIN:VEVENT
DTSTART;TZID=UTC:20230909T130000
DTEND;TZID=UTC:20230909T180000
DTSTAMP:20260422T183547
CREATED:20230807T212233Z
LAST-MODIFIED:20230807T212241Z
UID:239774-1694264400-1694282400@shinesedona.com
SUMMARY:Shamangelic Healing Journey w/ Anahata Ananda
DESCRIPTION:
URL:https://shinesedona.com/event/shamangelic-healing-journey-w-anahata-ananda-sept-9/
CATEGORIES:Expand,Heal,Learn,Sessions
ATTACH;FMTTYPE=image/jpeg:https://shinesedona.com/wp-content/uploads/2022/09/Anahata-healing.jpg
END:VEVENT
END:VCALENDAR