BEGIN:VCALENDAR
VERSION:2.0
PRODID:-//Shine Sanctuary Sedona - ECPv6.15.20//NONSGML v1.0//EN
CALSCALE:GREGORIAN
METHOD:PUBLISH
X-ORIGINAL-URL:https://shinesedona.com
X-WR-CALDESC:Events for Shine Sanctuary Sedona
REFRESH-INTERVAL;VALUE=DURATION:PT1H
X-Robots-Tag:noindex
X-PUBLISHED-TTL:PT1H
BEGIN:VTIMEZONE
TZID:UTC
BEGIN:STANDARD
TZOFFSETFROM:+0000
TZOFFSETTO:+0000
TZNAME:UTC
DTSTART:20220101T000000
END:STANDARD
END:VTIMEZONE
BEGIN:VEVENT
DTSTART;TZID=UTC:20231009T100000
DTEND;TZID=UTC:20231009T170000
DTSTAMP:20260424T093744
CREATED:20230831T200209Z
LAST-MODIFIED:20230831T200223Z
UID:239922-1696845600-1696870800@shinesedona.com
SUMMARY:Soul Guidance Session w/ Steph Struthers
DESCRIPTION:
URL:https://shinesedona.com/event/soul-guidance-session-w-steph-struthers-10-9-2/
CATEGORIES:Expand,Heal,Learn
ATTACH;FMTTYPE=image/jpeg:https://shinesedona.com/wp-content/uploads/2023/08/Akashic-image-.jpg
END:VEVENT
BEGIN:VEVENT
DTSTART;TZID=UTC:20231009T100000
DTEND;TZID=UTC:20231009T170000
DTSTAMP:20260424T093744
CREATED:20230919T173415Z
LAST-MODIFIED:20230919T173424Z
UID:240054-1696845600-1696870800@shinesedona.com
SUMMARY:Restorative Reiki Session w/ Barbie Maraviov
DESCRIPTION:
URL:https://shinesedona.com/event/restorative-reiki-session-w-barbie-maraviov-10-9/
CATEGORIES:Expand,Heal,Sessions
END:VEVENT
END:VCALENDAR