BEGIN:VCALENDAR
VERSION:2.0
PRODID:-//Shine Sanctuary Sedona - ECPv6.15.20//NONSGML v1.0//EN
CALSCALE:GREGORIAN
METHOD:PUBLISH
X-ORIGINAL-URL:https://shinesedona.com
X-WR-CALDESC:Events for Shine Sanctuary Sedona
REFRESH-INTERVAL;VALUE=DURATION:PT1H
X-Robots-Tag:noindex
X-PUBLISHED-TTL:PT1H
BEGIN:VTIMEZONE
TZID:UTC
BEGIN:STANDARD
TZOFFSETFROM:+0000
TZOFFSETTO:+0000
TZNAME:UTC
DTSTART:20220101T000000
END:STANDARD
END:VTIMEZONE
BEGIN:VEVENT
DTSTART;TZID=UTC:20231102T083000
DTEND;TZID=UTC:20231106T170000
DTSTAMP:20260423T083347
CREATED:20231003T190341Z
LAST-MODIFIED:20231003T190541Z
UID:240197-1698913800-1699290000@shinesedona.com
SUMMARY:The KINRGY Retreat with Julianne Hough
DESCRIPTION:
URL:https://shinesedona.com/event/the-kinrgy-retreat-with-julianne-hough/
LOCATION:Shine Sanctuary Sedona\, 162 Coffee Pot Drive Unit D\, Sedona\, AZ\, 86336\, United States
CATEGORIES:Events
ATTACH;FMTTYPE=image/jpeg:https://shinesedona.com/wp-content/uploads/2023/10/Kinrgy.jpeg
END:VEVENT
BEGIN:VEVENT
DTSTART;TZID=UTC:20231104T100000
DTEND;TZID=UTC:20231104T150000
DTSTAMP:20260423T083347
CREATED:20231103T221016Z
LAST-MODIFIED:20231103T221025Z
UID:240431-1699092000-1699110000@shinesedona.com
SUMMARY:Intuitive Angel Reading w/ Amanda Shannon
DESCRIPTION:
URL:https://shinesedona.com/event/intuitive-angel-reading-w-amanda-shannon-11-4/
CATEGORIES:Expand,Heal,Learn
ATTACH;FMTTYPE=image/png:https://shinesedona.com/wp-content/uploads/2023/10/Screen-Shot-2023-10-02-at-11.21.48-AM.png
END:VEVENT
BEGIN:VEVENT
DTSTART;TZID=UTC:20231104T100000
DTEND;TZID=UTC:20231104T170000
DTSTAMP:20260423T083347
CREATED:20231103T183854Z
LAST-MODIFIED:20231103T183903Z
UID:240411-1699092000-1699117200@shinesedona.com
SUMMARY:Restorative Reiki Session w/ Barbie
DESCRIPTION:
URL:https://shinesedona.com/event/restorative-reiki-session-w-barbie-11-4/
CATEGORIES:Expand,Heal,Sessions
END:VEVENT
BEGIN:VEVENT
DTSTART;TZID=UTC:20231104T183000
DTEND;TZID=UTC:20231104T200000
DTSTAMP:20260423T083347
CREATED:20231016T233239Z
LAST-MODIFIED:20231102T195123Z
UID:240253-1699122600-1699128000@shinesedona.com
SUMMARY:Sound Healing Ceremony w/ Devani Paige
DESCRIPTION:
URL:https://shinesedona.com/event/sound-healing-ceremony-w-devani-paige-11-4/
CATEGORIES:Events,Expand,Heal
ATTACH;FMTTYPE=image/jpeg:https://shinesedona.com/wp-content/uploads/2023/04/Devani-page-on-red-rocks-square-image.jpg
END:VEVENT
END:VCALENDAR