BEGIN:VCALENDAR
VERSION:2.0
PRODID:-//Shine Sanctuary Sedona - ECPv6.15.20//NONSGML v1.0//EN
CALSCALE:GREGORIAN
METHOD:PUBLISH
X-WR-CALNAME:Shine Sanctuary Sedona
X-ORIGINAL-URL:https://shinesedona.com
X-WR-CALDESC:Events for Shine Sanctuary Sedona
REFRESH-INTERVAL;VALUE=DURATION:PT1H
X-Robots-Tag:noindex
X-PUBLISHED-TTL:PT1H
BEGIN:VTIMEZONE
TZID:UTC
BEGIN:STANDARD
TZOFFSETFROM:+0000
TZOFFSETTO:+0000
TZNAME:UTC
DTSTART:20220101T000000
END:STANDARD
END:VTIMEZONE
BEGIN:VEVENT
DTSTART;TZID=UTC:20231122T100000
DTEND;TZID=UTC:20231122T153000
DTSTAMP:20260423T153209
CREATED:20231102T223324Z
LAST-MODIFIED:20231108T161222Z
UID:240408-1700647200-1700667000@shinesedona.com
SUMMARY:Intuitive Angel Reading w/ Amanda Shannon
DESCRIPTION:
URL:https://shinesedona.com/event/intuitive-angel-reading-w-amanda-shannon-11-22/
CATEGORIES:Expand,Heal,Learn
ATTACH;FMTTYPE=image/png:https://shinesedona.com/wp-content/uploads/2023/10/Screen-Shot-2023-10-02-at-11.21.48-AM.png
END:VEVENT
BEGIN:VEVENT
DTSTART;TZID=UTC:20231122T100000
DTEND;TZID=UTC:20231122T170000
DTSTAMP:20260423T153209
CREATED:20231103T202321Z
LAST-MODIFIED:20231103T202329Z
UID:240430-1700647200-1700672400@shinesedona.com
SUMMARY:Cellular Mind Body Reset Session
DESCRIPTION:
URL:https://shinesedona.com/event/cellular-mind-body-reset-session-1122/
CATEGORIES:Expand,Heal,Sessions
ATTACH;FMTTYPE=image/jpeg:https://shinesedona.com/wp-content/uploads/2023/01/Cellular-Reset-square-image.jpg
END:VEVENT
END:VCALENDAR