BEGIN:VCALENDAR
VERSION:2.0
PRODID:-//Shine Sanctuary Sedona - ECPv6.15.20//NONSGML v1.0//EN
CALSCALE:GREGORIAN
METHOD:PUBLISH
X-ORIGINAL-URL:https://shinesedona.com
X-WR-CALDESC:Events for Shine Sanctuary Sedona
REFRESH-INTERVAL;VALUE=DURATION:PT1H
X-Robots-Tag:noindex
X-PUBLISHED-TTL:PT1H
BEGIN:VTIMEZONE
TZID:UTC
BEGIN:STANDARD
TZOFFSETFROM:+0000
TZOFFSETTO:+0000
TZNAME:UTC
DTSTART:20220101T000000
END:STANDARD
END:VTIMEZONE
BEGIN:VEVENT
DTSTART;TZID=UTC:20231125T100000
DTEND;TZID=UTC:20231125T123000
DTSTAMP:20260423T083507
CREATED:20231101T003826Z
LAST-MODIFIED:20231101T003826Z
UID:240309-1700906400-1700915400@shinesedona.com
SUMMARY:Sedona Vortex Land Journey w/ Anahata Ananda
DESCRIPTION:
URL:https://shinesedona.com/event/sedona-vortex-land-journey-w-anahata-ananda/
CATEGORIES:Events,Expand,Heal,Learn
ATTACH;FMTTYPE=image/jpeg:https://shinesedona.com/wp-content/uploads/2022/12/new-year-image-square.jpg
END:VEVENT
BEGIN:VEVENT
DTSTART;TZID=UTC:20231125T100000
DTEND;TZID=UTC:20231125T153000
DTSTAMP:20260423T083507
CREATED:20231006T193039Z
LAST-MODIFIED:20231006T193049Z
UID:240217-1700906400-1700926200@shinesedona.com
SUMMARY:Intuitive Angel Reading w/ Amanda Shannon
DESCRIPTION:
URL:https://shinesedona.com/event/intuitive-angel-reading-w-amanda-shannon-11-25/
CATEGORIES:Expand,Heal,Learn
ATTACH;FMTTYPE=image/png:https://shinesedona.com/wp-content/uploads/2023/10/Screen-Shot-2023-10-02-at-11.21.48-AM.png
END:VEVENT
BEGIN:VEVENT
DTSTART;TZID=UTC:20231125T100000
DTEND;TZID=UTC:20231125T170000
DTSTAMP:20260423T083507
CREATED:20231017T171900Z
LAST-MODIFIED:20231031T183203Z
UID:240260-1700906400-1700931600@shinesedona.com
SUMMARY:Full Spectrum Energy Healing Session w/ Amyris
DESCRIPTION:
URL:https://shinesedona.com/event/energy-alignment-session-w-amyris-wilson-11-25/
CATEGORIES:Expand,Heal,Sessions
END:VEVENT
BEGIN:VEVENT
DTSTART;TZID=UTC:20231125T163000
DTEND;TZID=UTC:20231125T180000
DTSTAMP:20260423T083507
CREATED:20230922T173647Z
LAST-MODIFIED:20230922T173700Z
UID:240070-1700929800-1700935200@shinesedona.com
SUMMARY:Sacred Sound Journey w/ Cheryl Bailey
DESCRIPTION:
URL:https://shinesedona.com/event/sacred-sound-journey-w-cheryl-bailey-11-25/
CATEGORIES:Events,Expand,Heal
ATTACH;FMTTYPE=image/jpeg:https://shinesedona.com/wp-content/uploads/2023/02/CHeryl-Bailey-sound-healing-at-Shine-square-image.jpg
END:VEVENT
END:VCALENDAR