BEGIN:VCALENDAR
VERSION:2.0
PRODID:-//Shine Sanctuary Sedona - ECPv6.15.20//NONSGML v1.0//EN
CALSCALE:GREGORIAN
METHOD:PUBLISH
X-WR-CALNAME:Shine Sanctuary Sedona
X-ORIGINAL-URL:https://shinesedona.com
X-WR-CALDESC:Events for Shine Sanctuary Sedona
REFRESH-INTERVAL;VALUE=DURATION:PT1H
X-Robots-Tag:noindex
X-PUBLISHED-TTL:PT1H
BEGIN:VTIMEZONE
TZID:UTC
BEGIN:STANDARD
TZOFFSETFROM:+0000
TZOFFSETTO:+0000
TZNAME:UTC
DTSTART:20220101T000000
END:STANDARD
END:VTIMEZONE
BEGIN:VEVENT
DTSTART;TZID=UTC:20231130T100000
DTEND;TZID=UTC:20231203T170000
DTSTAMP:20260423T112102
CREATED:20231024T205939Z
LAST-MODIFIED:20231026T230810Z
UID:240280-1701338400-1701622800@shinesedona.com
SUMMARY:Inner King Men's Retreat
DESCRIPTION:
URL:https://shinesedona.com/event/inner-king-retreat-for-men/
LOCATION:Shine Sanctuary Sedona\, 162 Coffee Pot Drive Unit D\, Sedona\, AZ\, 86336\, United States
CATEGORIES:Events
END:VEVENT
BEGIN:VEVENT
DTSTART;TZID=UTC:20231202T100000
DTEND;TZID=UTC:20231202T153000
DTSTAMP:20260423T112102
CREATED:20231006T193404Z
LAST-MODIFIED:20231006T193414Z
UID:240220-1701511200-1701531000@shinesedona.com
SUMMARY:Intuitive Angel Reading w/ Amanda Shannon
DESCRIPTION:
URL:https://shinesedona.com/event/intuitive-angel-reading-w-amanda-shannon-122/
CATEGORIES:Expand,Heal,Learn
ATTACH;FMTTYPE=image/png:https://shinesedona.com/wp-content/uploads/2023/10/Screen-Shot-2023-10-02-at-11.21.48-AM.png
END:VEVENT
BEGIN:VEVENT
DTSTART;TZID=UTC:20231202T100000
DTEND;TZID=UTC:20231202T170000
DTSTAMP:20260423T112102
CREATED:20231017T172310Z
LAST-MODIFIED:20231031T183046Z
UID:240263-1701511200-1701536400@shinesedona.com
SUMMARY:Full Spectrum Energy Healing Session w/ Amyris
DESCRIPTION:
URL:https://shinesedona.com/event/energy-alignment-session-w-amyris-wilson-12-2/
CATEGORIES:Expand,Heal,Sessions
END:VEVENT
END:VCALENDAR