BEGIN:VCALENDAR
VERSION:2.0
PRODID:-//Shine Sanctuary Sedona - ECPv6.15.20//NONSGML v1.0//EN
CALSCALE:GREGORIAN
METHOD:PUBLISH
X-WR-CALNAME:Shine Sanctuary Sedona
X-ORIGINAL-URL:https://shinesedona.com
X-WR-CALDESC:Events for Shine Sanctuary Sedona
REFRESH-INTERVAL;VALUE=DURATION:PT1H
X-Robots-Tag:noindex
X-PUBLISHED-TTL:PT1H
BEGIN:VTIMEZONE
TZID:UTC
BEGIN:STANDARD
TZOFFSETFROM:+0000
TZOFFSETTO:+0000
TZNAME:UTC
DTSTART:20220101T000000
END:STANDARD
END:VTIMEZONE
BEGIN:VEVENT
DTSTART;TZID=UTC:20231207T100000
DTEND;TZID=UTC:20231207T153000
DTSTAMP:20260423T153210
CREATED:20231115T174707Z
LAST-MODIFIED:20231115T174717Z
UID:240468-1701943200-1701963000@shinesedona.com
SUMMARY:Intuitive Angel Reading w/ Amanda Shannon
DESCRIPTION:
URL:https://shinesedona.com/event/intuitive-angel-reading-w-amanda-shannon-127/
CATEGORIES:Expand,Heal,Learn
ATTACH;FMTTYPE=image/png:https://shinesedona.com/wp-content/uploads/2023/10/Screen-Shot-2023-10-02-at-11.21.48-AM.png
END:VEVENT
BEGIN:VEVENT
DTSTART;TZID=UTC:20231207T100000
DTEND;TZID=UTC:20231207T170000
DTSTAMP:20260423T153210
CREATED:20231119T214932Z
LAST-MODIFIED:20231119T214941Z
UID:240503-1701943200-1701968400@shinesedona.com
SUMMARY:Restorative Reiki Session w/ Barbie Maraviov
DESCRIPTION:
URL:https://shinesedona.com/event/restorative-reiki-session-w-barbie-maraviov-12-7/
CATEGORIES:Expand,Heal,Sessions
END:VEVENT
BEGIN:VEVENT
DTSTART;TZID=UTC:20231207T180000
DTEND;TZID=UTC:20231207T200000
DTSTAMP:20260423T153210
CREATED:20231121T195353Z
LAST-MODIFIED:20231121T195353Z
UID:240515-1701972000-1701979200@shinesedona.com
SUMMARY:Expanding into Love: Breath Journey w/ Live Vocals & Violin w/ Onyay Pheori
DESCRIPTION:
URL:https://shinesedona.com/event/expanding-into-love-breath-journey-w-live-vocals-violin-w-onyay-pheori/
CATEGORIES:Events,Expand,Heal
END:VEVENT
END:VCALENDAR