BEGIN:VCALENDAR
VERSION:2.0
PRODID:-//Shine Sanctuary Sedona - ECPv6.15.20//NONSGML v1.0//EN
CALSCALE:GREGORIAN
METHOD:PUBLISH
X-ORIGINAL-URL:https://shinesedona.com
X-WR-CALDESC:Events for Shine Sanctuary Sedona
REFRESH-INTERVAL;VALUE=DURATION:PT1H
X-Robots-Tag:noindex
X-PUBLISHED-TTL:PT1H
BEGIN:VTIMEZONE
TZID:UTC
BEGIN:STANDARD
TZOFFSETFROM:+0000
TZOFFSETTO:+0000
TZNAME:UTC
DTSTART:20230101T000000
END:STANDARD
END:VTIMEZONE
BEGIN:VEVENT
DTSTART;TZID=UTC:20240202T100000
DTEND;TZID=UTC:20240202T150000
DTSTAMP:20260423T084509
CREATED:20231208T200517Z
LAST-MODIFIED:20240129T194810Z
UID:240668-1706868000-1706886000@shinesedona.com
SUMMARY:Soul Reclamation Session w/ Laila Jaffe
DESCRIPTION:
URL:https://shinesedona.com/event/soul-reclamation-session-w-laila-jaffe-22/
CATEGORIES:Expand,Heal,Learn,Sessions
ATTACH;FMTTYPE=image/jpeg:https://shinesedona.com/wp-content/uploads/2023/12/Laila-new-square-image.jpg
END:VEVENT
BEGIN:VEVENT
DTSTART;TZID=UTC:20240202T110000
DTEND;TZID=UTC:20240202T170000
DTSTAMP:20260423T084509
CREATED:20231207T220420Z
LAST-MODIFIED:20231207T220428Z
UID:240628-1706871600-1706893200@shinesedona.com
SUMMARY:Soul Guidance Session w/ Steph Struthers
DESCRIPTION:
URL:https://shinesedona.com/event/soul-guidance-session-w-steph-struthers-22/
CATEGORIES:Expand,Heal,Learn
ATTACH;FMTTYPE=image/jpeg:https://shinesedona.com/wp-content/uploads/2023/08/Akashic-image-.jpg
END:VEVENT
BEGIN:VEVENT
DTSTART;TZID=UTC:20240202T173000
DTEND;TZID=UTC:20240202T200000
DTSTAMP:20260423T084509
CREATED:20240102T000133Z
LAST-MODIFIED:20240102T000133Z
UID:240861-1706895000-1706904000@shinesedona.com
SUMMARY:Shamangelic Breathwork Ceremony w/ Anahata Ananda
DESCRIPTION:
URL:https://shinesedona.com/event/shamangelic-breathwork-ceremony-w-anahata-ananda-3/
CATEGORIES:Events,Expand,Heal
ATTACH;FMTTYPE=image/jpeg:https://shinesedona.com/wp-content/uploads/2023/07/anahata-in-front-of-wings-w.-feather.jpg
END:VEVENT
END:VCALENDAR