BEGIN:VCALENDAR
VERSION:2.0
PRODID:-//Shine Sanctuary Sedona - ECPv6.15.20//NONSGML v1.0//EN
CALSCALE:GREGORIAN
METHOD:PUBLISH
X-ORIGINAL-URL:https://shinesedona.com
X-WR-CALDESC:Events for Shine Sanctuary Sedona
REFRESH-INTERVAL;VALUE=DURATION:PT1H
X-Robots-Tag:noindex
X-PUBLISHED-TTL:PT1H
BEGIN:VTIMEZONE
TZID:UTC
BEGIN:STANDARD
TZOFFSETFROM:+0000
TZOFFSETTO:+0000
TZNAME:UTC
DTSTART:20230101T000000
END:STANDARD
END:VTIMEZONE
BEGIN:VEVENT
DTSTART;TZID=UTC:20240421T100000
DTEND;TZID=UTC:20240421T170000
DTSTAMP:20260422T153001
CREATED:20240409T185101Z
LAST-MODIFIED:20240409T185111Z
UID:241328-1713693600-1713718800@shinesedona.com
SUMMARY:Angel Reiki Session w/ Amanda Shannon
DESCRIPTION:
URL:https://shinesedona.com/event/angel-reiki-session-w-amanda-shannon-421/
CATEGORIES:Expand,Heal,Sessions
ATTACH;FMTTYPE=image/jpeg:https://shinesedona.com/wp-content/uploads/2023/08/angelic-hands-1.jpg
END:VEVENT
BEGIN:VEVENT
DTSTART;TZID=UTC:20240421T100000
DTEND;TZID=UTC:20240421T170000
DTSTAMP:20260422T153001
CREATED:20240409T203952Z
LAST-MODIFIED:20240409T203959Z
UID:241341-1713693600-1713718800@shinesedona.com
SUMMARY:Soul Guidance Session w/ Steph Struthers
DESCRIPTION:
URL:https://shinesedona.com/event/soul-guidance-session-w-steph-struthers-421/
CATEGORIES:Expand,Heal,Learn
END:VEVENT
END:VCALENDAR