BEGIN:VCALENDAR
VERSION:2.0
PRODID:-//Shine Sanctuary Sedona - ECPv6.15.20//NONSGML v1.0//EN
CALSCALE:GREGORIAN
METHOD:PUBLISH
X-WR-CALNAME:Shine Sanctuary Sedona
X-ORIGINAL-URL:https://shinesedona.com
X-WR-CALDESC:Events for Shine Sanctuary Sedona
REFRESH-INTERVAL;VALUE=DURATION:PT1H
X-Robots-Tag:noindex
X-PUBLISHED-TTL:PT1H
BEGIN:VTIMEZONE
TZID:UTC
BEGIN:STANDARD
TZOFFSETFROM:+0000
TZOFFSETTO:+0000
TZNAME:UTC
DTSTART:20230101T000000
END:STANDARD
END:VTIMEZONE
BEGIN:VEVENT
DTSTART;TZID=UTC:20240712T090000
DTEND;TZID=UTC:20240729T190000
DTSTAMP:20260422T174341
CREATED:20240212T203342Z
LAST-MODIFIED:20240212T203342Z
UID:241116-1720774800-1722279600@shinesedona.com
SUMMARY:14-Day Shamangelic Healing Modalities & Breathwork Facilitator Training Immersion w/ Anahata
DESCRIPTION:
URL:https://shinesedona.com/event/14-day-shamangelic-healing-modalities-breathwork-facilitator-training-immersion-w-anahata/
CATEGORIES:Events,Expand,Learn,Trainings
ATTACH;FMTTYPE=image/jpeg:https://shinesedona.com/wp-content/uploads/2023/07/Anahata-in-front-of-wings-color-w-altar-.jpg
END:VEVENT
BEGIN:VEVENT
DTSTART;TZID=UTC:20240720T100000
DTEND;TZID=UTC:20240720T180000
DTSTAMP:20260422T174341
CREATED:20240611T180132Z
LAST-MODIFIED:20240611T180141Z
UID:241969-1721469600-1721498400@shinesedona.com
SUMMARY:Cellular Mind Body Reset Session
DESCRIPTION:
URL:https://shinesedona.com/event/cellular-mind-body-reset-session-720/
CATEGORIES:Expand,Heal,Sessions
ATTACH;FMTTYPE=image/jpeg:https://shinesedona.com/wp-content/uploads/2023/01/Cellular-Reset-square-image.jpg
END:VEVENT
BEGIN:VEVENT
DTSTART;TZID=UTC:20240720T100000
DTEND;TZID=UTC:20240720T180000
DTSTAMP:20260422T174341
CREATED:20240620T224326Z
LAST-MODIFIED:20240620T224337Z
UID:242164-1721469600-1721498400@shinesedona.com
SUMMARY:Cellular Mind Body Reset Session - 60 mins
DESCRIPTION:
URL:https://shinesedona.com/event/cellular-mind-body-reset-session-60-mins-7-20/
CATEGORIES:Expand,Heal,Sessions
ATTACH;FMTTYPE=image/jpeg:https://shinesedona.com/wp-content/uploads/2023/01/Cellular-Reset-square-image.jpg
END:VEVENT
BEGIN:VEVENT
DTSTART;TZID=UTC:20240720T100000
DTEND;TZID=UTC:20240720T180000
DTSTAMP:20260422T174341
CREATED:20240703T235814Z
LAST-MODIFIED:20240703T235825Z
UID:242307-1721469600-1721498400@shinesedona.com
SUMMARY:Intuitive Reading & Guidance Session w/ Earthshine
DESCRIPTION:
URL:https://shinesedona.com/event/intuitive-reading-guidance-session-w-earthshine-720/
CATEGORIES:Expand,Heal,Learn
ATTACH;FMTTYPE=image/jpeg:https://shinesedona.com/wp-content/uploads/2024/05/Earthshine-Abigail-bio-square.jpg
END:VEVENT
BEGIN:VEVENT
DTSTART;TZID=UTC:20240720T100000
DTEND;TZID=UTC:20240721T190000
DTSTAMP:20260422T174341
CREATED:20240611T184249Z
LAST-MODIFIED:20240611T184249Z
UID:241976-1721469600-1721588400@shinesedona.com
SUMMARY:Shine's 2-Year Anniversary Weekend
DESCRIPTION:
URL:https://shinesedona.com/event/shines-2-year-anniversary-weekend/
CATEGORIES:Events
ATTACH;FMTTYPE=image/png:https://shinesedona.com/wp-content/uploads/2022/02/new-shine-sedona-logo.png
END:VEVENT
BEGIN:VEVENT
DTSTART;TZID=UTC:20240720T180000
DTEND;TZID=UTC:20240720T193000
DTSTAMP:20260422T174341
CREATED:20240710T195010Z
LAST-MODIFIED:20240710T195023Z
UID:242356-1721498400-1721503800@shinesedona.com
SUMMARY:Sound Healing Ceremony w/ Devani Paige
DESCRIPTION:
URL:https://shinesedona.com/event/sound-healing-ceremony-w-devani-paige-july-20/
CATEGORIES:Events,Expand,Heal
ATTACH;FMTTYPE=image/jpeg:https://shinesedona.com/wp-content/uploads/2023/04/Devani-square-image-w-flutes-.jpg
END:VEVENT
END:VCALENDAR