BEGIN:VCALENDAR
VERSION:2.0
PRODID:-//Shine Sanctuary Sedona - ECPv6.15.20//NONSGML v1.0//EN
CALSCALE:GREGORIAN
METHOD:PUBLISH
X-ORIGINAL-URL:https://shinesedona.com
X-WR-CALDESC:Events for Shine Sanctuary Sedona
REFRESH-INTERVAL;VALUE=DURATION:PT1H
X-Robots-Tag:noindex
X-PUBLISHED-TTL:PT1H
BEGIN:VTIMEZONE
TZID:UTC
BEGIN:STANDARD
TZOFFSETFROM:+0000
TZOFFSETTO:+0000
TZNAME:UTC
DTSTART:20230101T000000
END:STANDARD
END:VTIMEZONE
BEGIN:VEVENT
DTSTART;TZID=UTC:20240925T100000
DTEND;TZID=UTC:20240925T170000
DTSTAMP:20260423T094809
CREATED:20240901T233219Z
LAST-MODIFIED:20240901T233230Z
UID:242645-1727258400-1727283600@shinesedona.com
SUMMARY:Cellular Mind Body Reset Session
DESCRIPTION:
URL:https://shinesedona.com/event/cellular-mind-body-reset-session-92524/
CATEGORIES:Expand,Heal,Sessions
ATTACH;FMTTYPE=image/jpeg:https://shinesedona.com/wp-content/uploads/2024/07/Cellular-Reset-square-image.jpg
END:VEVENT
BEGIN:VEVENT
DTSTART;TZID=UTC:20240925T190000
DTEND;TZID=UTC:20240925T213000
DTSTAMP:20260423T094809
CREATED:20240814T023001Z
LAST-MODIFIED:20240814T023016Z
UID:242445-1727290800-1727299800@shinesedona.com
SUMMARY:Akashic Records Reading w/ Athena Soultender
DESCRIPTION:
URL:https://shinesedona.com/event/akashic-records-reading-w-athena-soultender-925/
CATEGORIES:Expand,Heal,Learn
ATTACH;FMTTYPE=image/jpeg:https://shinesedona.com/wp-content/uploads/2024/05/Akashic-record-reading.jpg
END:VEVENT
BEGIN:VEVENT
DTSTART;TZID=UTC:20240925T190000
DTEND;TZID=UTC:20240925T213000
DTSTAMP:20260423T094809
CREATED:20240923T172933Z
LAST-MODIFIED:20240923T172944Z
UID:242953-1727290800-1727299800@shinesedona.com
SUMMARY:Intuitive Energy Alignment Session w/ Uma Bacso
DESCRIPTION:
URL:https://shinesedona.com/event/intuitive-energy-alignment-session-w-uma-bacso-925/
CATEGORIES:Expand,Heal,Sessions
END:VEVENT
END:VCALENDAR