BEGIN:VCALENDAR
VERSION:2.0
PRODID:-//Shine Sanctuary Sedona - ECPv6.15.20//NONSGML v1.0//EN
CALSCALE:GREGORIAN
METHOD:PUBLISH
X-WR-CALNAME:Shine Sanctuary Sedona
X-ORIGINAL-URL:https://shinesedona.com
X-WR-CALDESC:Events for Shine Sanctuary Sedona
REFRESH-INTERVAL;VALUE=DURATION:PT1H
X-Robots-Tag:noindex
X-PUBLISHED-TTL:PT1H
BEGIN:VTIMEZONE
TZID:UTC
BEGIN:STANDARD
TZOFFSETFROM:+0000
TZOFFSETTO:+0000
TZNAME:UTC
DTSTART:20230101T000000
END:STANDARD
END:VTIMEZONE
BEGIN:VEVENT
DTSTART;TZID=UTC:20240929T100000
DTEND;TZID=UTC:20240929T170000
DTSTAMP:20260423T153311
CREATED:20240612T183049Z
LAST-MODIFIED:20240612T183056Z
UID:242005-1727604000-1727629200@shinesedona.com
SUMMARY:Ancient Reiki Healing Session w/ Tara Renee
DESCRIPTION:
URL:https://shinesedona.com/event/ancient-reiki-healing-session-w-tara-renee-929/
CATEGORIES:Expand,Heal,Sessions
END:VEVENT
BEGIN:VEVENT
DTSTART;TZID=UTC:20240929T100000
DTEND;TZID=UTC:20240929T170000
DTSTAMP:20260423T153311
CREATED:20240920T195135Z
LAST-MODIFIED:20240920T195146Z
UID:242889-1727604000-1727629200@shinesedona.com
SUMMARY:Soul Path Revelation Session w/ Michelle Grant
DESCRIPTION:
URL:https://shinesedona.com/event/soul-path-revelation-session-w-michelle-grant-9-29/
CATEGORIES:Expand,Heal,Learn
ATTACH;FMTTYPE=image/jpeg:https://shinesedona.com/wp-content/uploads/2024/05/Akashic-record-reading.jpg
END:VEVENT
BEGIN:VEVENT
DTSTART;TZID=UTC:20240929T180000
DTEND;TZID=UTC:20240929T193000
DTSTAMP:20260423T153311
CREATED:20240610T204710Z
LAST-MODIFIED:20240726T193753Z
UID:241949-1727632800-1727638200@shinesedona.com
SUMMARY:Sound Healing Ceremony w/ Devani Paige
DESCRIPTION:
URL:https://shinesedona.com/event/sound-healing-ceremony-w-devani-paige-929/
CATEGORIES:Events,Expand,Heal
ATTACH;FMTTYPE=image/jpeg:https://shinesedona.com/wp-content/uploads/2023/04/Devani-square-image-w-flutes-.jpg
END:VEVENT
END:VCALENDAR