BEGIN:VCALENDAR
VERSION:2.0
PRODID:-//Shine Sanctuary Sedona - ECPv6.15.20//NONSGML v1.0//EN
CALSCALE:GREGORIAN
METHOD:PUBLISH
X-ORIGINAL-URL:https://shinesedona.com
X-WR-CALDESC:Events for Shine Sanctuary Sedona
REFRESH-INTERVAL;VALUE=DURATION:PT1H
X-Robots-Tag:noindex
X-PUBLISHED-TTL:PT1H
BEGIN:VTIMEZONE
TZID:UTC
BEGIN:STANDARD
TZOFFSETFROM:+0000
TZOFFSETTO:+0000
TZNAME:UTC
DTSTART:20230101T000000
END:STANDARD
END:VTIMEZONE
BEGIN:VEVENT
DTSTART;TZID=UTC:20241001T190000
DTEND;TZID=UTC:20241001T203000
DTSTAMP:20260423T112229
CREATED:20240914T184717Z
LAST-MODIFIED:20240918T003517Z
UID:242773-1727809200-1727814600@shinesedona.com
SUMMARY:Blue Lotus Sound Healing w/ Keeley Brand
DESCRIPTION:
URL:https://shinesedona.com/event/blue-lotus-sound-healing-w-keeley-brand/
LOCATION:Shine Sanctuary Sedona\, 162 Coffee Pot Drive Unit D\, Sedona\, AZ\, 86336\, United States
CATEGORIES:Events
END:VEVENT
END:VCALENDAR