BEGIN:VCALENDAR
VERSION:2.0
PRODID:-//Shine Sanctuary Sedona - ECPv6.15.20//NONSGML v1.0//EN
CALSCALE:GREGORIAN
METHOD:PUBLISH
X-WR-CALNAME:Shine Sanctuary Sedona
X-ORIGINAL-URL:https://shinesedona.com
X-WR-CALDESC:Events for Shine Sanctuary Sedona
REFRESH-INTERVAL;VALUE=DURATION:PT1H
X-Robots-Tag:noindex
X-PUBLISHED-TTL:PT1H
BEGIN:VTIMEZONE
TZID:UTC
BEGIN:STANDARD
TZOFFSETFROM:+0000
TZOFFSETTO:+0000
TZNAME:UTC
DTSTART:20230101T000000
END:STANDARD
END:VTIMEZONE
BEGIN:VEVENT
DTSTART;TZID=UTC:20241012T100000
DTEND;TZID=UTC:20241012T170000
DTSTAMP:20260423T095214
CREATED:20240920T200405Z
LAST-MODIFIED:20240920T200443Z
UID:242895-1728727200-1728752400@shinesedona.com
SUMMARY:Soul Path Revelations Session (Akashic Records) w/ Michelle Grant
DESCRIPTION:
URL:https://shinesedona.com/event/soul-path-revelations-session-akashic-records-w-michelle-grant-10-12/
CATEGORIES:Expand,Heal,Learn
ATTACH;FMTTYPE=image/jpeg:https://shinesedona.com/wp-content/uploads/2024/05/Akashic-record-reading.jpg
END:VEVENT
BEGIN:VEVENT
DTSTART;TZID=UTC:20241012T180000
DTEND;TZID=UTC:20241012T193000
DTSTAMP:20260423T095214
CREATED:20240929T205241Z
LAST-MODIFIED:20240929T205301Z
UID:243041-1728756000-1728761400@shinesedona.com
SUMMARY:Sacred Cacao Ceremony Led by Anahata Ananda
DESCRIPTION:
URL:https://shinesedona.com/event/sacred-cacao-gratitude-ceremony-led-by-anahata-ananda-10-12/
CATEGORIES:Events,Expand,Heal
ATTACH;FMTTYPE=image/jpeg:https://shinesedona.com/wp-content/uploads/2024/05/cacao-shine-heart-and-mug.jpg
END:VEVENT
END:VCALENDAR