BEGIN:VCALENDAR
VERSION:2.0
PRODID:-//Shine Sanctuary Sedona - ECPv6.15.20//NONSGML v1.0//EN
CALSCALE:GREGORIAN
METHOD:PUBLISH
X-ORIGINAL-URL:https://shinesedona.com
X-WR-CALDESC:Events for Shine Sanctuary Sedona
REFRESH-INTERVAL;VALUE=DURATION:PT1H
X-Robots-Tag:noindex
X-PUBLISHED-TTL:PT1H
BEGIN:VTIMEZONE
TZID:UTC
BEGIN:STANDARD
TZOFFSETFROM:+0000
TZOFFSETTO:+0000
TZNAME:UTC
DTSTART:20230101T000000
END:STANDARD
END:VTIMEZONE
BEGIN:VEVENT
DTSTART;TZID=UTC:20241109T100000
DTEND;TZID=UTC:20241109T170000
DTSTAMP:20260423T170332
CREATED:20241101T153957Z
LAST-MODIFIED:20241101T154007Z
UID:243281-1731146400-1731171600@shinesedona.com
SUMMARY:Intuitive Soul Session with Joy Gabriel
DESCRIPTION:
URL:https://shinesedona.com/event/intuitive-soul-session-with-joy-gabriel-119/
CATEGORIES:Expand,Heal,Learn
ATTACH;FMTTYPE=image/jpeg:https://shinesedona.com/wp-content/uploads/2024/09/Joy-Gabriel-Square-2-copy.jpeg
END:VEVENT
BEGIN:VEVENT
DTSTART;TZID=UTC:20241109T150000
DTEND;TZID=UTC:20241109T173000
DTSTAMP:20260423T170332
CREATED:20241023T221827Z
LAST-MODIFIED:20241023T221835Z
UID:243132-1731164400-1731173400@shinesedona.com
SUMMARY:Shamangelic Breathwork Ceremony w/ Anahata Ananda
DESCRIPTION:
URL:https://shinesedona.com/event/shamangelic-breathwork-ceremony-w-anahata-ananda-11-9/
CATEGORIES:Events,Expand,Heal
ATTACH;FMTTYPE=image/jpeg:https://shinesedona.com/wp-content/uploads/2024/04/breathwork-image-square-new.jpg
END:VEVENT
BEGIN:VEVENT
DTSTART;TZID=UTC:20241109T183000
DTEND;TZID=UTC:20241109T200000
DTSTAMP:20260423T170332
CREATED:20241023T215722Z
LAST-MODIFIED:20241023T215731Z
UID:243126-1731177000-1731182400@shinesedona.com
SUMMARY:Sound Healing Ceremony w/ Devani Paige
DESCRIPTION:
URL:https://shinesedona.com/event/sound-healing-ceremony-w-devani-paige-11-9/
CATEGORIES:Events,Expand,Heal
ATTACH;FMTTYPE=image/jpeg:https://shinesedona.com/wp-content/uploads/2023/04/Devani-square-image-w-flutes-.jpg
END:VEVENT
END:VCALENDAR