BEGIN:VCALENDAR
VERSION:2.0
PRODID:-//Shine Sanctuary Sedona - ECPv6.15.20//NONSGML v1.0//EN
CALSCALE:GREGORIAN
METHOD:PUBLISH
X-WR-CALNAME:Shine Sanctuary Sedona
X-ORIGINAL-URL:https://shinesedona.com
X-WR-CALDESC:Events for Shine Sanctuary Sedona
REFRESH-INTERVAL;VALUE=DURATION:PT1H
X-Robots-Tag:noindex
X-PUBLISHED-TTL:PT1H
BEGIN:VTIMEZONE
TZID:UTC
BEGIN:STANDARD
TZOFFSETFROM:+0000
TZOFFSETTO:+0000
TZNAME:UTC
DTSTART:20240101T000000
END:STANDARD
END:VTIMEZONE
BEGIN:VEVENT
DTSTART;TZID=UTC:20250126T100000
DTEND;TZID=UTC:20250126T143000
DTSTAMP:20260422T200243
CREATED:20241217T201724Z
LAST-MODIFIED:20241217T201739Z
UID:243933-1737885600-1737901800@shinesedona.com
SUMMARY:Intuitive Angel Reading w/ Amanda Shannon
DESCRIPTION:
URL:https://shinesedona.com/event/intuitive-angel-reading-w-amanda-shannon-12625/
CATEGORIES:Expand,Heal,Learn
END:VEVENT
BEGIN:VEVENT
DTSTART;TZID=UTC:20250126T100000
DTEND;TZID=UTC:20250126T170000
DTSTAMP:20260422T200243
CREATED:20241216T210119Z
LAST-MODIFIED:20241216T210126Z
UID:243905-1737885600-1737910800@shinesedona.com
SUMMARY:Energy Clearing & Chakra Balancing Session w/ Joy Gabriel
DESCRIPTION:
URL:https://shinesedona.com/event/energy-clearing-chakra-balancing-session-w-joy-gabriel-12625-2/
CATEGORIES:Expand,Heal,Sessions
ATTACH;FMTTYPE=image/jpeg:https://shinesedona.com/wp-content/uploads/2024/12/chakra-with-hands.jpg
END:VEVENT
END:VCALENDAR