BEGIN:VCALENDAR
VERSION:2.0
PRODID:-//Shine Sanctuary Sedona - ECPv6.15.20//NONSGML v1.0//EN
CALSCALE:GREGORIAN
METHOD:PUBLISH
X-WR-CALNAME:Shine Sanctuary Sedona
X-ORIGINAL-URL:https://shinesedona.com
X-WR-CALDESC:Events for Shine Sanctuary Sedona
REFRESH-INTERVAL;VALUE=DURATION:PT1H
X-Robots-Tag:noindex
X-PUBLISHED-TTL:PT1H
BEGIN:VTIMEZONE
TZID:UTC
BEGIN:STANDARD
TZOFFSETFROM:+0000
TZOFFSETTO:+0000
TZNAME:UTC
DTSTART:20240101T000000
END:STANDARD
END:VTIMEZONE
BEGIN:VEVENT
DTSTART;TZID=UTC:20251010T180000
DTEND;TZID=UTC:20251010T191500
DTSTAMP:20260424T093212
CREATED:20250907T085220Z
LAST-MODIFIED:20250907T085258Z
UID:245072-1760119200-1760123700@shinesedona.com
SUMMARY:Cosmic Gong Bath Experience w/ Issa Wilson
DESCRIPTION:
URL:https://shinesedona.com/event/cosmic-gong-bath-experience-w-issa-wilson-101025/
CATEGORIES:Events,Expand,Heal
ATTACH;FMTTYPE=image/jpeg:https://shinesedona.com/wp-content/uploads/2025/02/Issa-at-Shine.jpeg
END:VEVENT
END:VCALENDAR