BEGIN:VCALENDAR
VERSION:2.0
PRODID:-//Shine Sanctuary Sedona - ECPv6.15.20//NONSGML v1.0//EN
CALSCALE:GREGORIAN
METHOD:PUBLISH
X-ORIGINAL-URL:https://shinesedona.com
X-WR-CALDESC:Events for Shine Sanctuary Sedona
REFRESH-INTERVAL;VALUE=DURATION:PT1H
X-Robots-Tag:noindex
X-PUBLISHED-TTL:PT1H
BEGIN:VTIMEZONE
TZID:UTC
BEGIN:STANDARD
TZOFFSETFROM:+0000
TZOFFSETTO:+0000
TZNAME:UTC
DTSTART:20240101T000000
END:STANDARD
END:VTIMEZONE
BEGIN:VEVENT
DTSTART;TZID=UTC:20251016T110000
DTEND;TZID=UTC:20251016T170000
DTSTAMP:20260422T145647
CREATED:20250926T170248Z
LAST-MODIFIED:20250930T162013Z
UID:245124-1760612400-1760634000@shinesedona.com
SUMMARY:Sacred Qi Acupuncture Healing w/ Margarita Alcantara
DESCRIPTION:
URL:https://shinesedona.com/event/sacred-qi-acupuncture-healing-w-margarita-alcantara-1016/
CATEGORIES:Expand,Heal,Sessions
ATTACH;FMTTYPE=image/jpeg:https://shinesedona.com/wp-content/uploads/2025/04/Margarita-Alcantara-Acupuncture-Square.jpg
END:VEVENT
BEGIN:VEVENT
DTSTART;TZID=UTC:20251016T180000
DTEND;TZID=UTC:20251016T193000
DTSTAMP:20260422T145647
CREATED:20250724T012155Z
LAST-MODIFIED:20250724T012228Z
UID:244873-1760637600-1760643000@shinesedona.com
SUMMARY:Sacred Sound Journey w/ Cheryl Bailey
DESCRIPTION:
URL:https://shinesedona.com/event/sacred-sound-journey-w-cheryl-bailey-101625/
CATEGORIES:Events,Expand,Heal
ATTACH;FMTTYPE=image/jpeg:https://shinesedona.com/wp-content/uploads/2024/11/Cheryl-Bailey-new-bio-image.jpg
END:VEVENT
END:VCALENDAR