BEGIN:VCALENDAR
VERSION:2.0
PRODID:-//Shine Sanctuary Sedona - ECPv6.15.20//NONSGML v1.0//EN
CALSCALE:GREGORIAN
METHOD:PUBLISH
X-WR-CALNAME:Shine Sanctuary Sedona
X-ORIGINAL-URL:https://shinesedona.com
X-WR-CALDESC:Events for Shine Sanctuary Sedona
REFRESH-INTERVAL;VALUE=DURATION:PT1H
X-Robots-Tag:noindex
X-PUBLISHED-TTL:PT1H
BEGIN:VTIMEZONE
TZID:UTC
BEGIN:STANDARD
TZOFFSETFROM:+0000
TZOFFSETTO:+0000
TZNAME:UTC
DTSTART:20250101T000000
END:STANDARD
END:VTIMEZONE
BEGIN:VEVENT
DTSTART;TZID=UTC:20260401T183000
DTEND;TZID=UTC:20260401T203000
DTSTAMP:20260422T152946
CREATED:20260125T231643Z
LAST-MODIFIED:20260308T182342Z
UID:245572-1775068200-1775075400@shinesedona.com
SUMMARY:“Song of the Soul” Full Moon Transmission & Ceremony w/ Three Trees\, Greta Hough\, Ron Damico & Angela Jade
DESCRIPTION:
URL:https://shinesedona.com/event/song-of-the-soul-full-moon-transmission-ceremony-with-three-trees-greta-hough-ron-damico-and-angela-jade/
CATEGORIES:Events,Expand,Heal
ATTACH;FMTTYPE=image/jpeg:https://shinesedona.com/wp-content/uploads/2026/03/Song-of-the-Soul-April-1-in-Shine-palette-colors.jpg
END:VEVENT
END:VCALENDAR