BEGIN:VCALENDAR
VERSION:2.0
PRODID:-//Shine Sanctuary Sedona - ECPv6.15.20//NONSGML v1.0//EN
CALSCALE:GREGORIAN
METHOD:PUBLISH
X-WR-CALNAME:Shine Sanctuary Sedona
X-ORIGINAL-URL:https://shinesedona.com
X-WR-CALDESC:Events for Shine Sanctuary Sedona
REFRESH-INTERVAL;VALUE=DURATION:PT1H
X-Robots-Tag:noindex
X-PUBLISHED-TTL:PT1H
BEGIN:VTIMEZONE
TZID:UTC
BEGIN:STANDARD
TZOFFSETFROM:+0000
TZOFFSETTO:+0000
TZNAME:UTC
DTSTART:20250101T000000
END:STANDARD
END:VTIMEZONE
BEGIN:VEVENT
DTSTART;TZID=UTC:20260507T110000
DTEND;TZID=UTC:20260507T170000
DTSTAMP:20260422T091504
CREATED:20260407T194950Z
LAST-MODIFIED:20260407T194956Z
UID:245884-1778151600-1778173200@shinesedona.com
SUMMARY:Sacred Qi Acupuncture Healing w/ Margarita Alcantara
DESCRIPTION:
URL:https://shinesedona.com/event/sacred-qi-acupuncture-healing-w-margarita-alcantara-57/
CATEGORIES:Expand,Heal,Sessions
ATTACH;FMTTYPE=image/jpeg:https://shinesedona.com/wp-content/uploads/2026/03/Sacred-Qi-with-Margarita.jpg
END:VEVENT
BEGIN:VEVENT
DTSTART;TZID=UTC:20260507T180000
DTEND;TZID=UTC:20260507T193000
DTSTAMP:20260422T091504
CREATED:20260310T002314Z
LAST-MODIFIED:20260310T002322Z
UID:245776-1778176800-1778182200@shinesedona.com
SUMMARY:Sound Healing Ceremony w/ Devani Paige
DESCRIPTION:
URL:https://shinesedona.com/event/sound-healing-ceremony-w-devani-paige-57/
CATEGORIES:Events,Expand,Heal
ATTACH;FMTTYPE=image/jpeg:https://shinesedona.com/wp-content/uploads/2026/02/sound-healing-w-devani-new-image-.jpg
END:VEVENT
END:VCALENDAR