BEGIN:VCALENDAR
VERSION:2.0
PRODID:-//Shine Sanctuary Sedona - ECPv6.15.20//NONSGML v1.0//EN
CALSCALE:GREGORIAN
METHOD:PUBLISH
X-ORIGINAL-URL:https://shinesedona.com
X-WR-CALDESC:Events for Shine Sanctuary Sedona
REFRESH-INTERVAL;VALUE=DURATION:PT1H
X-Robots-Tag:noindex
X-PUBLISHED-TTL:PT1H
BEGIN:VTIMEZONE
TZID:UTC
BEGIN:STANDARD
TZOFFSETFROM:+0000
TZOFFSETTO:+0000
TZNAME:UTC
DTSTART:20250101T000000
END:STANDARD
END:VTIMEZONE
BEGIN:VEVENT
DTSTART;TZID=UTC:20260318T100000
DTEND;TZID=UTC:20260318T123000
DTSTAMP:20260421T135301
CREATED:20260219T173946Z
LAST-MODIFIED:20260309T202715Z
UID:245665-1773828000-1773837000@shinesedona.com
SUMMARY:Sedona Vortex Land Journey led by Anahata Ananda
DESCRIPTION:
URL:https://shinesedona.com/event/sedona-vortex-land-journey-led-by-anahata-ananda-318/
CATEGORIES:Events,Expand,Heal,Learn
ATTACH;FMTTYPE=image/jpeg:https://shinesedona.com/wp-content/uploads/2026/02/Sedona-vortex-Land-Journey.jpg
END:VEVENT
BEGIN:VEVENT
DTSTART;TZID=UTC:20260321T100000
DTEND;TZID=UTC:20260321T170000
DTSTAMP:20260421T135301
CREATED:20260302T190750Z
LAST-MODIFIED:20260302T190750Z
UID:245722-1774087200-1774112400@shinesedona.com
SUMMARY:Shine’s Signature Golden Aura Glow Facial Experience w/ Nichole Nash
DESCRIPTION:
URL:https://shinesedona.com/event/shines-signature-golden-aura-glow-facial-experience-w-nichole-nash/
CATEGORIES:Expand,Heal,Learn,Sessions
ATTACH;FMTTYPE=image/jpeg:https://shinesedona.com/wp-content/uploads/2026/02/Nichole-facial-golden-aura-final-1-1.jpg
END:VEVENT
BEGIN:VEVENT
DTSTART;TZID=UTC:20260325T103000
DTEND;TZID=UTC:20260325T173000
DTSTAMP:20260421T135301
CREATED:20260323T235112Z
LAST-MODIFIED:20260323T235119Z
UID:245844-1774434600-1774459800@shinesedona.com
SUMMARY:Shamangelic Healing Journey w/ Anahata Ananda
DESCRIPTION:
URL:https://shinesedona.com/event/shamangelic-healing-journey-w-anahata-ananda-32526/
CATEGORIES:Expand,Heal,Learn,Sessions
ATTACH;FMTTYPE=image/jpeg:https://shinesedona.com/wp-content/uploads/2026/03/Shamangelic-healing-journey-1-1-with-Anahata-.jpg
END:VEVENT
BEGIN:VEVENT
DTSTART;TZID=UTC:20260328T100000
DTEND;TZID=UTC:20260328T170000
DTSTAMP:20260421T135301
CREATED:20260219T221004Z
LAST-MODIFIED:20260219T221014Z
UID:245671-1774692000-1774717200@shinesedona.com
SUMMARY:Shamangelic Healing Journey with Anahata Ananda
DESCRIPTION:
URL:https://shinesedona.com/event/shamangelic-healing-journey-with-anahata-ananda-32826/
CATEGORIES:Expand,Heal,Learn,Sessions
ATTACH;FMTTYPE=image/jpeg:https://shinesedona.com/wp-content/uploads/2026/01/Anahata-new-bio-brown-hat.jpg
END:VEVENT
BEGIN:VEVENT
DTSTART;TZID=UTC:20260402T150000
DTEND;TZID=UTC:20260405T200000
DTSTAMP:20260421T135301
CREATED:20251105T213453Z
LAST-MODIFIED:20251106T230535Z
UID:245205-1775142000-1775419200@shinesedona.com
SUMMARY:Sound Bath Practitioner Training & Certification Immersion in Sedona ~ Spring 2026 w/ Bella Rivera
DESCRIPTION:
URL:https://shinesedona.com/event/sound-bath-practitioner-training-certification-immersion-in-sedona-spring-2026-w-bella-rivera/
CATEGORIES:Events,Expand,Heal,Learn,Trainings
ATTACH;FMTTYPE=image/jpeg:https://shinesedona.com/wp-content/uploads/2025/03/Bella-in-front-of-wings-playing.jpg
END:VEVENT
BEGIN:VEVENT
DTSTART;TZID=UTC:20260409T180000
DTEND;TZID=UTC:20260409T193000
DTSTAMP:20260421T135302
CREATED:20260302T202707Z
LAST-MODIFIED:20260302T202715Z
UID:245730-1775757600-1775763000@shinesedona.com
SUMMARY:Sacred Cacao Heart Opening Ceremony Led by Kassidy Ries
DESCRIPTION:
URL:https://shinesedona.com/event/sacred-cacao-heart-opening-ceremony-led-by-kassidy-ries-49/
CATEGORIES:Events,Expand,Heal,Learn
ATTACH;FMTTYPE=image/jpeg:https://shinesedona.com/wp-content/uploads/2026/03/Sacred-Cacao-with-Kassidy-Ries.jpg
END:VEVENT
BEGIN:VEVENT
DTSTART;TZID=UTC:20260411T100000
DTEND;TZID=UTC:20260411T170000
DTSTAMP:20260421T135302
CREATED:20260320T200757Z
LAST-MODIFIED:20260320T200805Z
UID:245842-1775901600-1775926800@shinesedona.com
SUMMARY:Shamangelic Healing Journey w/ Anahata Ananda
DESCRIPTION:
URL:https://shinesedona.com/event/shamangelic-healing-journey-w-anahata-ananda-41126/
CATEGORIES:Expand,Heal,Learn,Sessions
ATTACH;FMTTYPE=image/jpeg:https://shinesedona.com/wp-content/uploads/2026/03/Shamangelic-healing-journey-1-1-with-Anahata-.jpg
END:VEVENT
BEGIN:VEVENT
DTSTART;TZID=UTC:20260416T090000
DTEND;TZID=UTC:20260418T170000
DTSTAMP:20260421T135302
CREATED:20260226T213128Z
LAST-MODIFIED:20260226T213128Z
UID:245717-1776330000-1776531600@shinesedona.com
SUMMARY:A Dragon Connection Experience w/ Jill Stein
DESCRIPTION:
URL:https://shinesedona.com/event/a-dragon-connection-experience-w-jill-stein/
LOCATION:Shine Sanctuary Sedona\, 162 Coffee Pot Drive Unit D\, Sedona\, AZ\, 86336\, United States
CATEGORIES:Events,Expand,Learn
ATTACH;FMTTYPE=image/jpeg:https://shinesedona.com/wp-content/uploads/2026/02/dragon-retreat-.jpg
END:VEVENT
BEGIN:VEVENT
DTSTART;TZID=UTC:20260418T080000
DTEND;TZID=UTC:20260418T103000
DTSTAMP:20260421T135302
CREATED:20260320T195052Z
LAST-MODIFIED:20260320T195100Z
UID:245840-1776499200-1776508200@shinesedona.com
SUMMARY:Sedona Vortex Land Journey led by Anahata Ananda
DESCRIPTION:
URL:https://shinesedona.com/event/sedona-vortex-land-journey-led-by-anahata-ananda-418/
CATEGORIES:Events,Expand,Heal,Learn
ATTACH;FMTTYPE=image/jpeg:https://shinesedona.com/wp-content/uploads/2026/02/Sedona-vortex-Land-Journey.jpg
END:VEVENT
BEGIN:VEVENT
DTSTART;TZID=UTC:20260424T180000
DTEND;TZID=UTC:20260424T193000
DTSTAMP:20260421T135302
CREATED:20260302T203528Z
LAST-MODIFIED:20260302T203537Z
UID:245733-1777053600-1777059000@shinesedona.com
SUMMARY:Sacred Cacao Heart Opening Ceremony Led by Kassidy Ries
DESCRIPTION:
URL:https://shinesedona.com/event/sacred-cacao-heart-opening-ceremony-led-by-kassidy-ries-424/
CATEGORIES:Events,Expand,Learn
ATTACH;FMTTYPE=image/jpeg:https://shinesedona.com/wp-content/uploads/2026/03/Sacred-Cacao-with-Kassidy-Ries.jpg
END:VEVENT
BEGIN:VEVENT
DTSTART;TZID=UTC:20260425T100000
DTEND;TZID=UTC:20260425T170000
DTSTAMP:20260421T135302
CREATED:20260325T175441Z
LAST-MODIFIED:20260325T175452Z
UID:245845-1777111200-1777136400@shinesedona.com
SUMMARY:Deep Spiritual Healing & Activation w/ Susie Beiler
DESCRIPTION:
URL:https://shinesedona.com/event/deep-spiritual-healing-activation-w-susie-beiler-425/
CATEGORIES:Expand,Heal,Learn,Sessions
ATTACH;FMTTYPE=image/jpeg:https://shinesedona.com/wp-content/uploads/2026/03/Deep-SPiritual-Healing-and-Activation-with-Susie-Beiler.jpg
END:VEVENT
BEGIN:VEVENT
DTSTART;TZID=UTC:20260502T100000
DTEND;TZID=UTC:20260502T170000
DTSTAMP:20260421T135302
CREATED:20260326T210107Z
LAST-MODIFIED:20260326T210114Z
UID:245851-1777716000-1777741200@shinesedona.com
SUMMARY:Shine’s Signature Golden Aura Glow Facial Experience w/ Nichole Nash
DESCRIPTION:
URL:https://shinesedona.com/event/shines-signature-golden-aura-glow-facial-experience-w-nichole-nash-52/
CATEGORIES:Expand,Heal,Learn,Sessions
ATTACH;FMTTYPE=image/jpeg:https://shinesedona.com/wp-content/uploads/2026/02/Nichole-facial-golden-aura-final-1-1.jpg
END:VEVENT
BEGIN:VEVENT
DTSTART;TZID=UTC:20260523T180000
DTEND;TZID=UTC:20260523T193000
DTSTAMP:20260421T135302
CREATED:20260407T201037Z
LAST-MODIFIED:20260407T201046Z
UID:245890-1779559200-1779564600@shinesedona.com
SUMMARY:Sound Healing Journey w/ Viola Rose
DESCRIPTION:
URL:https://shinesedona.com/event/sound-healing-journey-w-viola-rose-523/
CATEGORIES:Events,Heal,Learn
ATTACH;FMTTYPE=image/jpeg:https://shinesedona.com/wp-content/uploads/2026/04/Viola-Rose-new-Square-2026.jpg
END:VEVENT
BEGIN:VEVENT
DTSTART;TZID=UTC:20260605T180000
DTEND;TZID=UTC:20260605T203000
DTSTAMP:20260421T135302
CREATED:20260418T005648Z
LAST-MODIFIED:20260418T005659Z
UID:245913-1780682400-1780691400@shinesedona.com
SUMMARY:Soul Journey Breathwork w/ Joy Gabriel
DESCRIPTION:
URL:https://shinesedona.com/event/soul-journey-breathwork-w-joy-gabriel-65/
CATEGORIES:Events,Expand,Heal,Learn
ATTACH;FMTTYPE=image/jpeg:https://shinesedona.com/wp-content/uploads/2026/04/Soul-Journey-Breathwork-with-Joy-Gabriel.jpg
END:VEVENT
BEGIN:VEVENT
DTSTART;TZID=UTC:20260710T090000
DTEND;TZID=UTC:20260727T190000
DTSTAMP:20260421T135302
CREATED:20251223T173215Z
LAST-MODIFIED:20251223T173215Z
UID:245464-1783674000-1785178800@shinesedona.com
SUMMARY:14-Day Shamangelic Breathwork Facilitator Training Immersion ~ Summer 2026 w/ Anahata Ananda
DESCRIPTION:
URL:https://shinesedona.com/event/14-day-shamangelic-breathwork-facilitator-training-immersion-summer-2026-w-anahata-ananda/
CATEGORIES:Events,Expand,Heal,Learn,Trainings
ATTACH;FMTTYPE=image/jpeg:https://shinesedona.com/wp-content/uploads/2024/06/Anahata-drum-new.jpg
END:VEVENT
BEGIN:VEVENT
DTSTART;TZID=UTC:20261105T150000
DTEND;TZID=UTC:20261108T200000
DTSTAMP:20260421T135302
CREATED:20260403T183042Z
LAST-MODIFIED:20260403T183042Z
UID:245875-1793890800-1794168000@shinesedona.com
SUMMARY:Sound Bath Practitioner Fall Training & Certification Immersion in Sedona w/ Bella Rivera
DESCRIPTION:
URL:https://shinesedona.com/event/sound-bath-practitioner-fall-training-certification-immersion-in-sedona-w-bella-rivera/
CATEGORIES:Events,Expand,Learn,Trainings
ATTACH;FMTTYPE=image/jpeg:https://shinesedona.com/wp-content/uploads/2025/03/bella-smiling-square-in-front-of-wings.jpg
END:VEVENT
END:VCALENDAR