BEGIN:VCALENDAR
VERSION:2.0
PRODID:-//Shine Sanctuary Sedona - ECPv6.15.20//NONSGML v1.0//EN
CALSCALE:GREGORIAN
METHOD:PUBLISH
X-WR-CALNAME:Shine Sanctuary Sedona
X-ORIGINAL-URL:https://shinesedona.com
X-WR-CALDESC:Events for Shine Sanctuary Sedona
REFRESH-INTERVAL;VALUE=DURATION:PT1H
X-Robots-Tag:noindex
X-PUBLISHED-TTL:PT1H
BEGIN:VTIMEZONE
TZID:UTC
BEGIN:STANDARD
TZOFFSETFROM:+0000
TZOFFSETTO:+0000
TZNAME:UTC
DTSTART:20240101T000000
END:STANDARD
END:VTIMEZONE
BEGIN:VEVENT
DTSTART;TZID=UTC:20250607T090000
DTEND;TZID=UTC:20250608T173000
DTSTAMP:20260422T003341
CREATED:20250117T000150Z
LAST-MODIFIED:20250510T000629Z
UID:244080-1749286800-1749403800@shinesedona.com
SUMMARY:Sisterhood Soul Spa Sedona Getaway w/ Anahata Ananda & Tiffany Greene
DESCRIPTION:
URL:https://shinesedona.com/event/sisterhood-soul-spa-sedona-getaway-w-anahata-ananda-tiffany-greene-june-2025/
CATEGORIES:Events,Expand,Heal,Learn,Retreats
ATTACH;FMTTYPE=image/jpeg:https://shinesedona.com/wp-content/uploads/2024/01/women-shine-outside-1.jpg
END:VEVENT
END:VCALENDAR