BEGIN:VCALENDAR
VERSION:2.0
PRODID:-//Shine Sanctuary Sedona - ECPv6.15.20//NONSGML v1.0//EN
CALSCALE:GREGORIAN
METHOD:PUBLISH
X-WR-CALNAME:Shine Sanctuary Sedona
X-ORIGINAL-URL:https://shinesedona.com
X-WR-CALDESC:Events for Shine Sanctuary Sedona
REFRESH-INTERVAL;VALUE=DURATION:PT1H
X-Robots-Tag:noindex
X-PUBLISHED-TTL:PT1H
BEGIN:VTIMEZONE
TZID:UTC
BEGIN:STANDARD
TZOFFSETFROM:+0000
TZOFFSETTO:+0000
TZNAME:UTC
DTSTART:20220101T000000
END:STANDARD
END:VTIMEZONE
BEGIN:VEVENT
DTSTART;TZID=UTC:20260206T160000
DTEND;TZID=UTC:20260208T130000
DTSTAMP:20260423T100021
CREATED:20250922T194131Z
LAST-MODIFIED:20250923T200755Z
UID:245095-1770393600-1770555600@shinesedona.com
SUMMARY:Embody the Goddess: Women’s Empowerment Retreat in Sedona w/ Tanjila & Anahata Ananda
DESCRIPTION:
URL:https://shinesedona.com/event/embody-the-goddess-womens-empowerment-retreat-in-sedona-w-tanjia-islam-anahata-ananda/
CATEGORIES:Events,Expand,Heal,Learn,Retreats
ATTACH;FMTTYPE=image/jpeg:https://shinesedona.com/wp-content/uploads/2024/01/women-shine-outside-1.jpg
END:VEVENT
BEGIN:VEVENT
DTSTART;TZID=UTC:20251205T180000
DTEND;TZID=UTC:20251207T103000
DTSTAMP:20260423T100021
CREATED:20250630T172518Z
LAST-MODIFIED:20251120T235014Z
UID:244807-1764957600-1765103400@shinesedona.com
SUMMARY:Ignite Your Soul ~ Sedona Wellness Immersion w/ DJ Taz Rashid\, Biana Mavasheva\, Ananda Das & Anahata Ananda
DESCRIPTION:
URL:https://shinesedona.com/event/ignite-your-fire-sedona-wellness-immersion-w-dj-taz-rashid-biana-mavasheva-anahata-ananda/
CATEGORIES:Events,Expand,Heal,Learn,Retreats
ATTACH;FMTTYPE=image/jpeg:https://shinesedona.com/wp-content/uploads/2025/06/DJ-taz.jpg
END:VEVENT
BEGIN:VEVENT
DTSTART;TZID=UTC:20250607T090000
DTEND;TZID=UTC:20250608T173000
DTSTAMP:20260423T100021
CREATED:20250117T000150Z
LAST-MODIFIED:20250510T000629Z
UID:244080-1749286800-1749403800@shinesedona.com
SUMMARY:Sisterhood Soul Spa Sedona Getaway w/ Anahata Ananda & Tiffany Greene
DESCRIPTION:
URL:https://shinesedona.com/event/sisterhood-soul-spa-sedona-getaway-w-anahata-ananda-tiffany-greene-june-2025/
CATEGORIES:Events,Expand,Heal,Learn,Retreats
ATTACH;FMTTYPE=image/jpeg:https://shinesedona.com/wp-content/uploads/2024/01/women-shine-outside-1.jpg
END:VEVENT
BEGIN:VEVENT
DTSTART;TZID=UTC:20250118T090000
DTEND;TZID=UTC:20250119T173000
DTSTAMP:20260423T100021
CREATED:20241101T005928Z
LAST-MODIFIED:20241104T000541Z
UID:243255-1737190800-1737307800@shinesedona.com
SUMMARY:Sisterhood Soul Spa Sedona Getaway w/ Anahata & Tiffany Greene
DESCRIPTION:
URL:https://shinesedona.com/event/sisterhood-soul-spa-sedona-weekend-getaway-w-anahata-tiffany-greene/
CATEGORIES:Events,Expand,Heal,Learn,Retreats
ATTACH;FMTTYPE=image/jpeg:https://shinesedona.com/wp-content/uploads/2024/01/women-shine-outside.jpg
END:VEVENT
BEGIN:VEVENT
DTSTART;TZID=UTC:20240411T160000
DTEND;TZID=UTC:20240414T120000
DTSTAMP:20260423T100021
CREATED:20240115T234104Z
LAST-MODIFIED:20240115T234130Z
UID:240938-1712851200-1713096000@shinesedona.com
SUMMARY:Goddess Awakening Retreat in Sedona w/ Anahata Ananda & Deborah Leader
DESCRIPTION:
URL:https://shinesedona.com/event/goddess-awakening-retreat-in-sedona-w-anahata-ananda-deborah-leader/
CATEGORIES:Events,Expand,Heal,Learn,Retreats
ATTACH;FMTTYPE=image/jpeg:https://shinesedona.com/wp-content/uploads/2023/07/Goddess-in-whites-hands-up-.jpg
END:VEVENT
BEGIN:VEVENT
DTSTART;TZID=UTC:20240113T090000
DTEND;TZID=UTC:20240115T120000
DTSTAMP:20260423T100021
CREATED:20230902T022646Z
LAST-MODIFIED:20230902T022656Z
UID:239966-1705136400-1705320000@shinesedona.com
SUMMARY:Love Yourself Sedona 2024 w/ Donnie Starkins
DESCRIPTION:
URL:https://shinesedona.com/event/love-yourself-sedona-2024-w-donnie-starkins/
CATEGORIES:Events,Retreats
END:VEVENT
BEGIN:VEVENT
DTSTART;TZID=UTC:20231006T090000
DTEND;TZID=UTC:20231007T210000
DTSTAMP:20260423T100021
CREATED:20230725T192108Z
LAST-MODIFIED:20230725T192108Z
UID:239656-1696582800-1696712400@shinesedona.com
SUMMARY:Goddess Awakening Retreat w/ Anahata Ananda
DESCRIPTION:
URL:https://shinesedona.com/event/goddess-awakening-retreat-w-anahata-ananda/
CATEGORIES:Events,Expand,Heal,Learn,Retreats
ATTACH;FMTTYPE=image/jpeg:https://shinesedona.com/wp-content/uploads/2023/07/Goddess-in-whites-hands-up-.jpg
END:VEVENT
BEGIN:VEVENT
DTSTART;TZID=UTC:20230916T180000
DTEND;TZID=UTC:20230916T203000
DTSTAMP:20260423T100021
CREATED:20230731T222641Z
LAST-MODIFIED:20230731T222703Z
UID:239709-1694887200-1694896200@shinesedona.com
SUMMARY:Shamangelic Breathwork Ceremony w/ Anahata Ananda
DESCRIPTION:
URL:https://shinesedona.com/event/shamangelic-breathwork-ceremony-w-anahata-ananda-sept-15/
CATEGORIES:Events,Expand,Heal,Retreats
ATTACH;FMTTYPE=image/jpeg:https://shinesedona.com/wp-content/uploads/2022/07/Main-Healing-journey-4.jpg
END:VEVENT
BEGIN:VEVENT
DTSTART;TZID=UTC:20230915T100000
DTEND;TZID=UTC:20230917T170000
DTSTAMP:20260423T100021
CREATED:20230731T223017Z
LAST-MODIFIED:20230731T223017Z
UID:239710-1694772000-1694970000@shinesedona.com
SUMMARY:Shine’s Wellness Weekend Immersion
DESCRIPTION:
URL:https://shinesedona.com/event/shines-wellness-weekend-immersion/
CATEGORIES:Events,Expand,Heal,Learn,Retreats
ATTACH;FMTTYPE=image/jpeg:https://shinesedona.com/wp-content/uploads/2022/06/abouttraining1.jpg
END:VEVENT
END:VCALENDAR