BEGIN:VCALENDAR
VERSION:2.0
PRODID:-//Shine Sanctuary Sedona - ECPv6.15.20//NONSGML v1.0//EN
CALSCALE:GREGORIAN
METHOD:PUBLISH
X-ORIGINAL-URL:https://shinesedona.com
X-WR-CALDESC:Events for Shine Sanctuary Sedona
REFRESH-INTERVAL;VALUE=DURATION:PT1H
X-Robots-Tag:noindex
X-PUBLISHED-TTL:PT1H
BEGIN:VTIMEZONE
TZID:UTC
BEGIN:STANDARD
TZOFFSETFROM:+0000
TZOFFSETTO:+0000
TZNAME:UTC
DTSTART:20230101T000000
END:STANDARD
END:VTIMEZONE
BEGIN:VEVENT
DTSTART;TZID=UTC:20240309T100000
DTEND;TZID=UTC:20240309T170000
DTSTAMP:20260422T153655
CREATED:20240303T192224Z
LAST-MODIFIED:20240303T192829Z
UID:241183-1709978400-1710003600@shinesedona.com
SUMMARY:Restorative Reiki Session w/ Barbie Maraviov
DESCRIPTION:
URL:https://shinesedona.com/event/restorative-reiki-session-w-barbie-maraviov-39/
CATEGORIES:Expand,Heal,Sessions
ATTACH;FMTTYPE=image/jpeg:https://shinesedona.com/wp-content/uploads/2023/06/heal-golden-hands-700-square-image.jpg
END:VEVENT
BEGIN:VEVENT
DTSTART;TZID=UTC:20240310T100000
DTEND;TZID=UTC:20240310T170000
DTSTAMP:20260422T153655
CREATED:20240303T192339Z
LAST-MODIFIED:20240303T192347Z
UID:241184-1710064800-1710090000@shinesedona.com
SUMMARY:Restorative Reiki Session w/ Barbie Maraviov
DESCRIPTION:
URL:https://shinesedona.com/event/restorative-reiki-session-w-barbie-maraviov-310/
CATEGORIES:Expand,Heal,Sessions
ATTACH;FMTTYPE=image/jpeg:https://shinesedona.com/wp-content/uploads/2023/06/heal-golden-hands-700-square-image.jpg
END:VEVENT
BEGIN:VEVENT
DTSTART;TZID=UTC:20240311T100000
DTEND;TZID=UTC:20240311T170000
DTSTAMP:20260422T153655
CREATED:20240119T005515Z
LAST-MODIFIED:20240119T005527Z
UID:241025-1710151200-1710176400@shinesedona.com
SUMMARY:Angel Reiki Session w/ Amanda Shannon
DESCRIPTION:
URL:https://shinesedona.com/event/angel-reiki-session-w-amanda-shannon-311/
CATEGORIES:Expand,Heal,Sessions
ATTACH;FMTTYPE=image/jpeg:https://shinesedona.com/wp-content/uploads/2023/08/angelic-hands-1.jpg
END:VEVENT
BEGIN:VEVENT
DTSTART;TZID=UTC:20240312T100000
DTEND;TZID=UTC:20240312T170000
DTSTAMP:20260422T153655
CREATED:20240119T005718Z
LAST-MODIFIED:20240119T155830Z
UID:241026-1710237600-1710262800@shinesedona.com
SUMMARY:Angel Reiki Session w/ Amanda Shannon
DESCRIPTION:
URL:https://shinesedona.com/event/angel-reiki-session-w-amanda-shannon-313/
CATEGORIES:Expand,Heal,Sessions
ATTACH;FMTTYPE=image/jpeg:https://shinesedona.com/wp-content/uploads/2023/08/angelic-hands-1.jpg
END:VEVENT
BEGIN:VEVENT
DTSTART;TZID=UTC:20240313T100000
DTEND;TZID=UTC:20240313T150000
DTSTAMP:20260422T153655
CREATED:20240119T172549Z
LAST-MODIFIED:20240119T172555Z
UID:241039-1710324000-1710342000@shinesedona.com
SUMMARY:Shamangelic Healing Journey w/ Anahata Ananda
DESCRIPTION:
URL:https://shinesedona.com/event/shamangelic-healing-journey-w-anahata-ananda-313/
CATEGORIES:Expand,Heal,Learn,Sessions
ATTACH;FMTTYPE=image/jpeg:https://shinesedona.com/wp-content/uploads/2022/09/Anahata-healing.jpg
END:VEVENT
BEGIN:VEVENT
DTSTART;TZID=UTC:20240314T100000
DTEND;TZID=UTC:20240314T170000
DTSTAMP:20260422T153655
CREATED:20240126T195816Z
LAST-MODIFIED:20240303T193218Z
UID:241063-1710410400-1710435600@shinesedona.com
SUMMARY:Restorative Reiki Session w/ Barbie Maraviov
DESCRIPTION:
URL:https://shinesedona.com/event/restorative-reiki-session-w-barbie-maraviov-314/
CATEGORIES:Expand,Heal,Sessions
ATTACH;FMTTYPE=image/jpeg:https://shinesedona.com/wp-content/uploads/2023/06/heal-golden-hands-700-square-image.jpg
END:VEVENT
BEGIN:VEVENT
DTSTART;TZID=UTC:20240315T100000
DTEND;TZID=UTC:20240315T170000
DTSTAMP:20260422T153655
CREATED:20240126T195959Z
LAST-MODIFIED:20240303T193302Z
UID:241064-1710496800-1710522000@shinesedona.com
SUMMARY:Restorative Reiki Session w/ Barbie Maraviov
DESCRIPTION:
URL:https://shinesedona.com/event/restorative-reiki-session-w-barbie-maraviov-315/
CATEGORIES:Expand,Heal,Sessions
ATTACH;FMTTYPE=image/jpeg:https://shinesedona.com/wp-content/uploads/2023/06/heal-golden-hands-700-square-image.jpg
END:VEVENT
BEGIN:VEVENT
DTSTART;TZID=UTC:20240316T100000
DTEND;TZID=UTC:20240316T170000
DTSTAMP:20260422T153655
CREATED:20240303T192456Z
LAST-MODIFIED:20240303T192505Z
UID:241185-1710583200-1710608400@shinesedona.com
SUMMARY:Restorative Reiki Session w/ Barbie Maraviov
DESCRIPTION:
URL:https://shinesedona.com/event/restorative-reiki-session-w-barbie-maraviov-316/
CATEGORIES:Expand,Heal,Sessions
ATTACH;FMTTYPE=image/jpeg:https://shinesedona.com/wp-content/uploads/2023/06/heal-golden-hands-700-square-image.jpg
END:VEVENT
BEGIN:VEVENT
DTSTART;TZID=UTC:20240317T100000
DTEND;TZID=UTC:20240317T170000
DTSTAMP:20260422T153655
CREATED:20240303T192613Z
LAST-MODIFIED:20240303T192620Z
UID:241186-1710669600-1710694800@shinesedona.com
SUMMARY:Restorative Reiki Session w/ Barbie Maraviov
DESCRIPTION:
URL:https://shinesedona.com/event/restorative-reiki-session-w-barbie-maraviov-317/
CATEGORIES:Expand,Heal,Sessions
ATTACH;FMTTYPE=image/jpeg:https://shinesedona.com/wp-content/uploads/2023/06/heal-golden-hands-700-square-image.jpg
END:VEVENT
END:VCALENDAR