BEGIN:VCALENDAR
VERSION:2.0
PRODID:-//Shine Sanctuary Sedona - ECPv6.15.20//NONSGML v1.0//EN
CALSCALE:GREGORIAN
METHOD:PUBLISH
X-WR-CALNAME:Shine Sanctuary Sedona
X-ORIGINAL-URL:https://shinesedona.com
X-WR-CALDESC:Events for Shine Sanctuary Sedona
REFRESH-INTERVAL;VALUE=DURATION:PT1H
X-Robots-Tag:noindex
X-PUBLISHED-TTL:PT1H
BEGIN:VTIMEZONE
TZID:UTC
BEGIN:STANDARD
TZOFFSETFROM:+0000
TZOFFSETTO:+0000
TZNAME:UTC
DTSTART:20240101T000000
END:STANDARD
END:VTIMEZONE
BEGIN:VEVENT
DTSTART;TZID=UTC:20250105T100000
DTEND;TZID=UTC:20250105T170000
DTSTAMP:20260422T145733
CREATED:20241216T205357Z
LAST-MODIFIED:20241216T205406Z
UID:243900-1736071200-1736096400@shinesedona.com
SUMMARY:Energy Clearing & Chakra Balancing Session w/ Joy Gabriel
DESCRIPTION:
URL:https://shinesedona.com/event/energy-clearing-chakra-balancing-session-w-joy-gabriel-1525/
CATEGORIES:Expand,Sessions
ATTACH;FMTTYPE=image/jpeg:https://shinesedona.com/wp-content/uploads/2024/12/chakra-with-hands.jpg
END:VEVENT
END:VCALENDAR