BEGIN:VCALENDAR
VERSION:2.0
PRODID:-//Shine Sanctuary Sedona - ECPv6.15.20//NONSGML v1.0//EN
CALSCALE:GREGORIAN
METHOD:PUBLISH
X-WR-CALNAME:Shine Sanctuary Sedona
X-ORIGINAL-URL:https://shinesedona.com
X-WR-CALDESC:Events for Shine Sanctuary Sedona
REFRESH-INTERVAL;VALUE=DURATION:PT1H
X-Robots-Tag:noindex
X-PUBLISHED-TTL:PT1H
BEGIN:VTIMEZONE
TZID:UTC
BEGIN:STANDARD
TZOFFSETFROM:+0000
TZOFFSETTO:+0000
TZNAME:UTC
DTSTART:20240101T000000
END:STANDARD
END:VTIMEZONE
BEGIN:VEVENT
DTSTART;TZID=UTC:20250117T100000
DTEND;TZID=UTC:20250117T170000
DTSTAMP:20260422T170018
CREATED:20241104T183741Z
LAST-MODIFIED:20241104T183751Z
UID:243310-1737108000-1737133200@shinesedona.com
SUMMARY:Energy Clearing & Chakra Balancing Session w/ Joy Gabriel
DESCRIPTION:
URL:https://shinesedona.com/event/energy-clearing-chakra-balancing-session-w-joy-gabriel-11725/
CATEGORIES:Expand,Heal,Sessions
ATTACH;FMTTYPE=image/png:https://shinesedona.com/wp-content/uploads/2024/09/Screenshot-2024-09-17-at-5.39.59 PM.png
END:VEVENT
END:VCALENDAR