BEGIN:VCALENDAR
VERSION:2.0
PRODID:-//Shine Sanctuary Sedona - ECPv6.15.20//NONSGML v1.0//EN
CALSCALE:GREGORIAN
METHOD:PUBLISH
X-WR-CALNAME:Shine Sanctuary Sedona
X-ORIGINAL-URL:https://shinesedona.com
X-WR-CALDESC:Events for Shine Sanctuary Sedona
REFRESH-INTERVAL;VALUE=DURATION:PT1H
X-Robots-Tag:noindex
X-PUBLISHED-TTL:PT1H
BEGIN:VTIMEZONE
TZID:UTC
BEGIN:STANDARD
TZOFFSETFROM:+0000
TZOFFSETTO:+0000
TZNAME:UTC
DTSTART:20240101T000000
END:STANDARD
END:VTIMEZONE
BEGIN:VEVENT
DTSTART;TZID=UTC:20250413T100000
DTEND;TZID=UTC:20250413T130000
DTSTAMP:20260420T173507
CREATED:20241206T011128Z
LAST-MODIFIED:20241206T011139Z
UID:243678-1744538400-1744549200@shinesedona.com
SUMMARY:Cellular Mind Body Reset Session
DESCRIPTION:
URL:https://shinesedona.com/event/cellular-mind-body-reset-session-41325/
CATEGORIES:Expand,Heal,Sessions
ATTACH;FMTTYPE=image/jpeg:https://shinesedona.com/wp-content/uploads/2024/09/Cellular-Reset-square-image.jpg
END:VEVENT
BEGIN:VEVENT
DTSTART;TZID=UTC:20250413T130000
DTEND;TZID=UTC:20250413T173000
DTSTAMP:20260420T173507
CREATED:20241212T171721Z
LAST-MODIFIED:20241212T171731Z
UID:243852-1744549200-1744565400@shinesedona.com
SUMMARY:Shamangelic Healing Journey w/ Anahata Ananda
DESCRIPTION:
URL:https://shinesedona.com/event/shamangelic-healing-journey-w-anahata-ananda-41325/
CATEGORIES:Expand,Heal,Sessions
ATTACH;FMTTYPE=image/jpeg:https://shinesedona.com/wp-content/uploads/2024/06/anahata-new-drum-at-sunset-.jpg
END:VEVENT
BEGIN:VEVENT
DTSTART;TZID=UTC:20250416T100000
DTEND;TZID=UTC:20250416T170000
DTSTAMP:20260420T173507
CREATED:20250404T031418Z
LAST-MODIFIED:20250404T031431Z
UID:244497-1744797600-1744822800@shinesedona.com
SUMMARY:Cellular Mind Body Reset Session
DESCRIPTION:
URL:https://shinesedona.com/event/cellular-mind-body-reset-session-41625/
CATEGORIES:Expand,Heal,Sessions
ATTACH;FMTTYPE=image/jpeg:https://shinesedona.com/wp-content/uploads/2024/09/Cellular-Reset-square-image.jpg
END:VEVENT
BEGIN:VEVENT
DTSTART;TZID=UTC:20250417T100000
DTEND;TZID=UTC:20250417T170000
DTSTAMP:20260420T173507
CREATED:20250220T203714Z
LAST-MODIFIED:20250220T203723Z
UID:244301-1744884000-1744909200@shinesedona.com
SUMMARY:Reiki Healing Session w/ Sandy Gassett
DESCRIPTION:
URL:https://shinesedona.com/event/reiki-healing-session-w-sandy-gassett-41725/
CATEGORIES:Expand,Heal,Sessions
ATTACH;FMTTYPE=image/jpeg:https://shinesedona.com/wp-content/uploads/2023/08/Sandy-in-healing-womb-square-image.jpg
END:VEVENT
BEGIN:VEVENT
DTSTART;TZID=UTC:20250418T100000
DTEND;TZID=UTC:20250418T170000
DTSTAMP:20260420T173507
CREATED:20250220T205953Z
LAST-MODIFIED:20250220T210003Z
UID:244304-1744970400-1744995600@shinesedona.com
SUMMARY:Angelic Reading & Reiki Session w/ Amanda Shannon
DESCRIPTION:
URL:https://shinesedona.com/event/angelic-reading-reiki-session-w-amanda-shannon-41825/
CATEGORIES:Expand,Heal,Sessions
ATTACH;FMTTYPE=image/jpeg:https://shinesedona.com/wp-content/uploads/2023/08/angelic-hands-1.jpg
END:VEVENT
BEGIN:VEVENT
DTSTART;TZID=UTC:20250419T100000
DTEND;TZID=UTC:20250419T170000
DTSTAMP:20260420T173507
CREATED:20250405T033947Z
LAST-MODIFIED:20250405T033958Z
UID:244522-1745056800-1745082000@shinesedona.com
SUMMARY:Shamanic Healing Journey & Intuitive Guidance Session w/ Abigail Earthshine
DESCRIPTION:
URL:https://shinesedona.com/event/shamanic-healing-journey-intuitive-guidance-session-w-abigail-earthshine-419/
CATEGORIES:Expand,Heal,Sessions
ATTACH;FMTTYPE=image/jpeg:https://shinesedona.com/wp-content/uploads/2024/08/Abigail-square-image-1-1-scaled.jpg
END:VEVENT
BEGIN:VEVENT
DTSTART;TZID=UTC:20250420T100000
DTEND;TZID=UTC:20250420T170000
DTSTAMP:20260420T173507
CREATED:20250221T180233Z
LAST-MODIFIED:20250221T180244Z
UID:244311-1745143200-1745168400@shinesedona.com
SUMMARY:Restorative Reiki Session w/ Barbie Maraviov
DESCRIPTION:
URL:https://shinesedona.com/event/restorative-reiki-session-w-barbie-maraviov-42025/
CATEGORIES:Expand,Heal,Sessions
ATTACH;FMTTYPE=image/jpeg:https://shinesedona.com/wp-content/uploads/2024/06/Reiki-image.jpg
END:VEVENT
BEGIN:VEVENT
DTSTART;TZID=UTC:20250423T100000
DTEND;TZID=UTC:20250423T170000
DTSTAMP:20260420T173507
CREATED:20250404T031550Z
LAST-MODIFIED:20250404T031601Z
UID:244498-1745402400-1745427600@shinesedona.com
SUMMARY:Cellular Mind Body Reset Session
DESCRIPTION:
URL:https://shinesedona.com/event/cellular-mind-body-reset-session-42325/
CATEGORIES:Expand,Heal,Sessions
ATTACH;FMTTYPE=image/jpeg:https://shinesedona.com/wp-content/uploads/2024/09/Cellular-Reset-square-image.jpg
END:VEVENT
BEGIN:VEVENT
DTSTART;TZID=UTC:20250424T100000
DTEND;TZID=UTC:20250424T170000
DTSTAMP:20260420T173507
CREATED:20250220T203836Z
LAST-MODIFIED:20250220T203913Z
UID:244302-1745488800-1745514000@shinesedona.com
SUMMARY:Reiki Healing Session w/ Sandy Gassett
DESCRIPTION:
URL:https://shinesedona.com/event/reiki-healing-session-w-sandy-gassett-42425/
CATEGORIES:Expand,Heal,Sessions
ATTACH;FMTTYPE=image/jpeg:https://shinesedona.com/wp-content/uploads/2023/08/Sandy-in-healing-womb-square-image.jpg
END:VEVENT
BEGIN:VEVENT
DTSTART;TZID=UTC:20250425T100000
DTEND;TZID=UTC:20250425T170000
DTSTAMP:20260420T173507
CREATED:20250220T210116Z
LAST-MODIFIED:20250220T210124Z
UID:244305-1745575200-1745600400@shinesedona.com
SUMMARY:Angelic Reading & Reiki Session w/ Amanda Shannon
DESCRIPTION:
URL:https://shinesedona.com/event/angelic-reading-reiki-session-w-amanda-shannon-42525/
CATEGORIES:Expand,Heal,Sessions
ATTACH;FMTTYPE=image/jpeg:https://shinesedona.com/wp-content/uploads/2023/08/angelic-hands-1.jpg
END:VEVENT
BEGIN:VEVENT
DTSTART;TZID=UTC:20250426T100000
DTEND;TZID=UTC:20250426T170000
DTSTAMP:20260420T173507
CREATED:20250405T034127Z
LAST-MODIFIED:20250405T034143Z
UID:244523-1745661600-1745686800@shinesedona.com
SUMMARY:Shamanic Healing Journey & Intuitive Guidance Session w/ Abigail Earthshine
DESCRIPTION:
URL:https://shinesedona.com/event/shamanic-healing-journey-intuitive-guidance-session-w-abigail-earthshine-426/
CATEGORIES:Expand,Heal,Sessions
ATTACH;FMTTYPE=image/jpeg:https://shinesedona.com/wp-content/uploads/2024/08/Abigail-square-image-1-1-scaled.jpg
END:VEVENT
BEGIN:VEVENT
DTSTART;TZID=UTC:20250427T100000
DTEND;TZID=UTC:20250427T170000
DTSTAMP:20260420T173507
CREATED:20250221T180402Z
LAST-MODIFIED:20250221T180413Z
UID:244312-1745748000-1745773200@shinesedona.com
SUMMARY:Restorative Reiki Session w/ Barbie Maraviov
DESCRIPTION:
URL:https://shinesedona.com/event/restorative-reiki-session-w-barbie-maraviov-42725/
CATEGORIES:Expand,Heal,Sessions
ATTACH;FMTTYPE=image/jpeg:https://shinesedona.com/wp-content/uploads/2024/06/Reiki-image.jpg
END:VEVENT
BEGIN:VEVENT
DTSTART;TZID=UTC:20250428T100000
DTEND;TZID=UTC:20250428T170000
DTSTAMP:20260420T173507
CREATED:20250411T002233Z
LAST-MODIFIED:20250411T002325Z
UID:244566-1745834400-1745859600@shinesedona.com
SUMMARY:Cellular Mind Body Reset Session
DESCRIPTION:
URL:https://shinesedona.com/event/cellular-mind-body-reset-session-428/
CATEGORIES:Expand,Heal,Sessions
ATTACH;FMTTYPE=image/jpeg:https://shinesedona.com/wp-content/uploads/2024/09/Cellular-Reset-square-image.jpg
END:VEVENT
BEGIN:VEVENT
DTSTART;TZID=UTC:20250430T100000
DTEND;TZID=UTC:20250430T170000
DTSTAMP:20260420T173507
CREATED:20250404T031714Z
LAST-MODIFIED:20250404T031726Z
UID:244499-1746007200-1746032400@shinesedona.com
SUMMARY:Cellular Mind Body Reset Session
DESCRIPTION:
URL:https://shinesedona.com/event/cellular-mind-body-reset-session-43025/
CATEGORIES:Expand,Heal,Sessions
ATTACH;FMTTYPE=image/jpeg:https://shinesedona.com/wp-content/uploads/2024/09/Cellular-Reset-square-image.jpg
END:VEVENT
BEGIN:VEVENT
DTSTART;TZID=UTC:20250501T110000
DTEND;TZID=UTC:20250501T170000
DTSTAMP:20260420T173507
CREATED:20250410T191225Z
LAST-MODIFIED:20250410T191241Z
UID:244545-1746097200-1746118800@shinesedona.com
SUMMARY:Sacred Qi Acupuncture Healing w/ Margarita Alcantara
DESCRIPTION:
URL:https://shinesedona.com/event/sacred-qi-acupuncture-healing-w-margarita-alcantara-5125/
CATEGORIES:Expand,Heal,Sessions
ATTACH;FMTTYPE=image/jpeg:https://shinesedona.com/wp-content/uploads/2025/04/Margarita-Alcantara-Acupuncture-Square.jpg
END:VEVENT
BEGIN:VEVENT
DTSTART;TZID=UTC:20250502T100000
DTEND;TZID=UTC:20250502T170000
DTSTAMP:20260420T173507
CREATED:20250220T210251Z
LAST-MODIFIED:20250220T210301Z
UID:244306-1746180000-1746205200@shinesedona.com
SUMMARY:Angelic Reading & Reiki Session w/ Amanda Shannon
DESCRIPTION:
URL:https://shinesedona.com/event/angelic-reading-reiki-session-w-amanda-shannon-5225/
CATEGORIES:Expand,Heal,Sessions
ATTACH;FMTTYPE=image/jpeg:https://shinesedona.com/wp-content/uploads/2023/08/angelic-hands-1.jpg
END:VEVENT
BEGIN:VEVENT
DTSTART;TZID=UTC:20250503T100000
DTEND;TZID=UTC:20250503T153000
DTSTAMP:20260420T173507
CREATED:20250404T025436Z
LAST-MODIFIED:20250404T034011Z
UID:244492-1746266400-1746286200@shinesedona.com
SUMMARY:Angelic Reading & Reiki Session w/ Amanda Shannon
DESCRIPTION:
URL:https://shinesedona.com/event/angelic-reading-reiki-session-w-amanda-shannon-5325/
CATEGORIES:Expand,Heal,Sessions
ATTACH;FMTTYPE=image/jpeg:https://shinesedona.com/wp-content/uploads/2023/08/angelic-hands-1.jpg
END:VEVENT
BEGIN:VEVENT
DTSTART;TZID=UTC:20250504T100000
DTEND;TZID=UTC:20250504T170000
DTSTAMP:20260420T173507
CREATED:20250404T032917Z
LAST-MODIFIED:20250404T032932Z
UID:244502-1746352800-1746378000@shinesedona.com
SUMMARY:Restorative Reiki Session w/ Barbie Maraviov
DESCRIPTION:
URL:https://shinesedona.com/event/restorative-reiki-session-w-barbie-maraviov-5425/
CATEGORIES:Expand,Heal,Sessions
ATTACH;FMTTYPE=image/jpeg:https://shinesedona.com/wp-content/uploads/2024/06/Reiki-image.jpg
END:VEVENT
BEGIN:VEVENT
DTSTART;TZID=UTC:20250505T100000
DTEND;TZID=UTC:20250505T143000
DTSTAMP:20260420T173507
CREATED:20250410T193712Z
LAST-MODIFIED:20250410T193728Z
UID:244552-1746439200-1746455400@shinesedona.com
SUMMARY:Angelic Reading & Reiki Session w/ Amanda Shannon
DESCRIPTION:
URL:https://shinesedona.com/event/angelic-reading-reiki-session-w-amanda-shannon-5-5/
CATEGORIES:Expand,Heal,Sessions
ATTACH;FMTTYPE=image/jpeg:https://shinesedona.com/wp-content/uploads/2023/08/angelic-hands-1.jpg
END:VEVENT
BEGIN:VEVENT
DTSTART;TZID=UTC:20250507T100000
DTEND;TZID=UTC:20250507T170000
DTSTAMP:20260420T173507
CREATED:20250410T222336Z
LAST-MODIFIED:20250410T222352Z
UID:244562-1746612000-1746637200@shinesedona.com
SUMMARY:Cellular Mind Body Reset Session
DESCRIPTION:
URL:https://shinesedona.com/event/cellular-mind-body-reset-session-57/
CATEGORIES:Expand,Heal,Sessions
ATTACH;FMTTYPE=image/jpeg:https://shinesedona.com/wp-content/uploads/2024/09/Cellular-Reset-square-image.jpg
END:VEVENT
BEGIN:VEVENT
DTSTART;TZID=UTC:20250508T110000
DTEND;TZID=UTC:20250508T170000
DTSTAMP:20260420T173507
CREATED:20250410T191526Z
LAST-MODIFIED:20250410T191540Z
UID:244546-1746702000-1746723600@shinesedona.com
SUMMARY:Sacred Qi Acupuncture Healing w/ Margarita Alcantara
DESCRIPTION:
URL:https://shinesedona.com/event/sacred-qi-acupuncture-healing-w-margarita-alcantara-5825/
CATEGORIES:Expand,Heal,Sessions
ATTACH;FMTTYPE=image/jpeg:https://shinesedona.com/wp-content/uploads/2025/04/Margarita-Alcantara-Acupuncture-Square.jpg
END:VEVENT
BEGIN:VEVENT
DTSTART;TZID=UTC:20250509T100000
DTEND;TZID=UTC:20250509T170000
DTSTAMP:20260420T173507
CREATED:20250404T030306Z
LAST-MODIFIED:20250404T035455Z
UID:244494-1746784800-1746810000@shinesedona.com
SUMMARY:Angelic Reading & Reiki Session w/ Amanda Shannon
DESCRIPTION:
URL:https://shinesedona.com/event/angelic-reading-reiki-session-w-amanda-shannon-5925/
CATEGORIES:Expand,Heal,Sessions
ATTACH;FMTTYPE=image/jpeg:https://shinesedona.com/wp-content/uploads/2023/08/angelic-hands-1.jpg
END:VEVENT
BEGIN:VEVENT
DTSTART;TZID=UTC:20250510T100000
DTEND;TZID=UTC:20250510T170000
DTSTAMP:20260420T173507
CREATED:20250404T030447Z
LAST-MODIFIED:20250404T030502Z
UID:244495-1746871200-1746896400@shinesedona.com
SUMMARY:Angelic Reading & Reiki Session w/ Amanda Shannon
DESCRIPTION:
URL:https://shinesedona.com/event/angelic-reading-reiki-session-w-amanda-shannon-51025/
CATEGORIES:Expand,Heal,Sessions
ATTACH;FMTTYPE=image/jpeg:https://shinesedona.com/wp-content/uploads/2023/08/angelic-hands-1.jpg
END:VEVENT
BEGIN:VEVENT
DTSTART;TZID=UTC:20250511T100000
DTEND;TZID=UTC:20250511T143000
DTSTAMP:20260420T173507
CREATED:20250505T235206Z
LAST-MODIFIED:20250505T235222Z
UID:244600-1746957600-1746973800@shinesedona.com
SUMMARY:Angelic Reading & Reiki Session w/ Amanda Shannon
DESCRIPTION:
URL:https://shinesedona.com/event/angelic-reading-reiki-session-w-amanda-shannon-511/
CATEGORIES:Expand,Heal,Sessions
ATTACH;FMTTYPE=image/jpeg:https://shinesedona.com/wp-content/uploads/2025/04/angelic-hands.jpg
END:VEVENT
BEGIN:VEVENT
DTSTART;TZID=UTC:20250512T100000
DTEND;TZID=UTC:20250512T143000
DTSTAMP:20260420T173507
CREATED:20250410T193926Z
LAST-MODIFIED:20250410T193959Z
UID:244553-1747044000-1747060200@shinesedona.com
SUMMARY:Angelic Reading & Reiki Session w/ Amanda Shannon
DESCRIPTION:
URL:https://shinesedona.com/event/angelic-reading-reiki-session-w-amanda-shannon-5-12/
CATEGORIES:Expand,Heal,Sessions
ATTACH;FMTTYPE=image/jpeg:https://shinesedona.com/wp-content/uploads/2025/04/angelic-hands.jpg
END:VEVENT
BEGIN:VEVENT
DTSTART;TZID=UTC:20250514T100000
DTEND;TZID=UTC:20250514T170000
DTSTAMP:20260420T173507
CREATED:20250411T001505Z
LAST-MODIFIED:20250411T001520Z
UID:244563-1747216800-1747242000@shinesedona.com
SUMMARY:Cellular Mind Body Reset Session
DESCRIPTION:
URL:https://shinesedona.com/event/cellular-mind-body-reset-session-514/
CATEGORIES:Expand,Heal,Sessions
ATTACH;FMTTYPE=image/jpeg:https://shinesedona.com/wp-content/uploads/2024/09/Cellular-Reset-square-image.jpg
END:VEVENT
BEGIN:VEVENT
DTSTART;TZID=UTC:20250515T110000
DTEND;TZID=UTC:20250515T170000
DTSTAMP:20260420T173507
CREATED:20250410T191648Z
LAST-MODIFIED:20250410T191702Z
UID:244547-1747306800-1747328400@shinesedona.com
SUMMARY:Sacred Qi Acupuncture Healing w/ Margarita Alcantara
DESCRIPTION:
URL:https://shinesedona.com/event/sacred-qi-acupuncture-healing-w-margarita-alcantara-515/
CATEGORIES:Expand,Heal,Sessions
ATTACH;FMTTYPE=image/jpeg:https://shinesedona.com/wp-content/uploads/2025/04/Margarita-Alcantara-Acupuncture-Square.jpg
END:VEVENT
BEGIN:VEVENT
DTSTART;TZID=UTC:20250516T100000
DTEND;TZID=UTC:20250516T170000
DTSTAMP:20260420T173507
CREATED:20250410T194128Z
LAST-MODIFIED:20250410T194141Z
UID:244555-1747389600-1747414800@shinesedona.com
SUMMARY:Angelic Reading & Reiki Session w/ Amanda Shannon
DESCRIPTION:
URL:https://shinesedona.com/event/angelic-reading-reiki-session-w-amanda-shannon-516/
CATEGORIES:Expand,Heal,Sessions
ATTACH;FMTTYPE=image/jpeg:https://shinesedona.com/wp-content/uploads/2025/04/angelic-hands.jpg
END:VEVENT
BEGIN:VEVENT
DTSTART;TZID=UTC:20250517T100000
DTEND;TZID=UTC:20250517T153000
DTSTAMP:20260420T173507
CREATED:20250410T194326Z
LAST-MODIFIED:20250410T194342Z
UID:244556-1747476000-1747495800@shinesedona.com
SUMMARY:Angelic Reading & Reiki Session w/ Amanda Shannon
DESCRIPTION:
URL:https://shinesedona.com/event/angelic-reading-reiki-session-w-amanda-shannon-517/
CATEGORIES:Expand,Heal,Sessions
ATTACH;FMTTYPE=image/jpeg:https://shinesedona.com/wp-content/uploads/2025/04/angelic-hands.jpg
END:VEVENT
BEGIN:VEVENT
DTSTART;TZID=UTC:20250518T100000
DTEND;TZID=UTC:20250518T170000
DTSTAMP:20260420T173507
CREATED:20250404T033456Z
LAST-MODIFIED:20250404T033509Z
UID:244504-1747562400-1747587600@shinesedona.com
SUMMARY:Restorative Reiki Session w/ Barbie Maraviov
DESCRIPTION:
URL:https://shinesedona.com/event/restorative-reiki-session-w-barbie-maraviov-51825/
CATEGORIES:Expand,Heal,Sessions
ATTACH;FMTTYPE=image/jpeg:https://shinesedona.com/wp-content/uploads/2024/06/Reiki-image.jpg
END:VEVENT
END:VCALENDAR