BEGIN:VCALENDAR
VERSION:2.0
PRODID:-//Shine Sanctuary Sedona - ECPv6.15.20//NONSGML v1.0//EN
CALSCALE:GREGORIAN
METHOD:PUBLISH
X-WR-CALNAME:Shine Sanctuary Sedona
X-ORIGINAL-URL:https://shinesedona.com
X-WR-CALDESC:Events for Shine Sanctuary Sedona
REFRESH-INTERVAL;VALUE=DURATION:PT1H
X-Robots-Tag:noindex
X-PUBLISHED-TTL:PT1H
BEGIN:VTIMEZONE
TZID:UTC
BEGIN:STANDARD
TZOFFSETFROM:+0000
TZOFFSETTO:+0000
TZNAME:UTC
DTSTART:20240101T000000
END:STANDARD
END:VTIMEZONE
BEGIN:VEVENT
DTSTART;TZID=UTC:20250510T100000
DTEND;TZID=UTC:20250510T170000
DTSTAMP:20260424T093908
CREATED:20250404T030447Z
LAST-MODIFIED:20250404T030502Z
UID:244495-1746871200-1746896400@shinesedona.com
SUMMARY:Angelic Reading & Reiki Session w/ Amanda Shannon
DESCRIPTION:
URL:https://shinesedona.com/event/angelic-reading-reiki-session-w-amanda-shannon-51025/
CATEGORIES:Expand,Heal,Sessions
ATTACH;FMTTYPE=image/jpeg:https://shinesedona.com/wp-content/uploads/2023/08/angelic-hands-1.jpg
END:VEVENT
BEGIN:VEVENT
DTSTART;TZID=UTC:20250510T180000
DTEND;TZID=UTC:20250510T193000
DTSTAMP:20260424T093908
CREATED:20250428T214902Z
LAST-MODIFIED:20250428T214917Z
UID:244581-1746900000-1746905400@shinesedona.com
SUMMARY:Sound Healing Ceremony w/ Keeley Brand
DESCRIPTION:
URL:https://shinesedona.com/event/sound-healing-ceremony-w-keeley-brand-510/
CATEGORIES:Events,Expand,Heal
ATTACH;FMTTYPE=image/jpeg:https://shinesedona.com/wp-content/uploads/2025/04/Keeley-NEW-.jpg
END:VEVENT
BEGIN:VEVENT
DTSTART;TZID=UTC:20250511T100000
DTEND;TZID=UTC:20250511T143000
DTSTAMP:20260424T093908
CREATED:20250505T235206Z
LAST-MODIFIED:20250505T235222Z
UID:244600-1746957600-1746973800@shinesedona.com
SUMMARY:Angelic Reading & Reiki Session w/ Amanda Shannon
DESCRIPTION:
URL:https://shinesedona.com/event/angelic-reading-reiki-session-w-amanda-shannon-511/
CATEGORIES:Expand,Heal,Sessions
ATTACH;FMTTYPE=image/jpeg:https://shinesedona.com/wp-content/uploads/2025/04/angelic-hands.jpg
END:VEVENT
BEGIN:VEVENT
DTSTART;TZID=UTC:20250511T140000
DTEND;TZID=UTC:20250511T153000
DTSTAMP:20260424T093908
CREATED:20250305T172619Z
LAST-MODIFIED:20250305T172619Z
UID:244342-1746972000-1746977400@shinesedona.com
SUMMARY:Mother’s Day Organic Group Facial Experience featuring AnaStarr Sacred Skin Products led by Anahata
DESCRIPTION:
URL:https://shinesedona.com/event/mothers-day-organic-group-facial-experience-featuring-anastarr-sacred-skin-products-led-by-anahata/
CATEGORIES:Events,Expand,Learn
ATTACH;FMTTYPE=image/jpeg:https://shinesedona.com/wp-content/uploads/2023/08/Untitled-design-56.jpg
END:VEVENT
BEGIN:VEVENT
DTSTART;TZID=UTC:20250511T163000
DTEND;TZID=UTC:20250511T180000
DTSTAMP:20260424T093908
CREATED:20250305T182705Z
LAST-MODIFIED:20250305T182705Z
UID:244346-1746981000-1746986400@shinesedona.com
SUMMARY:Mother’s Day Sound Healing Ceremony w/ Devani Paige
DESCRIPTION:
URL:https://shinesedona.com/event/mothers-day-sound-healing-ceremony-w-devani-paige-2/
CATEGORIES:Events,Expand,Heal
ATTACH;FMTTYPE=image/jpeg:https://shinesedona.com/wp-content/uploads/2023/04/Devani-square-image-w-flutes-.jpg
END:VEVENT
BEGIN:VEVENT
DTSTART;TZID=UTC:20250512T100000
DTEND;TZID=UTC:20250512T143000
DTSTAMP:20260424T093908
CREATED:20250410T193926Z
LAST-MODIFIED:20250410T193959Z
UID:244553-1747044000-1747060200@shinesedona.com
SUMMARY:Angelic Reading & Reiki Session w/ Amanda Shannon
DESCRIPTION:
URL:https://shinesedona.com/event/angelic-reading-reiki-session-w-amanda-shannon-5-12/
CATEGORIES:Expand,Heal,Sessions
ATTACH;FMTTYPE=image/jpeg:https://shinesedona.com/wp-content/uploads/2025/04/angelic-hands.jpg
END:VEVENT
BEGIN:VEVENT
DTSTART;TZID=UTC:20250514T100000
DTEND;TZID=UTC:20250514T170000
DTSTAMP:20260424T093908
CREATED:20250411T001505Z
LAST-MODIFIED:20250411T001520Z
UID:244563-1747216800-1747242000@shinesedona.com
SUMMARY:Cellular Mind Body Reset Session
DESCRIPTION:
URL:https://shinesedona.com/event/cellular-mind-body-reset-session-514/
CATEGORIES:Expand,Heal,Sessions
ATTACH;FMTTYPE=image/jpeg:https://shinesedona.com/wp-content/uploads/2024/09/Cellular-Reset-square-image.jpg
END:VEVENT
BEGIN:VEVENT
DTSTART;TZID=UTC:20250515T110000
DTEND;TZID=UTC:20250515T170000
DTSTAMP:20260424T093908
CREATED:20250410T191648Z
LAST-MODIFIED:20250410T191702Z
UID:244547-1747306800-1747328400@shinesedona.com
SUMMARY:Sacred Qi Acupuncture Healing w/ Margarita Alcantara
DESCRIPTION:
URL:https://shinesedona.com/event/sacred-qi-acupuncture-healing-w-margarita-alcantara-515/
CATEGORIES:Expand,Heal,Sessions
ATTACH;FMTTYPE=image/jpeg:https://shinesedona.com/wp-content/uploads/2025/04/Margarita-Alcantara-Acupuncture-Square.jpg
END:VEVENT
BEGIN:VEVENT
DTSTART;TZID=UTC:20250516T100000
DTEND;TZID=UTC:20250516T170000
DTSTAMP:20260424T093908
CREATED:20250410T194128Z
LAST-MODIFIED:20250410T194141Z
UID:244555-1747389600-1747414800@shinesedona.com
SUMMARY:Angelic Reading & Reiki Session w/ Amanda Shannon
DESCRIPTION:
URL:https://shinesedona.com/event/angelic-reading-reiki-session-w-amanda-shannon-516/
CATEGORIES:Expand,Heal,Sessions
ATTACH;FMTTYPE=image/jpeg:https://shinesedona.com/wp-content/uploads/2025/04/angelic-hands.jpg
END:VEVENT
BEGIN:VEVENT
DTSTART;TZID=UTC:20250516T180000
DTEND;TZID=UTC:20250516T200000
DTSTAMP:20260424T093908
CREATED:20250314T002734Z
LAST-MODIFIED:20250314T002751Z
UID:244377-1747418400-1747425600@shinesedona.com
SUMMARY:Breath is Prayer Ceremony w/ Gwen Payne
DESCRIPTION:
URL:https://shinesedona.com/event/breath-is-prayer-ceremony-w-gwen-payne-51625/
CATEGORIES:Events,Expand,Heal
ATTACH;FMTTYPE=image/jpeg:https://shinesedona.com/wp-content/uploads/2022/09/Breath-is-prayer-ceremony.jpg
END:VEVENT
BEGIN:VEVENT
DTSTART;TZID=UTC:20250517T100000
DTEND;TZID=UTC:20250517T153000
DTSTAMP:20260424T093908
CREATED:20250410T194326Z
LAST-MODIFIED:20250410T194342Z
UID:244556-1747476000-1747495800@shinesedona.com
SUMMARY:Angelic Reading & Reiki Session w/ Amanda Shannon
DESCRIPTION:
URL:https://shinesedona.com/event/angelic-reading-reiki-session-w-amanda-shannon-517/
CATEGORIES:Expand,Heal,Sessions
ATTACH;FMTTYPE=image/jpeg:https://shinesedona.com/wp-content/uploads/2025/04/angelic-hands.jpg
END:VEVENT
BEGIN:VEVENT
DTSTART;TZID=UTC:20250517T180000
DTEND;TZID=UTC:20250517T193000
DTSTAMP:20260424T093908
CREATED:20250305T183906Z
LAST-MODIFIED:20250305T183917Z
UID:244352-1747504800-1747510200@shinesedona.com
SUMMARY:Sound Healing Ceremony w/ Devani Paige
DESCRIPTION:
URL:https://shinesedona.com/event/sound-healing-ceremony-w-devani-paige-51725/
CATEGORIES:Events,Expand
ATTACH;FMTTYPE=image/jpeg:https://shinesedona.com/wp-content/uploads/2023/04/Devani-square-image-w-flutes-.jpg
END:VEVENT
BEGIN:VEVENT
DTSTART;TZID=UTC:20250518T100000
DTEND;TZID=UTC:20250518T170000
DTSTAMP:20260424T093908
CREATED:20250404T033456Z
LAST-MODIFIED:20250404T033509Z
UID:244504-1747562400-1747587600@shinesedona.com
SUMMARY:Restorative Reiki Session w/ Barbie Maraviov
DESCRIPTION:
URL:https://shinesedona.com/event/restorative-reiki-session-w-barbie-maraviov-51825/
CATEGORIES:Expand,Heal,Sessions
ATTACH;FMTTYPE=image/jpeg:https://shinesedona.com/wp-content/uploads/2024/06/Reiki-image.jpg
END:VEVENT
BEGIN:VEVENT
DTSTART;TZID=UTC:20250519T100000
DTEND;TZID=UTC:20250519T170000
DTSTAMP:20260424T093908
CREATED:20250411T002632Z
LAST-MODIFIED:20250411T002643Z
UID:244567-1747648800-1747674000@shinesedona.com
SUMMARY:Cellular Mind Body Reset Session
DESCRIPTION:
URL:https://shinesedona.com/event/cellular-mind-body-reset-session-5-19/
CATEGORIES:Expand,Heal,Sessions
ATTACH;FMTTYPE=image/jpeg:https://shinesedona.com/wp-content/uploads/2024/09/Cellular-Reset-square-image.jpg
END:VEVENT
BEGIN:VEVENT
DTSTART;TZID=UTC:20250521T100000
DTEND;TZID=UTC:20250521T170000
DTSTAMP:20260424T093908
CREATED:20250411T001630Z
LAST-MODIFIED:20250411T001642Z
UID:244564-1747821600-1747846800@shinesedona.com
SUMMARY:Cellular Mind Body Reset Session
DESCRIPTION:
URL:https://shinesedona.com/event/cellular-mind-body-reset-session-521/
CATEGORIES:Expand,Heal,Sessions
ATTACH;FMTTYPE=image/jpeg:https://shinesedona.com/wp-content/uploads/2024/09/Cellular-Reset-square-image.jpg
END:VEVENT
BEGIN:VEVENT
DTSTART;TZID=UTC:20250521T180000
DTEND;TZID=UTC:20250521T193000
DTSTAMP:20260424T093908
CREATED:20250407T205953Z
LAST-MODIFIED:20250407T210259Z
UID:244536-1747850400-1747855800@shinesedona.com
SUMMARY:Sound Healing Ceremony w/ Keeley Brand
DESCRIPTION:
URL:https://shinesedona.com/event/sound-healing-ceremony-w-keeley-brand-521/
CATEGORIES:Events,Expand,Heal
ATTACH;FMTTYPE=image/jpeg:https://shinesedona.com/wp-content/uploads/2024/10/Keeley-NEW-.jpg
END:VEVENT
BEGIN:VEVENT
DTSTART;TZID=UTC:20250522T180000
DTEND;TZID=UTC:20250522T203000
DTSTAMP:20260424T093908
CREATED:20250401T010302Z
LAST-MODIFIED:20250401T010315Z
UID:244475-1747936800-1747945800@shinesedona.com
SUMMARY:Shamangelic Breathwork Ceremony w/ Anahata Ananda
DESCRIPTION:
URL:https://shinesedona.com/event/shamangelic-breathwork-ceremony-w-anahata-ananda-52225/
CATEGORIES:Events,Expand,Heal
ATTACH;FMTTYPE=image/jpeg:https://shinesedona.com/wp-content/uploads/2024/04/breathwork-image-square-new.jpg
END:VEVENT
BEGIN:VEVENT
DTSTART;TZID=UTC:20250523T093000
DTEND;TZID=UTC:20250525T180000
DTSTAMP:20260424T093908
CREATED:20250405T000746Z
LAST-MODIFIED:20250409T202421Z
UID:244519-1747992600-1748196000@shinesedona.com
SUMMARY:Awaken Your Fire Retreat hosted at Shine led by Goddess Brittney & Lisset King
DESCRIPTION:
URL:https://shinesedona.com/event/awaken-your-fire-retreat-at-shine-led-by-goddess-brittney-lisset-king/
LOCATION:Shine Sanctuary Sedona\, 162 Coffee Pot Drive Unit D\, Sedona\, AZ\, 86336\, United States
CATEGORIES:Events
ATTACH;FMTTYPE=application/pdf:https://shinesedona.com/wp-content/uploads/2025/04/Awaken-Your-Fire-shine-flyer.pdf
END:VEVENT
BEGIN:VEVENT
DTSTART;TZID=UTC:20250523T100000
DTEND;TZID=UTC:20250523T170000
DTSTAMP:20260424T093908
CREATED:20250502T040845Z
LAST-MODIFIED:20250502T040845Z
UID:244593-1747994400-1748019600@shinesedona.com
SUMMARY:Restorative Reiki Session w/ Barbie Maraviov
DESCRIPTION:
URL:https://shinesedona.com/event/restorative-reiki-session-w-barbie-maraviov/
CATEGORIES:Expand,Heal,Sessions
ATTACH;FMTTYPE=image/jpeg:https://shinesedona.com/wp-content/uploads/2025/05/Reiki-image.jpg
END:VEVENT
BEGIN:VEVENT
DTSTART;TZID=UTC:20250524T100000
DTEND;TZID=UTC:20250524T170000
DTSTAMP:20260424T093908
CREATED:20250411T230525Z
LAST-MODIFIED:20250411T230733Z
UID:244568-1748080800-1748106000@shinesedona.com
SUMMARY:Shamanic Healing Journey & Intuitive Guidance Session w/ Abigail Earthshine
DESCRIPTION:
URL:https://shinesedona.com/event/shamanic-healing-journey-intuitive-guidance-session-w-abigail-earthshine-524/
CATEGORIES:Expand,Heal,Sessions
ATTACH;FMTTYPE=image/jpeg:https://shinesedona.com/wp-content/uploads/2024/08/Abigail-square-image-1-1-scaled.jpg
END:VEVENT
BEGIN:VEVENT
DTSTART;TZID=UTC:20250525T100000
DTEND;TZID=UTC:20250525T170000
DTSTAMP:20260424T093908
CREATED:20250404T033633Z
LAST-MODIFIED:20250404T033651Z
UID:244505-1748167200-1748192400@shinesedona.com
SUMMARY:Restorative Reiki Session w/ Barbie Maraviov
DESCRIPTION:
URL:https://shinesedona.com/event/restorative-reiki-session-w-barbie-maraviov-52525/
CATEGORIES:Expand,Heal,Sessions
ATTACH;FMTTYPE=image/jpeg:https://shinesedona.com/wp-content/uploads/2024/06/Reiki-image.jpg
END:VEVENT
BEGIN:VEVENT
DTSTART;TZID=UTC:20250526T100000
DTEND;TZID=UTC:20250526T170000
DTSTAMP:20260424T093908
CREATED:20250410T200240Z
LAST-MODIFIED:20250410T200253Z
UID:244561-1748253600-1748278800@shinesedona.com
SUMMARY:Shamangelic Healing Journey w/ Anahata Ananda
DESCRIPTION:
URL:https://shinesedona.com/event/shamangelic-healing-journey-w-anahata-ananda-52625/
CATEGORIES:Expand,Heal,Learn,Sessions
ATTACH;FMTTYPE=image/jpeg:https://shinesedona.com/wp-content/uploads/2024/06/anahata-shamanic-2.jpg
END:VEVENT
BEGIN:VEVENT
DTSTART;TZID=UTC:20250526T180000
DTEND;TZID=UTC:20250526T193000
DTSTAMP:20260424T093908
CREATED:20250327T194959Z
LAST-MODIFIED:20250327T200224Z
UID:244425-1748282400-1748287800@shinesedona.com
SUMMARY:New Moon Sound Healing Journey w/ Viola Rose
DESCRIPTION:
URL:https://shinesedona.com/event/sound-healing-journey-w-viola-rose-526/
CATEGORIES:Events,Expand,Heal
ATTACH;FMTTYPE=image/jpeg:https://shinesedona.com/wp-content/uploads/2024/09/Viola-Rose-square.jpg
END:VEVENT
BEGIN:VEVENT
DTSTART;TZID=UTC:20250528T100000
DTEND;TZID=UTC:20250528T170000
DTSTAMP:20260424T093908
CREATED:20250411T001827Z
LAST-MODIFIED:20250411T001839Z
UID:244565-1748426400-1748451600@shinesedona.com
SUMMARY:Cellular Mind Body Reset Session
DESCRIPTION:
URL:https://shinesedona.com/event/cellular-mind-body-reset-session-528/
CATEGORIES:Expand,Heal,Sessions
ATTACH;FMTTYPE=image/jpeg:https://shinesedona.com/wp-content/uploads/2024/09/Cellular-Reset-square-image.jpg
END:VEVENT
BEGIN:VEVENT
DTSTART;TZID=UTC:20250529T110000
DTEND;TZID=UTC:20250529T170000
DTSTAMP:20260424T093908
CREATED:20250410T192016Z
LAST-MODIFIED:20250410T192029Z
UID:244549-1748516400-1748538000@shinesedona.com
SUMMARY:Sacred Qi Acupuncture Healing w/ Margarita Alcantara
DESCRIPTION:
URL:https://shinesedona.com/event/sacred-qi-acupuncture-healing-w-margarita-alcantara-529/
CATEGORIES:Expand,Heal,Sessions
ATTACH;FMTTYPE=image/jpeg:https://shinesedona.com/wp-content/uploads/2025/04/Margarita-Alcantara-Acupuncture-Square.jpg
END:VEVENT
BEGIN:VEVENT
DTSTART;TZID=UTC:20250530T100000
DTEND;TZID=UTC:20250530T170000
DTSTAMP:20260424T093908
CREATED:20250429T180445Z
LAST-MODIFIED:20250429T180457Z
UID:244587-1748599200-1748624400@shinesedona.com
SUMMARY:Restorative Reiki Session w/ Barbie Maraviov
DESCRIPTION:
URL:https://shinesedona.com/event/restorative-reiki-session-w-barbie-maraviov-530/
CATEGORIES:Expand,Heal,Sessions
ATTACH;FMTTYPE=image/jpeg:https://shinesedona.com/wp-content/uploads/2024/06/Reiki-image.jpg
END:VEVENT
BEGIN:VEVENT
DTSTART;TZID=UTC:20250531T100000
DTEND;TZID=UTC:20250531T170000
DTSTAMP:20260424T093908
CREATED:20250411T230852Z
LAST-MODIFIED:20250411T230925Z
UID:244569-1748685600-1748710800@shinesedona.com
SUMMARY:Shamanic Healing Journey & Intuitive Guidance Session w/ Abigail Earthshine
DESCRIPTION:
URL:https://shinesedona.com/event/shamanic-healing-journey-intuitive-guidance-session-w-abigail-earthshine-531/
CATEGORIES:Expand,Heal,Sessions
ATTACH;FMTTYPE=image/jpeg:https://shinesedona.com/wp-content/uploads/2024/08/Abigail-square-image-1-1-scaled.jpg
END:VEVENT
BEGIN:VEVENT
DTSTART;TZID=UTC:20250531T180000
DTEND;TZID=UTC:20250531T193000
DTSTAMP:20260424T093908
CREATED:20250331T225233Z
LAST-MODIFIED:20250331T225244Z
UID:244464-1748714400-1748719800@shinesedona.com
SUMMARY:Journey to The Heart - A Mystical Sound Journey Transmission w/ Gentle Thunder
DESCRIPTION:
URL:https://shinesedona.com/event/journey-to-the-heart-a-mystical-sound-journey-transmission-w-gentle-thunder-531/
CATEGORIES:Events,Expand,Heal
ATTACH;FMTTYPE=image/jpeg:https://shinesedona.com/wp-content/uploads/2024/11/Gentle-Thunder-drum-square-image.jpg
END:VEVENT
BEGIN:VEVENT
DTSTART;TZID=UTC:20250601T100000
DTEND;TZID=UTC:20250601T143000
DTSTAMP:20260424T093908
CREATED:20250506T001607Z
LAST-MODIFIED:20250506T001618Z
UID:244608-1748772000-1748788200@shinesedona.com
SUMMARY:Angelic Reading & Reiki Session w/ Amanda Shannon
DESCRIPTION:
URL:https://shinesedona.com/event/angelic-reading-reiki-session-w-amanda-shannon-61/
CATEGORIES:Expand,Heal,Sessions
ATTACH;FMTTYPE=image/jpeg:https://shinesedona.com/wp-content/uploads/2025/04/angelic-hands.jpg
END:VEVENT
BEGIN:VEVENT
DTSTART;TZID=UTC:20250605T110000
DTEND;TZID=UTC:20250605T170000
DTSTAMP:20260424T093908
CREATED:20250521T222711Z
LAST-MODIFIED:20250521T222723Z
UID:244669-1749121200-1749142800@shinesedona.com
SUMMARY:Sacred Qi Acupuncture Healing w/ Margarita Alcantara
DESCRIPTION:
URL:https://shinesedona.com/event/sacred-qi-acupuncture-healing-w-margarita-alcantara-65/
CATEGORIES:Expand,Heal,Sessions
ATTACH;FMTTYPE=image/jpeg:https://shinesedona.com/wp-content/uploads/2025/04/Margarita-Alcantara-Acupuncture-Square.jpg
END:VEVENT
END:VCALENDAR