BEGIN:VCALENDAR
VERSION:2.0
PRODID:-//Shine Sanctuary Sedona - ECPv6.15.20//NONSGML v1.0//EN
CALSCALE:GREGORIAN
METHOD:PUBLISH
X-ORIGINAL-URL:https://shinesedona.com
X-WR-CALDESC:Events for Shine Sanctuary Sedona
REFRESH-INTERVAL;VALUE=DURATION:PT1H
X-Robots-Tag:noindex
X-PUBLISHED-TTL:PT1H
BEGIN:VTIMEZONE
TZID:UTC
BEGIN:STANDARD
TZOFFSETFROM:+0000
TZOFFSETTO:+0000
TZNAME:UTC
DTSTART:20220101T000000
END:STANDARD
END:VTIMEZONE
BEGIN:VEVENT
DTSTART;TZID=UTC:20230918T100000
DTEND;TZID=UTC:20230918T143000
DTSTAMP:20260420T081306
CREATED:20230915T231102Z
LAST-MODIFIED:20230915T231113Z
UID:240022-1695031200-1695047400@shinesedona.com
SUMMARY:Tarot Reading w/ Ashley Phoenix
DESCRIPTION:
URL:https://shinesedona.com/event/tarot-reading-w-ashley-phoenix-9-18/
CATEGORIES:Expand,Heal,Learn
ATTACH;FMTTYPE=image/jpeg:https://shinesedona.com/wp-content/uploads/2023/09/Tarot-Ashley-square-image.jpg
END:VEVENT
BEGIN:VEVENT
DTSTART;TZID=UTC:20230918T100000
DTEND;TZID=UTC:20230918T170000
DTSTAMP:20260420T081306
CREATED:20230901T001027Z
LAST-MODIFIED:20230901T001036Z
UID:239948-1695031200-1695056400@shinesedona.com
SUMMARY:Cellular Mind Body Reset Session
DESCRIPTION:
URL:https://shinesedona.com/event/cellular-mind-body-reset-session-9-18/
CATEGORIES:Expand,Heal,Sessions
ATTACH;FMTTYPE=image/jpeg:https://shinesedona.com/wp-content/uploads/2023/01/Cellular-Reset-square-image.jpg
END:VEVENT
BEGIN:VEVENT
DTSTART;TZID=UTC:20230920T100000
DTEND;TZID=UTC:20230920T170000
DTSTAMP:20260420T081306
CREATED:20230830T191405Z
LAST-MODIFIED:20230830T191415Z
UID:239872-1695204000-1695229200@shinesedona.com
SUMMARY:Energy Alignment Session w/ Amyris
DESCRIPTION:
URL:https://shinesedona.com/event/energy-alignment-session-w-amyris-9-20/
CATEGORIES:Expand,Heal,Sessions
END:VEVENT
BEGIN:VEVENT
DTSTART;TZID=UTC:20230920T100000
DTEND;TZID=UTC:20230920T170000
DTSTAMP:20260420T081306
CREATED:20230915T231337Z
LAST-MODIFIED:20230915T231345Z
UID:240024-1695204000-1695229200@shinesedona.com
SUMMARY:Tarot Reading w/ Ashley Phoenix
DESCRIPTION:
URL:https://shinesedona.com/event/tarot-reading-w-ashley-phoenix-9-20/
CATEGORIES:Expand,Heal,Learn
ATTACH;FMTTYPE=image/jpeg:https://shinesedona.com/wp-content/uploads/2023/09/Tarot-Ashley-square-image.jpg
END:VEVENT
BEGIN:VEVENT
DTSTART;TZID=UTC:20230920T180000
DTEND;TZID=UTC:20230920T193000
DTSTAMP:20260420T081306
CREATED:20230804T193402Z
LAST-MODIFIED:20230804T193423Z
UID:239745-1695232800-1695238200@shinesedona.com
SUMMARY:Sacred Sound Journey w/ Cheryl Bailey
DESCRIPTION:
URL:https://shinesedona.com/event/sacred-sound-journey-w-cheryl-bailey-sept-20/
CATEGORIES:Events,Expand,Heal
ATTACH;FMTTYPE=image/jpeg:https://shinesedona.com/wp-content/uploads/2023/02/CHeryl-Bailey-sound-healing-at-Shine-square-image.jpg
END:VEVENT
BEGIN:VEVENT
DTSTART;TZID=UTC:20230921T100000
DTEND;TZID=UTC:20230921T170000
DTSTAMP:20260420T081306
CREATED:20230901T195542Z
LAST-MODIFIED:20230901T195552Z
UID:239959-1695290400-1695315600@shinesedona.com
SUMMARY:Restorative Reiki Session w/ Barbie Maraviov
DESCRIPTION:
URL:https://shinesedona.com/event/restorative-reiki-session-w-barbie-maraviov-sept-21/
CATEGORIES:Expand,Heal,Sessions
END:VEVENT
BEGIN:VEVENT
DTSTART;TZID=UTC:20230921T180000
DTEND;TZID=UTC:20230921T200000
DTSTAMP:20260420T081306
CREATED:20230827T231113Z
LAST-MODIFIED:20230827T231123Z
UID:239814-1695319200-1695326400@shinesedona.com
SUMMARY:Experience the Vortex w/ Dennis Andres
DESCRIPTION:
URL:https://shinesedona.com/event/experience-the-vortex-w-dennis-andres-sept-21/
CATEGORIES:Events
END:VEVENT
BEGIN:VEVENT
DTSTART;TZID=UTC:20230922T100000
DTEND;TZID=UTC:20230922T170000
DTSTAMP:20260420T081306
CREATED:20230830T191520Z
LAST-MODIFIED:20230830T191527Z
UID:239873-1695376800-1695402000@shinesedona.com
SUMMARY:Energy Alignment Session w/ Amyris
DESCRIPTION:
URL:https://shinesedona.com/event/energy-alignment-session-w-amyris-9-22/
CATEGORIES:Expand,Heal,Sessions
END:VEVENT
BEGIN:VEVENT
DTSTART;TZID=UTC:20230922T100000
DTEND;TZID=UTC:20230922T170000
DTSTAMP:20260420T081306
CREATED:20230830T203739Z
LAST-MODIFIED:20230830T203748Z
UID:239883-1695376800-1695402000@shinesedona.com
SUMMARY:Angel Card Reading w/ Serenity Wilson
DESCRIPTION:
URL:https://shinesedona.com/event/angel-card-reading-w-serenity-wilson-9-22/
CATEGORIES:Expand,Heal,Learn
ATTACH;FMTTYPE=image/jpeg:https://shinesedona.com/wp-content/uploads/2023/08/angelic-hands-1.jpg
END:VEVENT
BEGIN:VEVENT
DTSTART;TZID=UTC:20230922T180000
DTEND;TZID=UTC:20230922T193000
DTSTAMP:20260420T081306
CREATED:20230801T192326Z
LAST-MODIFIED:20230802T221854Z
UID:239724-1695405600-1695411000@shinesedona.com
SUMMARY:Sound Wave Journey w/ Aaron & Kalee
DESCRIPTION:
URL:https://shinesedona.com/event/sound-wave-journey-w-aaron-kalee-sept-22/
CATEGORIES:Events,Expand,Heal
END:VEVENT
BEGIN:VEVENT
DTSTART;TZID=UTC:20230923T100000
DTEND;TZID=UTC:20230923T170000
DTSTAMP:20260420T081306
CREATED:20230830T191627Z
LAST-MODIFIED:20230830T191634Z
UID:239874-1695463200-1695488400@shinesedona.com
SUMMARY:Energy Alignment Session w/ Amyris
DESCRIPTION:
URL:https://shinesedona.com/event/energy-alignment-session-w-amyris-9-23/
CATEGORIES:Expand,Heal,Sessions
END:VEVENT
BEGIN:VEVENT
DTSTART;TZID=UTC:20230923T100000
DTEND;TZID=UTC:20230923T170000
DTSTAMP:20260420T081306
CREATED:20230830T203901Z
LAST-MODIFIED:20230830T203909Z
UID:239884-1695463200-1695488400@shinesedona.com
SUMMARY:Angel Card Reading w/ Serenity Wilson
DESCRIPTION:
URL:https://shinesedona.com/event/angel-card-reading-w-serenity-wilson-9-23/
CATEGORIES:Expand,Heal,Learn
ATTACH;FMTTYPE=image/jpeg:https://shinesedona.com/wp-content/uploads/2023/08/angelic-hands-1.jpg
END:VEVENT
BEGIN:VEVENT
DTSTART;TZID=UTC:20230924T100000
DTEND;TZID=UTC:20230924T170000
DTSTAMP:20260420T081306
CREATED:20230830T191723Z
LAST-MODIFIED:20230830T191729Z
UID:239875-1695549600-1695574800@shinesedona.com
SUMMARY:Energy Alignment Session w/ Amyris
DESCRIPTION:
URL:https://shinesedona.com/event/energy-alignment-session-w-amyris-9-24/
CATEGORIES:Expand,Heal,Sessions
END:VEVENT
BEGIN:VEVENT
DTSTART;TZID=UTC:20230924T100000
DTEND;TZID=UTC:20230924T170000
DTSTAMP:20260420T081306
CREATED:20230830T204005Z
LAST-MODIFIED:20230830T204012Z
UID:239885-1695549600-1695574800@shinesedona.com
SUMMARY:Angel Card Reading w/ Serenity Wilson
DESCRIPTION:
URL:https://shinesedona.com/event/angel-card-reading-w-serenity-wilson-9-24/
CATEGORIES:Expand,Heal,Learn
ATTACH;FMTTYPE=image/jpeg:https://shinesedona.com/wp-content/uploads/2023/08/angelic-hands-1.jpg
END:VEVENT
BEGIN:VEVENT
DTSTART;TZID=UTC:20230925T100000
DTEND;TZID=UTC:20230925T170000
DTSTAMP:20260420T081306
CREATED:20230901T001131Z
LAST-MODIFIED:20230901T001140Z
UID:239949-1695636000-1695661200@shinesedona.com
SUMMARY:Cellular Mind Body Reset Session
DESCRIPTION:
URL:https://shinesedona.com/event/cellular-mind-body-reset-session-925/
CATEGORIES:Expand,Heal,Sessions
ATTACH;FMTTYPE=image/jpeg:https://shinesedona.com/wp-content/uploads/2023/01/Cellular-Reset-square-image.jpg
END:VEVENT
BEGIN:VEVENT
DTSTART;TZID=UTC:20230927T100000
DTEND;TZID=UTC:20230927T170000
DTSTAMP:20260420T081306
CREATED:20230901T194603Z
LAST-MODIFIED:20230901T194613Z
UID:239958-1695808800-1695834000@shinesedona.com
SUMMARY:Reiki Healing Session w/ Sandy Gassett
DESCRIPTION:
URL:https://shinesedona.com/event/reiki-healing-session-w-sandy-gassett-9-27/
CATEGORIES:Expand,Heal,Sessions
ATTACH;FMTTYPE=image/jpeg:https://shinesedona.com/wp-content/uploads/2023/08/Sandy-in-healing-womb-square-image.jpg
END:VEVENT
BEGIN:VEVENT
DTSTART;TZID=UTC:20230927T170000
DTEND;TZID=UTC:20230927T200000
DTSTAMP:20260420T081306
CREATED:20230915T231513Z
LAST-MODIFIED:20230915T231520Z
UID:240025-1695834000-1695844800@shinesedona.com
SUMMARY:Tarot Reading w/ Ashley Phoenix
DESCRIPTION:
URL:https://shinesedona.com/event/tarot-reading-w-ashley-phoenix-9-27/
CATEGORIES:Expand,Heal,Learn
ATTACH;FMTTYPE=image/jpeg:https://shinesedona.com/wp-content/uploads/2023/09/Tarot-Ashley-square-image.jpg
END:VEVENT
BEGIN:VEVENT
DTSTART;TZID=UTC:20230927T180000
DTEND;TZID=UTC:20230927T193000
DTSTAMP:20260420T081306
CREATED:20230801T192742Z
LAST-MODIFIED:20230802T221932Z
UID:239727-1695837600-1695843000@shinesedona.com
SUMMARY:Sound Wave Journey w/ Aaron & Kalee
DESCRIPTION:
URL:https://shinesedona.com/event/sound-wave-journey-w-aaron-kalee-sept-27/
CATEGORIES:Events,Expand,Heal
END:VEVENT
BEGIN:VEVENT
DTSTART;TZID=UTC:20230928T100000
DTEND;TZID=UTC:20230928T170000
DTSTAMP:20260420T081306
CREATED:20230831T184511Z
LAST-MODIFIED:20230831T184521Z
UID:239906-1695895200-1695920400@shinesedona.com
SUMMARY:Reiki Healing Session w/ Sandy Gassett
DESCRIPTION:
URL:https://shinesedona.com/event/reiki-healing-session-w-sandy-gassett-9-28/
CATEGORIES:Expand,Heal,Sessions
ATTACH;FMTTYPE=image/jpeg:https://shinesedona.com/wp-content/uploads/2023/08/Sandy-in-healing-womb-square-image.jpg
END:VEVENT
BEGIN:VEVENT
DTSTART;TZID=UTC:20230928T183000
DTEND;TZID=UTC:20230928T203000
DTSTAMP:20260420T081306
CREATED:20230531T215047Z
LAST-MODIFIED:20230531T215055Z
UID:239193-1695925800-1695933000@shinesedona.com
SUMMARY:Breath is Prayer Ceremony w/ Gwen Payne
DESCRIPTION:
URL:https://shinesedona.com/event/breath-is-prayer-ceremony-w-gwen-payne-sept-28/
CATEGORIES:Events,Expand,Heal
ATTACH;FMTTYPE=image/jpeg:https://shinesedona.com/wp-content/uploads/2022/09/Breath-is-prayer-ceremony.jpg
END:VEVENT
BEGIN:VEVENT
DTSTART;TZID=UTC:20230929T100000
DTEND;TZID=UTC:20230929T170000
DTSTAMP:20260420T081306
CREATED:20230831T234921Z
LAST-MODIFIED:20230831T235021Z
UID:239940-1695981600-1696006800@shinesedona.com
SUMMARY:Restorative Reiki Session w/ Barbie Maraviov
DESCRIPTION:
URL:https://shinesedona.com/event/restorative-reiki-session-w-barbie-maraviov-9-29/
CATEGORIES:Expand,Heal,Sessions
END:VEVENT
BEGIN:VEVENT
DTSTART;TZID=UTC:20230929T110000
DTEND;TZID=UTC:20230929T170000
DTSTAMP:20260420T081306
CREATED:20230831T195521Z
LAST-MODIFIED:20230919T171003Z
UID:239918-1695985200-1696006800@shinesedona.com
SUMMARY:Soul Guidance Session w/ Steph Struthers
DESCRIPTION:
URL:https://shinesedona.com/event/soul-guidance-session-w-steph-struthers-sept-29/
CATEGORIES:Expand,Heal,Learn
ATTACH;FMTTYPE=image/jpeg:https://shinesedona.com/wp-content/uploads/2023/08/Akashic-image-.jpg
END:VEVENT
BEGIN:VEVENT
DTSTART;TZID=UTC:20230930T100000
DTEND;TZID=UTC:20230930T170000
DTSTAMP:20260420T081306
CREATED:20230831T235121Z
LAST-MODIFIED:20230831T235131Z
UID:239941-1696068000-1696093200@shinesedona.com
SUMMARY:Restorative Reiki Session w/ Barbie Maraviov
DESCRIPTION:
URL:https://shinesedona.com/event/restorative-reiki-session-w-barbie-maraviov-9-30/
CATEGORIES:Expand,Heal,Sessions
END:VEVENT
BEGIN:VEVENT
DTSTART;TZID=UTC:20230930T100000
DTEND;TZID=UTC:20230930T170000
DTSTAMP:20260420T081306
CREATED:20230928T003556Z
LAST-MODIFIED:20230928T003841Z
UID:240103-1696068000-1696093200@shinesedona.com
SUMMARY:Angel Card Reading w/ Serenity Wilson
DESCRIPTION:
URL:https://shinesedona.com/event/angel-card-reading-w-serenity-wilson-2/
CATEGORIES:Expand,Heal,Learn
ATTACH;FMTTYPE=image/jpeg:https://shinesedona.com/wp-content/uploads/2023/08/angelic-hands-1.jpg
END:VEVENT
BEGIN:VEVENT
DTSTART;TZID=UTC:20231001T100000
DTEND;TZID=UTC:20231001T170000
DTSTAMP:20260420T081306
CREATED:20230831T235232Z
LAST-MODIFIED:20230831T235241Z
UID:239942-1696154400-1696179600@shinesedona.com
SUMMARY:Restorative Reiki Session w/ Barbie Maraviov
DESCRIPTION:
URL:https://shinesedona.com/event/restorative-reiki-session-w-barbie-maraviov-10-1/
CATEGORIES:Expand,Heal,Sessions
END:VEVENT
BEGIN:VEVENT
DTSTART;TZID=UTC:20231001T100000
DTEND;TZID=UTC:20231001T170000
DTSTAMP:20260420T081306
CREATED:20230928T003725Z
LAST-MODIFIED:20230928T003732Z
UID:240105-1696154400-1696179600@shinesedona.com
SUMMARY:Angel Card Reading w/ Serenity Wilson
DESCRIPTION:
URL:https://shinesedona.com/event/angel-card-reading-w-serenity-wilson-10-1/
CATEGORIES:Expand,Heal,Learn
ATTACH;FMTTYPE=image/jpeg:https://shinesedona.com/wp-content/uploads/2023/08/angelic-hands-1.jpg
END:VEVENT
BEGIN:VEVENT
DTSTART;TZID=UTC:20231002T100000
DTEND;TZID=UTC:20231002T170000
DTSTAMP:20260420T081306
CREATED:20230831T195651Z
LAST-MODIFIED:20230831T195703Z
UID:239919-1696240800-1696266000@shinesedona.com
SUMMARY:Soul Guidance Session w/ Steph Struthers
DESCRIPTION:
URL:https://shinesedona.com/event/soul-guidance-session-w-steph-struthers-oct-2/
CATEGORIES:Expand,Heal,Learn
ATTACH;FMTTYPE=image/jpeg:https://shinesedona.com/wp-content/uploads/2023/08/Akashic-image-.jpg
END:VEVENT
BEGIN:VEVENT
DTSTART;TZID=UTC:20231002T100000
DTEND;TZID=UTC:20231002T170000
DTSTAMP:20260420T081306
CREATED:20230919T173309Z
LAST-MODIFIED:20230919T173317Z
UID:240053-1696240800-1696266000@shinesedona.com
SUMMARY:Restorative Reiki Session w/ Barbie Maraviov
DESCRIPTION:
URL:https://shinesedona.com/event/restorative-reiki-session-w-barbie-maraviov-10-2/
CATEGORIES:Expand,Heal,Sessions
END:VEVENT
BEGIN:VEVENT
DTSTART;TZID=UTC:20231004T100000
DTEND;TZID=UTC:20231004T170000
DTSTAMP:20260420T081306
CREATED:20230831T184618Z
LAST-MODIFIED:20230831T184628Z
UID:239907-1696413600-1696438800@shinesedona.com
SUMMARY:Reiki Healing Session w/ Sandy Gassett
DESCRIPTION:
URL:https://shinesedona.com/event/reiki-healing-session-w-sandy-gassett-10-4/
CATEGORIES:Expand,Heal,Sessions
ATTACH;FMTTYPE=image/jpeg:https://shinesedona.com/wp-content/uploads/2023/08/Sandy-in-healing-womb-square-image.jpg
END:VEVENT
BEGIN:VEVENT
DTSTART;TZID=UTC:20231005T153000
DTEND;TZID=UTC:20231005T170000
DTSTAMP:20260420T081306
CREATED:20230725T190807Z
LAST-MODIFIED:20230828T191439Z
UID:239650-1696519800-1696525200@shinesedona.com
SUMMARY:Sound Healing Ceremony w/ Devani Paige
DESCRIPTION:
URL:https://shinesedona.com/event/sound-healing-ceremony-w-devani-paigeoct-5/
CATEGORIES:Events,Expand,Heal
ATTACH;FMTTYPE=image/jpeg:https://shinesedona.com/wp-content/uploads/2023/04/Devani-square-image-w-flutes-.jpg
END:VEVENT
END:VCALENDAR