BEGIN:VCALENDAR
VERSION:2.0
PRODID:-//Shine Sanctuary Sedona - ECPv6.15.20//NONSGML v1.0//EN
CALSCALE:GREGORIAN
METHOD:PUBLISH
X-WR-CALNAME:Shine Sanctuary Sedona
X-ORIGINAL-URL:https://shinesedona.com
X-WR-CALDESC:Events for Shine Sanctuary Sedona
REFRESH-INTERVAL;VALUE=DURATION:PT1H
X-Robots-Tag:noindex
X-PUBLISHED-TTL:PT1H
BEGIN:VTIMEZONE
TZID:UTC
BEGIN:STANDARD
TZOFFSETFROM:+0000
TZOFFSETTO:+0000
TZNAME:UTC
DTSTART:20240101T000000
END:STANDARD
END:VTIMEZONE
BEGIN:VEVENT
DTSTART;TZID=UTC:20250823T180000
DTEND;TZID=UTC:20250823T193000
DTSTAMP:20260423T130136
CREATED:20250602T213959Z
LAST-MODIFIED:20250602T213959Z
UID:244708-1755972000-1755977400@shinesedona.com
SUMMARY:New Moon Journey to The Heart ~ A Mystical Sound Experience w/ Gentle Thunder
DESCRIPTION:
URL:https://shinesedona.com/event/new-moon-journey-to-the-heart-a-mystical-sound-experience-w-gentle-thunder/
CATEGORIES:Events,Expand,Heal
ATTACH;FMTTYPE=image/jpeg:https://shinesedona.com/wp-content/uploads/2024/11/Gentle-Thunder-drum-square-image.jpg
END:VEVENT
BEGIN:VEVENT
DTSTART;TZID=UTC:20250823T100000
DTEND;TZID=UTC:20250823T170000
DTSTAMP:20260423T130136
CREATED:20250730T032721Z
LAST-MODIFIED:20250730T032735Z
UID:244916-1755943200-1755968400@shinesedona.com
SUMMARY:Restorative Reiki Session w/ Barbie Maraviov
DESCRIPTION:
URL:https://shinesedona.com/event/restorative-reiki-session-w-barbie-maraviov-82325/
CATEGORIES:Expand,Heal,Sessions
ATTACH;FMTTYPE=image/jpeg:https://shinesedona.com/wp-content/uploads/2025/05/Reiki-image.jpg
END:VEVENT
BEGIN:VEVENT
DTSTART;TZID=UTC:20250822T180000
DTEND;TZID=UTC:20250822T193000
DTSTAMP:20260423T130136
CREATED:20250702T221147Z
LAST-MODIFIED:20250702T221253Z
UID:244821-1755885600-1755891000@shinesedona.com
SUMMARY:Sacred Cacao Heart Opening Ceremony Led by Anahata Ananda
DESCRIPTION:
URL:https://shinesedona.com/event/sacred-cacao-heart-opening-ceremony-led-by-anahata-ananda-822/
CATEGORIES:Events,Expand,Heal
ATTACH;FMTTYPE=image/jpeg:https://shinesedona.com/wp-content/uploads/2024/08/cacao-sound-athena.jpg
END:VEVENT
BEGIN:VEVENT
DTSTART;TZID=UTC:20250816T180000
DTEND;TZID=UTC:20250816T193000
DTSTAMP:20260423T130136
CREATED:20250606T223944Z
LAST-MODIFIED:20250606T224022Z
UID:244729-1755367200-1755372600@shinesedona.com
SUMMARY:Sound Healing Ceremony w/ Devani Paige
DESCRIPTION:
URL:https://shinesedona.com/event/sound-healing-ceremony-w-devani-paige-8-16/
CATEGORIES:Events,Expand,Heal
ATTACH;FMTTYPE=image/jpeg:https://shinesedona.com/wp-content/uploads/2025/05/Devani-square-image-w-flutes-.jpg
END:VEVENT
BEGIN:VEVENT
DTSTART;TZID=UTC:20250815T180000
DTEND;TZID=UTC:20250815T193000
DTSTAMP:20260423T130136
CREATED:20250609T233935Z
LAST-MODIFIED:20250609T233948Z
UID:244760-1755280800-1755286200@shinesedona.com
SUMMARY:Sound Healing Ceremony w/ Keeley Brand
DESCRIPTION:
URL:https://shinesedona.com/event/sound-healing-ceremony-w-keeley-brand-815/
CATEGORIES:Events,Expand,Heal
ATTACH;FMTTYPE=image/jpeg:https://shinesedona.com/wp-content/uploads/2024/10/Keeley-NEW-.jpg
END:VEVENT
BEGIN:VEVENT
DTSTART;TZID=UTC:20250810T100000
DTEND;TZID=UTC:20250810T170000
DTSTAMP:20260423T130136
CREATED:20250730T010933Z
LAST-MODIFIED:20250730T010944Z
UID:244915-1754820000-1754845200@shinesedona.com
SUMMARY:Restorative Reiki Session w/ Barbie Maraviov
DESCRIPTION:
URL:https://shinesedona.com/event/restorative-reiki-session-w-barbie-maraviov-81025/
CATEGORIES:Expand,Heal,Sessions
ATTACH;FMTTYPE=image/jpeg:https://shinesedona.com/wp-content/uploads/2025/05/Reiki-image.jpg
END:VEVENT
BEGIN:VEVENT
DTSTART;TZID=UTC:20250809T180000
DTEND;TZID=UTC:20250809T193000
DTSTAMP:20260423T130136
CREATED:20250602T213215Z
LAST-MODIFIED:20250602T213226Z
UID:244706-1754762400-1754767800@shinesedona.com
SUMMARY:Full Moon Journey to The Heart ~ A Mystical Sound Experience w/ Gentle Thunder
DESCRIPTION:
URL:https://shinesedona.com/event/full-moon-journey-to-the-heart-a-mystical-sound-experience-w-gentle-thunder-89/
CATEGORIES:Events,Expand,Heal
ATTACH;FMTTYPE=image/jpeg:https://shinesedona.com/wp-content/uploads/2024/11/Gentle-Thunder-drum-square-image.jpg
END:VEVENT
BEGIN:VEVENT
DTSTART;TZID=UTC:20250809T100000
DTEND;TZID=UTC:20250809T170000
DTSTAMP:20260423T130136
CREATED:20250730T010814Z
LAST-MODIFIED:20250730T010827Z
UID:244914-1754733600-1754758800@shinesedona.com
SUMMARY:Restorative Reiki Session w/ Barbie Maraviov
DESCRIPTION:
URL:https://shinesedona.com/event/restorative-reiki-session-w-barbie-maraviov-8925/
CATEGORIES:Expand,Heal,Sessions
ATTACH;FMTTYPE=image/jpeg:https://shinesedona.com/wp-content/uploads/2025/05/Reiki-image.jpg
END:VEVENT
BEGIN:VEVENT
DTSTART;TZID=UTC:20250808T180000
DTEND;TZID=UTC:20250808T193000
DTSTAMP:20260423T130136
CREATED:20250703T232217Z
LAST-MODIFIED:20250703T232217Z
UID:244827-1754676000-1754681400@shinesedona.com
SUMMARY:Lion’s Gate Sacred Sound Journey w/ Cheryl Bailey
DESCRIPTION:
URL:https://shinesedona.com/event/lions-gate-sacred-sound-journey-w-cheryl-bailey/
CATEGORIES:Events,Expand,Heal
ATTACH;FMTTYPE=image/jpeg:https://shinesedona.com/wp-content/uploads/2024/11/Cheryl-Bailey-new-bio-image.jpg
END:VEVENT
BEGIN:VEVENT
DTSTART;TZID=UTC:20250803T170000
DTEND;TZID=UTC:20250803T193000
DTSTAMP:20260423T130136
CREATED:20250625T015408Z
LAST-MODIFIED:20250625T015408Z
UID:244779-1754240400-1754249400@shinesedona.com
SUMMARY:Shamangelic Breathwork Community Ceremony by Donation w/ Anahata Ananda
DESCRIPTION:
URL:https://shinesedona.com/event/shamangelic-breathwork-community-ceremony-by-donation-w-anahata-ananda-4/
CATEGORIES:Events,Expand,Heal
ATTACH;FMTTYPE=image/jpeg:https://shinesedona.com/wp-content/uploads/2024/04/breathwork-image-square-new.jpg
END:VEVENT
BEGIN:VEVENT
DTSTART;TZID=UTC:20250803T120000
DTEND;TZID=UTC:20250803T143000
DTSTAMP:20260423T130136
CREATED:20250625T015237Z
LAST-MODIFIED:20250625T015237Z
UID:244778-1754222400-1754231400@shinesedona.com
SUMMARY:Shamangelic Breathwork Community Ceremony by Donation w/ Anahata Ananda
DESCRIPTION:
URL:https://shinesedona.com/event/shamangelic-breathwork-community-ceremony-by-donation-w-anahata-ananda-3/
CATEGORIES:Events,Expand,Heal
ATTACH;FMTTYPE=image/jpeg:https://shinesedona.com/wp-content/uploads/2024/04/breathwork-image-square-new.jpg
END:VEVENT
BEGIN:VEVENT
DTSTART;TZID=UTC:20250802T170000
DTEND;TZID=UTC:20250802T193000
DTSTAMP:20260423T130136
CREATED:20250625T014946Z
LAST-MODIFIED:20250625T014946Z
UID:244777-1754154000-1754163000@shinesedona.com
SUMMARY:Shamangelic Breathwork Community Ceremony by Donation w/ Anahata Ananda
DESCRIPTION:
URL:https://shinesedona.com/event/shamangelic-breathwork-community-ceremony-by-donation-w-anahata-ananda-2/
CATEGORIES:Events,Expand,Heal
ATTACH;FMTTYPE=image/jpeg:https://shinesedona.com/wp-content/uploads/2024/04/breathwork-image-square-new.jpg
END:VEVENT
BEGIN:VEVENT
DTSTART;TZID=UTC:20250802T120000
DTEND;TZID=UTC:20250802T143000
DTSTAMP:20260423T130136
CREATED:20250625T014803Z
LAST-MODIFIED:20250625T014803Z
UID:244776-1754136000-1754145000@shinesedona.com
SUMMARY:Shamangelic Breathwork Community Ceremony by Donation w/ Anahata Ananda
DESCRIPTION:
URL:https://shinesedona.com/event/shamangelic-breathwork-community-ceremony-by-donation-w-anahata-ananda/
CATEGORIES:Events,Expand,Heal
ATTACH;FMTTYPE=image/jpeg:https://shinesedona.com/wp-content/uploads/2024/04/breathwork-image-square-new.jpg
END:VEVENT
BEGIN:VEVENT
DTSTART;TZID=UTC:20250802T100000
DTEND;TZID=UTC:20250802T170000
DTSTAMP:20260423T130136
CREATED:20250730T010329Z
LAST-MODIFIED:20250730T010341Z
UID:244913-1754128800-1754154000@shinesedona.com
SUMMARY:Restorative Reiki Session w/ Barbie Maraviov
DESCRIPTION:
URL:https://shinesedona.com/event/restorative-reiki-session-w-barbie-maraviov-8225/
CATEGORIES:Expand,Heal,Sessions
ATTACH;FMTTYPE=image/jpeg:https://shinesedona.com/wp-content/uploads/2025/05/Reiki-image.jpg
END:VEVENT
BEGIN:VEVENT
DTSTART;TZID=UTC:20250731T180000
DTEND;TZID=UTC:20250731T193000
DTSTAMP:20260423T130136
CREATED:20250609T231539Z
LAST-MODIFIED:20250609T231552Z
UID:244757-1753984800-1753990200@shinesedona.com
SUMMARY:Sound Healing Ceremony w/ Keeley Brand
DESCRIPTION:
URL:https://shinesedona.com/event/sound-healing-ceremony-w-keeley-brand-731/
CATEGORIES:Events,Expand,Heal
ATTACH;FMTTYPE=image/jpeg:https://shinesedona.com/wp-content/uploads/2024/10/Keeley-NEW-.jpg
END:VEVENT
BEGIN:VEVENT
DTSTART;TZID=UTC:20250727T100000
DTEND;TZID=UTC:20250727T170000
DTSTAMP:20260423T130136
CREATED:20250602T223201Z
LAST-MODIFIED:20250602T223224Z
UID:244719-1753610400-1753635600@shinesedona.com
SUMMARY:Restorative Reiki Session w/ Barbie Maraviov
DESCRIPTION:
URL:https://shinesedona.com/event/restorative-reiki-session-w-barbie-maraviov-727-2/
CATEGORIES:Expand,Heal,Sessions
ATTACH;FMTTYPE=image/jpeg:https://shinesedona.com/wp-content/uploads/2025/05/Reiki-image.jpg
END:VEVENT
BEGIN:VEVENT
DTSTART;TZID=UTC:20250726T100000
DTEND;TZID=UTC:20250726T170000
DTSTAMP:20260423T130136
CREATED:20250602T223340Z
LAST-MODIFIED:20250602T223353Z
UID:244720-1753524000-1753549200@shinesedona.com
SUMMARY:Restorative Reiki Session w/ Barbie Maraviov
DESCRIPTION:
URL:https://shinesedona.com/event/restorative-reiki-session-w-barbie-maraviov-726/
CATEGORIES:Expand,Heal,Sessions
ATTACH;FMTTYPE=image/jpeg:https://shinesedona.com/wp-content/uploads/2025/05/Reiki-image.jpg
END:VEVENT
BEGIN:VEVENT
DTSTART;TZID=UTC:20250725T100000
DTEND;TZID=UTC:20250725T170000
DTSTAMP:20260423T130136
CREATED:20250602T223027Z
LAST-MODIFIED:20250602T223037Z
UID:244718-1753437600-1753462800@shinesedona.com
SUMMARY:Restorative Reiki Session w/ Barbie Maraviov
DESCRIPTION:
URL:https://shinesedona.com/event/restorative-reiki-session-w-barbie-maraviov-725/
CATEGORIES:Expand,Heal,Sessions
ATTACH;FMTTYPE=image/jpeg:https://shinesedona.com/wp-content/uploads/2025/05/Reiki-image.jpg
END:VEVENT
BEGIN:VEVENT
DTSTART;TZID=UTC:20250720T100000
DTEND;TZID=UTC:20250720T170000
DTSTAMP:20260423T130136
CREATED:20250602T222901Z
LAST-MODIFIED:20250602T222915Z
UID:244717-1753005600-1753030800@shinesedona.com
SUMMARY:Restorative Reiki Session w/ Barbie Maraviov
DESCRIPTION:
URL:https://shinesedona.com/event/restorative-reiki-session-w-barbie-maraviov-720/
CATEGORIES:Expand,Heal,Sessions
ATTACH;FMTTYPE=image/jpeg:https://shinesedona.com/wp-content/uploads/2025/05/Reiki-image.jpg
END:VEVENT
BEGIN:VEVENT
DTSTART;TZID=UTC:20250719T100000
DTEND;TZID=UTC:20250719T170000
DTSTAMP:20260423T130136
CREATED:20250602T222712Z
LAST-MODIFIED:20250602T222744Z
UID:244716-1752919200-1752944400@shinesedona.com
SUMMARY:Restorative Reiki Session w/ Barbie Maraviov
DESCRIPTION:
URL:https://shinesedona.com/event/restorative-reiki-session-w-barbie-maraviov-719/
CATEGORIES:Expand,Heal,Sessions
ATTACH;FMTTYPE=image/jpeg:https://shinesedona.com/wp-content/uploads/2025/05/Reiki-image.jpg
END:VEVENT
BEGIN:VEVENT
DTSTART;TZID=UTC:20250718T100000
DTEND;TZID=UTC:20250718T170000
DTSTAMP:20260423T130136
CREATED:20250602T222340Z
LAST-MODIFIED:20250602T222351Z
UID:244715-1752832800-1752858000@shinesedona.com
SUMMARY:Restorative Reiki Session w/ Barbie Maraviov
DESCRIPTION:
URL:https://shinesedona.com/event/restorative-reiki-session-w-barbie-maraviov-718/
CATEGORIES:Expand,Heal,Sessions
ATTACH;FMTTYPE=image/jpeg:https://shinesedona.com/wp-content/uploads/2025/05/Reiki-image.jpg
END:VEVENT
BEGIN:VEVENT
DTSTART;TZID=UTC:20250713T100000
DTEND;TZID=UTC:20250713T170000
DTSTAMP:20260423T130136
CREATED:20250602T222209Z
LAST-MODIFIED:20250602T222225Z
UID:244714-1752400800-1752426000@shinesedona.com
SUMMARY:Restorative Reiki Session w/ Barbie Maraviov
DESCRIPTION:
URL:https://shinesedona.com/event/restorative-reiki-session-w-barbie-maraviov-713-2/
CATEGORIES:Expand,Heal,Sessions
ATTACH;FMTTYPE=image/jpeg:https://shinesedona.com/wp-content/uploads/2025/05/Reiki-image.jpg
END:VEVENT
BEGIN:VEVENT
DTSTART;TZID=UTC:20250712T180000
DTEND;TZID=UTC:20250712T190000
DTSTAMP:20260423T130136
CREATED:20250603T180113Z
LAST-MODIFIED:20250603T180127Z
UID:244723-1752343200-1752346800@shinesedona.com
SUMMARY:Cosmic Gong Bath Experience w/ Issa Wilson
DESCRIPTION:
URL:https://shinesedona.com/event/cosmic-gong-bath-experience-w-issa-wilson-712/
CATEGORIES:Events,Expand,Heal
ATTACH;FMTTYPE=image/png:https://shinesedona.com/wp-content/uploads/2024/06/Screenshot-2024-06-04-at-12.00.32 PM.png
END:VEVENT
BEGIN:VEVENT
DTSTART;TZID=UTC:20250712T100000
DTEND;TZID=UTC:20250712T170000
DTSTAMP:20260423T130136
CREATED:20250602T222046Z
LAST-MODIFIED:20250602T222058Z
UID:244713-1752314400-1752339600@shinesedona.com
SUMMARY:Restorative Reiki Session w/ Barbie Maraviov
DESCRIPTION:
URL:https://shinesedona.com/event/restorative-reiki-session-w-barbie-maraviov-712/
CATEGORIES:Expand,Heal,Sessions
ATTACH;FMTTYPE=image/jpeg:https://shinesedona.com/wp-content/uploads/2025/05/Reiki-image.jpg
END:VEVENT
BEGIN:VEVENT
DTSTART;TZID=UTC:20250711T180000
DTEND;TZID=UTC:20250711T193000
DTSTAMP:20260423T130136
CREATED:20250606T223158Z
LAST-MODIFIED:20250606T223214Z
UID:244727-1752256800-1752262200@shinesedona.com
SUMMARY:Sound Healing Ceremony w/ Devani Paige
DESCRIPTION:
URL:https://shinesedona.com/event/sound-healing-ceremony-w-devani-paige-71125/
CATEGORIES:Events,Expand,Heal
ATTACH;FMTTYPE=image/jpeg:https://shinesedona.com/wp-content/uploads/2025/05/Devani-square-image-w-flutes-.jpg
END:VEVENT
BEGIN:VEVENT
DTSTART;TZID=UTC:20250711T100000
DTEND;TZID=UTC:20250711T170000
DTSTAMP:20260423T130136
CREATED:20250602T221921Z
LAST-MODIFIED:20250602T221931Z
UID:244712-1752228000-1752253200@shinesedona.com
SUMMARY:Restorative Reiki Session w/ Barbie Maraviov
DESCRIPTION:
URL:https://shinesedona.com/event/restorative-reiki-session-w-barbie-maraviov-711/
CATEGORIES:Expand,Heal,Sessions
ATTACH;FMTTYPE=image/jpeg:https://shinesedona.com/wp-content/uploads/2025/05/Reiki-image.jpg
END:VEVENT
BEGIN:VEVENT
DTSTART;TZID=UTC:20250710T180000
DTEND;TZID=UTC:20250710T193000
DTSTAMP:20260423T130136
CREATED:20250508T202249Z
LAST-MODIFIED:20250508T202249Z
UID:244630-1752170400-1752175800@shinesedona.com
SUMMARY:Journey to the Heart - A Mystical Sound Experience w/ Gentle Thunder
DESCRIPTION:
URL:https://shinesedona.com/event/journey-to-the-heart-a-mystical-sound-experience-w-gentle-thunder/
CATEGORIES:Events,Expand,Heal
ATTACH;FMTTYPE=image/jpeg:https://shinesedona.com/wp-content/uploads/2024/11/Gentle-Thunder-drum-square-image.jpg
END:VEVENT
BEGIN:VEVENT
DTSTART;TZID=UTC:20250705T180000
DTEND;TZID=UTC:20250705T193000
DTSTAMP:20260423T130136
CREATED:20250506T194615Z
LAST-MODIFIED:20250506T194637Z
UID:244624-1751738400-1751743800@shinesedona.com
SUMMARY:Sacred Sound Journey w/ Cheryl Bailey
DESCRIPTION:
URL:https://shinesedona.com/event/sacred-sound-journey-w-cheryl-bailey-75/
CATEGORIES:Events,Expand,Heal
ATTACH;FMTTYPE=image/jpeg:https://shinesedona.com/wp-content/uploads/2024/11/Cheryl-Bailey-new-bio-image.jpg
END:VEVENT
BEGIN:VEVENT
DTSTART;TZID=UTC:20250705T100000
DTEND;TZID=UTC:20250705T170000
DTSTAMP:20260423T130136
CREATED:20250503T234238Z
LAST-MODIFIED:20250503T234250Z
UID:244599-1751709600-1751734800@shinesedona.com
SUMMARY:Restorative Reiki Session w/ Barbie Maraviov
DESCRIPTION:
URL:https://shinesedona.com/event/restorative-reiki-session-w-barbie-maraviov-75/
CATEGORIES:Expand,Heal,Sessions
ATTACH;FMTTYPE=image/jpeg:https://shinesedona.com/wp-content/uploads/2025/05/Reiki-image.jpg
END:VEVENT
BEGIN:VEVENT
DTSTART;TZID=UTC:20250703T180000
DTEND;TZID=UTC:20250703T203000
DTSTAMP:20260423T130136
CREATED:20250506T005813Z
LAST-MODIFIED:20250506T005826Z
UID:244617-1751565600-1751574600@shinesedona.com
SUMMARY:Shamangelic Breathwork Ceremony w/ Anahata Ananda
DESCRIPTION:
URL:https://shinesedona.com/event/shamangelic-breathwork-ceremony-w-anahata-ananda-7325/
CATEGORIES:Events,Expand,Heal
ATTACH;FMTTYPE=image/jpeg:https://shinesedona.com/wp-content/uploads/2024/04/breathwork-image-square-new.jpg
END:VEVENT
END:VCALENDAR