BEGIN:VCALENDAR
VERSION:2.0
PRODID:-//Shine Sanctuary Sedona - ECPv6.15.20//NONSGML v1.0//EN
CALSCALE:GREGORIAN
METHOD:PUBLISH
X-WR-CALNAME:Shine Sanctuary Sedona
X-ORIGINAL-URL:https://shinesedona.com
X-WR-CALDESC:Events for Shine Sanctuary Sedona
REFRESH-INTERVAL;VALUE=DURATION:PT1H
X-Robots-Tag:noindex
X-PUBLISHED-TTL:PT1H
BEGIN:VTIMEZONE
TZID:UTC
BEGIN:STANDARD
TZOFFSETFROM:+0000
TZOFFSETTO:+0000
TZNAME:UTC
DTSTART:20240101T000000
END:STANDARD
END:VTIMEZONE
BEGIN:VEVENT
DTSTART;TZID=UTC:20250227T120000
DTEND;TZID=UTC:20250227T170000
DTSTAMP:20260421T165247
CREATED:20250127T214856Z
LAST-MODIFIED:20250214T215349Z
UID:244190-1740657600-1740675600@shinesedona.com
SUMMARY:Reiki Healing Session w/ Sandy Gassett
DESCRIPTION:
URL:https://shinesedona.com/event/reiki-healing-session-w-sandy-gassett-22725/
CATEGORIES:Expand,Heal,Sessions
ATTACH;FMTTYPE=image/jpeg:https://shinesedona.com/wp-content/uploads/2023/08/Sandy-in-healing-womb-square-image.jpg
END:VEVENT
BEGIN:VEVENT
DTSTART;TZID=UTC:20250228T100000
DTEND;TZID=UTC:20250228T170000
DTSTAMP:20260421T165247
CREATED:20241213T194756Z
LAST-MODIFIED:20241213T194809Z
UID:243880-1740736800-1740762000@shinesedona.com
SUMMARY:Restorative Reiki Session w/ Barbie Maraviov
DESCRIPTION:
URL:https://shinesedona.com/event/restorative-reiki-session-w-barbie-maraviov-22825/
CATEGORIES:Expand,Heal,Sessions
ATTACH;FMTTYPE=image/jpeg:https://shinesedona.com/wp-content/uploads/2024/06/Reiki-image.jpg
END:VEVENT
BEGIN:VEVENT
DTSTART;TZID=UTC:20250301T100000
DTEND;TZID=UTC:20250301T170000
DTSTAMP:20260421T165247
CREATED:20250221T182447Z
LAST-MODIFIED:20250221T182456Z
UID:244314-1740823200-1740848400@shinesedona.com
SUMMARY:Shamanic Healing Journey & Intuitive Guidance Session w/ Abigail Earthshine
DESCRIPTION:
URL:https://shinesedona.com/event/shamanic-healing-journey-intuitive-guidance-session-w-abigail-earthshine-3125/
CATEGORIES:Expand,Heal,Sessions
ATTACH;FMTTYPE=image/jpeg:https://shinesedona.com/wp-content/uploads/2024/08/Abigail-square-image-1-1-scaled.jpg
END:VEVENT
BEGIN:VEVENT
DTSTART;TZID=UTC:20250301T180000
DTEND;TZID=UTC:20250301T193000
DTSTAMP:20260421T165247
CREATED:20250118T235144Z
LAST-MODIFIED:20250118T235153Z
UID:244096-1740852000-1740857400@shinesedona.com
SUMMARY:Sacred Sound Journey w/ Cheryl Bailey
DESCRIPTION:
URL:https://shinesedona.com/event/sacred-sound-journey-w-cheryl-bailey-3125/
CATEGORIES:Events,Expand,Heal
ATTACH;FMTTYPE=image/jpeg:https://shinesedona.com/wp-content/uploads/2024/06/cheryl-bailey-new-square-image.jpg
END:VEVENT
BEGIN:VEVENT
DTSTART;TZID=UTC:20250302T100000
DTEND;TZID=UTC:20250302T170000
DTSTAMP:20260421T165247
CREATED:20250221T175614Z
LAST-MODIFIED:20250221T175623Z
UID:244307-1740909600-1740934800@shinesedona.com
SUMMARY:Restorative Reiki Session w/ Barbie Maraviov
DESCRIPTION:
URL:https://shinesedona.com/event/restorative-reiki-session-w-barbie-maraviov-3225/
CATEGORIES:Expand,Heal,Sessions
ATTACH;FMTTYPE=image/jpeg:https://shinesedona.com/wp-content/uploads/2024/06/Reiki-image.jpg
END:VEVENT
BEGIN:VEVENT
DTSTART;TZID=UTC:20250305T131500
DTEND;TZID=UTC:20250305T170000
DTSTAMP:20260421T165247
CREATED:20250221T183817Z
LAST-MODIFIED:20250227T212230Z
UID:244318-1741180500-1741194000@shinesedona.com
SUMMARY:Intuitive Soul Session & Energy Clearing w/ Joy Gabriel
DESCRIPTION:
URL:https://shinesedona.com/event/intuitive-soul-session-energy-clearing-w-joy-gabriel-3525/
CATEGORIES:Expand,Heal,Sessions
ATTACH;FMTTYPE=image/png:https://shinesedona.com/wp-content/uploads/2024/09/Screenshot-2024-09-17-at-5.39.59 PM.png
END:VEVENT
BEGIN:VEVENT
DTSTART;TZID=UTC:20250306T180000
DTEND;TZID=UTC:20250306T193000
DTSTAMP:20260421T165247
CREATED:20250129T173541Z
LAST-MODIFIED:20250228T193056Z
UID:244204-1741284000-1741289400@shinesedona.com
SUMMARY:Journey to The Heart - A Transformational Sound Experience w/ Gentle Thunder
DESCRIPTION:
URL:https://shinesedona.com/event/journey-to-the-heart-a-transformational-sound-experience-w-gentle-thunder-3635/
CATEGORIES:Events,Expand,Heal
END:VEVENT
BEGIN:VEVENT
DTSTART;TZID=UTC:20250307T100000
DTEND;TZID=UTC:20250307T170000
DTSTAMP:20260421T165247
CREATED:20250122T232836Z
LAST-MODIFIED:20250122T232844Z
UID:244135-1741341600-1741366800@shinesedona.com
SUMMARY:Angelic Reading & Reiki Session w/ Amanda Shannon
DESCRIPTION:
URL:https://shinesedona.com/event/angelic-reading-reiki-session-w-amanda-shannon-3725/
CATEGORIES:Expand,Heal,Learn,Sessions
ATTACH;FMTTYPE=image/jpeg:https://shinesedona.com/wp-content/uploads/2023/08/angelic-hands-1.jpg
END:VEVENT
BEGIN:VEVENT
DTSTART;TZID=UTC:20250308T100000
DTEND;TZID=UTC:20250308T170000
DTSTAMP:20260421T165247
CREATED:20250221T182615Z
LAST-MODIFIED:20250221T182625Z
UID:244315-1741428000-1741453200@shinesedona.com
SUMMARY:Shamanic Healing Journey & Intuitive Guidance Session w/ Abigail Earthshine
DESCRIPTION:
URL:https://shinesedona.com/event/shamanic-healing-journey-intuitive-guidance-session-w-abigail-earthshine-3825/
CATEGORIES:Expand,Heal,Sessions
ATTACH;FMTTYPE=image/jpeg:https://shinesedona.com/wp-content/uploads/2024/08/Abigail-square-image-1-1-scaled.jpg
END:VEVENT
BEGIN:VEVENT
DTSTART;TZID=UTC:20250308T120000
DTEND;TZID=UTC:20250308T143000
DTSTAMP:20260421T165247
CREATED:20250116T233606Z
LAST-MODIFIED:20250116T233617Z
UID:244073-1741435200-1741444200@shinesedona.com
SUMMARY:Shamangelic Breathwork Community Ceremony w/ Anahata Ananda
DESCRIPTION:
URL:https://shinesedona.com/event/shamangelic-breathwork-community-ceremony-w-anahata-ananda-3-8-25/
CATEGORIES:Events,Expand,Heal
ATTACH;FMTTYPE=image/jpeg:https://shinesedona.com/wp-content/uploads/2024/04/breathwork-image-square-new.jpg
END:VEVENT
BEGIN:VEVENT
DTSTART;TZID=UTC:20250308T170000
DTEND;TZID=UTC:20250308T193000
DTSTAMP:20260421T165247
CREATED:20250116T233755Z
LAST-MODIFIED:20250116T233804Z
UID:244074-1741453200-1741462200@shinesedona.com
SUMMARY:Shamangelic Breathwork Community Ceremony w/ Anahata Ananda
DESCRIPTION:
URL:https://shinesedona.com/event/shamangelic-breathwork-community-ceremony-w-anahata-ananda-3825-5pm/
CATEGORIES:Events,Expand,Heal
ATTACH;FMTTYPE=image/jpeg:https://shinesedona.com/wp-content/uploads/2024/04/breathwork-image-square-new.jpg
END:VEVENT
BEGIN:VEVENT
DTSTART;TZID=UTC:20250309T100000
DTEND;TZID=UTC:20250309T170000
DTSTAMP:20260421T165247
CREATED:20250221T175806Z
LAST-MODIFIED:20250221T175817Z
UID:244308-1741514400-1741539600@shinesedona.com
SUMMARY:Restorative Reiki Session w/ Barbie Maraviov
DESCRIPTION:
URL:https://shinesedona.com/event/restorative-reiki-session-w-barbie-maraviov-3925/
CATEGORIES:Expand,Heal,Sessions
ATTACH;FMTTYPE=image/jpeg:https://shinesedona.com/wp-content/uploads/2024/06/Reiki-image.jpg
END:VEVENT
BEGIN:VEVENT
DTSTART;TZID=UTC:20250309T120000
DTEND;TZID=UTC:20250309T143000
DTSTAMP:20260421T165247
CREATED:20250116T234829Z
LAST-MODIFIED:20250116T234844Z
UID:244078-1741521600-1741530600@shinesedona.com
SUMMARY:Shamangelic Breathwork Community Ceremony w/ Anahata Ananda
DESCRIPTION:
URL:https://shinesedona.com/event/shamangelic-breathwork-community-ceremony-with-anahata-ananda-39noon/
CATEGORIES:Events,Expand,Heal
ATTACH;FMTTYPE=image/jpeg:https://shinesedona.com/wp-content/uploads/2024/04/breathwork-image-square-new.jpg
END:VEVENT
BEGIN:VEVENT
DTSTART;TZID=UTC:20250309T170000
DTEND;TZID=UTC:20250309T193000
DTSTAMP:20260421T165247
CREATED:20250116T234955Z
LAST-MODIFIED:20250116T235730Z
UID:244079-1741539600-1741548600@shinesedona.com
SUMMARY:Shamangelic Breathwork Community Ceremony w/ Anahata Ananda
DESCRIPTION:
URL:https://shinesedona.com/event/shamangelic-breathwork-community-ceremony-w-anahata-ananda-395pm/
CATEGORIES:Events,Expand,Heal
ATTACH;FMTTYPE=image/jpeg:https://shinesedona.com/wp-content/uploads/2024/04/breathwork-image-square-new.jpg
END:VEVENT
BEGIN:VEVENT
DTSTART;TZID=UTC:20250310T100000
DTEND;TZID=UTC:20250310T170000
DTSTAMP:20260421T165247
CREATED:20250222T002339Z
LAST-MODIFIED:20250222T002349Z
UID:244323-1741600800-1741626000@shinesedona.com
SUMMARY:Cellular Mind Body Reset Session
DESCRIPTION:
URL:https://shinesedona.com/event/cellular-mind-body-reset-session-31025/
CATEGORIES:Expand,Sessions
ATTACH;FMTTYPE=image/jpeg:https://shinesedona.com/wp-content/uploads/2024/09/Cellular-Reset-square-image.jpg
END:VEVENT
BEGIN:VEVENT
DTSTART;TZID=UTC:20250311T100000
DTEND;TZID=UTC:20250311T170000
DTSTAMP:20260421T165247
CREATED:20250222T002509Z
LAST-MODIFIED:20250222T002518Z
UID:244324-1741687200-1741712400@shinesedona.com
SUMMARY:Cellular Mind Body Reset Session
DESCRIPTION:
URL:https://shinesedona.com/event/cellular-mind-body-reset-session-31125/
CATEGORIES:Expand,Sessions
ATTACH;FMTTYPE=image/jpeg:https://shinesedona.com/wp-content/uploads/2024/09/Cellular-Reset-square-image.jpg
END:VEVENT
BEGIN:VEVENT
DTSTART;TZID=UTC:20250312T100000
DTEND;TZID=UTC:20250312T170000
DTSTAMP:20260421T165247
CREATED:20241212T165429Z
LAST-MODIFIED:20241212T165438Z
UID:243846-1741773600-1741798800@shinesedona.com
SUMMARY:Energy Clearing & Chakra Balancing Session w/ Joy Gabriel
DESCRIPTION:
URL:https://shinesedona.com/event/energy-clearing-chakra-balancing-session-w-joy-gabriel-31225/
CATEGORIES:Expand,Heal,Sessions
ATTACH;FMTTYPE=image/jpeg:https://shinesedona.com/wp-content/uploads/2024/12/chakra-with-hands.jpg
END:VEVENT
BEGIN:VEVENT
DTSTART;TZID=UTC:20250312T180000
DTEND;TZID=UTC:20250312T193000
DTSTAMP:20260421T165247
CREATED:20250117T175911Z
LAST-MODIFIED:20250117T175920Z
UID:244089-1741802400-1741807800@shinesedona.com
SUMMARY:Sacred Cacao Heart Opening Ceremony Led by Anahata Ananda
DESCRIPTION:
URL:https://shinesedona.com/event/sacred-cacao-heart-opening-ceremony-led-by-anahata-ananda-312/
CATEGORIES:Events,Expand,Heal
ATTACH;FMTTYPE=image/jpeg:https://shinesedona.com/wp-content/uploads/2024/08/cacao-sound-athena.jpg
END:VEVENT
BEGIN:VEVENT
DTSTART;TZID=UTC:20250313T100000
DTEND;TZID=UTC:20250313T170000
DTSTAMP:20260421T165247
CREATED:20241212T165534Z
LAST-MODIFIED:20241212T165545Z
UID:243847-1741860000-1741885200@shinesedona.com
SUMMARY:Energy Clearing & Chakra Balancing Session w/ Joy Gabriel
DESCRIPTION:
URL:https://shinesedona.com/event/energy-clearing-chakra-balancing-session-w-joy-gabriel-31325/
CATEGORIES:Expand,Heal,Sessions
ATTACH;FMTTYPE=image/jpeg:https://shinesedona.com/wp-content/uploads/2024/12/chakra-with-hands.jpg
END:VEVENT
BEGIN:VEVENT
DTSTART;TZID=UTC:20250313T170000
DTEND;TZID=UTC:20250313T181500
DTSTAMP:20260421T165247
CREATED:20241108T171439Z
LAST-MODIFIED:20241108T171449Z
UID:243422-1741885200-1741889700@shinesedona.com
SUMMARY:Sound Healing Journey with Isabella Rivera
DESCRIPTION:
URL:https://shinesedona.com/event/sound-healing-journey-with-isabella-rivera-31325/
CATEGORIES:Events,Expand,Heal
ATTACH;FMTTYPE=image/jpeg:https://shinesedona.com/wp-content/uploads/2024/11/Bella-square-image-facilitation-left-.jpg
END:VEVENT
BEGIN:VEVENT
DTSTART;TZID=UTC:20250313T170000
DTEND;TZID=UTC:20250316T190000
DTSTAMP:20260421T165247
CREATED:20241108T175142Z
LAST-MODIFIED:20241108T175142Z
UID:243428-1741885200-1742151600@shinesedona.com
SUMMARY:Sound Bath Practitioner Training & Certification Immersion in Sedona w/ Bella Rivera
DESCRIPTION:
URL:https://shinesedona.com/event/sound-bath-practitioner-training-certification-immersion-in-sedona-w-bella-rivera/
CATEGORIES:Events,Expand,Heal,Learn
ATTACH;FMTTYPE=image/png:https://shinesedona.com/wp-content/uploads/2024/11/Screenshot-2024-11-05-at-2.54.14 PM.png
END:VEVENT
BEGIN:VEVENT
DTSTART;TZID=UTC:20250314T100000
DTEND;TZID=UTC:20250314T170000
DTSTAMP:20260421T165247
CREATED:20250220T193930Z
LAST-MODIFIED:20250220T194321Z
UID:244295-1741946400-1741971600@shinesedona.com
SUMMARY:Angelic Reading & Reiki Session w/ Amanda Shannon
DESCRIPTION:
URL:https://shinesedona.com/event/angelic-reading-reiki-session-w-amanda-shannon-31425/
CATEGORIES:Expand,Heal,Sessions
ATTACH;FMTTYPE=image/jpeg:https://shinesedona.com/wp-content/uploads/2023/08/angelic-hands-1.jpg
END:VEVENT
BEGIN:VEVENT
DTSTART;TZID=UTC:20250315T100000
DTEND;TZID=UTC:20250315T170000
DTSTAMP:20260421T165247
CREATED:20241212T165745Z
LAST-MODIFIED:20241212T165754Z
UID:243849-1742032800-1742058000@shinesedona.com
SUMMARY:Energy Clearing & Chakra Balancing Session w/ Joy Gabriel
DESCRIPTION:
URL:https://shinesedona.com/event/energy-clearing-chakra-balancing-session-w-joy-gabriel-31525/
CATEGORIES:Expand,Heal,Sessions
ATTACH;FMTTYPE=image/jpeg:https://shinesedona.com/wp-content/uploads/2024/12/chakra-with-hands.jpg
END:VEVENT
BEGIN:VEVENT
DTSTART;TZID=UTC:20250316T100000
DTEND;TZID=UTC:20250316T170000
DTSTAMP:20260421T165247
CREATED:20241212T165846Z
LAST-MODIFIED:20241212T165856Z
UID:243850-1742119200-1742144400@shinesedona.com
SUMMARY:Energy Clearing & Chakra Balancing Session w/ Joy Gabriel
DESCRIPTION:
URL:https://shinesedona.com/event/energy-clearing-chakra-balancing-session-w-joy-gabriel-31625/
CATEGORIES:Expand,Heal,Sessions
ATTACH;FMTTYPE=image/jpeg:https://shinesedona.com/wp-content/uploads/2024/12/chakra-with-hands.jpg
END:VEVENT
BEGIN:VEVENT
DTSTART;TZID=UTC:20250316T170000
DTEND;TZID=UTC:20250316T181500
DTSTAMP:20260421T165247
CREATED:20241108T174015Z
LAST-MODIFIED:20241108T174015Z
UID:243425-1742144400-1742148900@shinesedona.com
SUMMARY:Sound Healing Journey w/ Isabella Rivera & Friends
DESCRIPTION:
URL:https://shinesedona.com/event/sound-healing-journey-w-isabella-rivera-friends/
CATEGORIES:Events,Expand,Heal
ATTACH;FMTTYPE=image/png:https://shinesedona.com/wp-content/uploads/2024/11/Screenshot-2024-11-05-at-3.07.21 PM.png
END:VEVENT
BEGIN:VEVENT
DTSTART;TZID=UTC:20250317T100000
DTEND;TZID=UTC:20250317T170000
DTSTAMP:20260421T165247
CREATED:20241212T170000Z
LAST-MODIFIED:20241212T170010Z
UID:243851-1742205600-1742230800@shinesedona.com
SUMMARY:Energy Clearing & Chakra Balancing Session w/ Joy Gabriel
DESCRIPTION:
URL:https://shinesedona.com/event/energy-clearing-chakra-balancing-session-w-joy-gabriel-31725/
CATEGORIES:Expand,Heal,Sessions
ATTACH;FMTTYPE=image/jpeg:https://shinesedona.com/wp-content/uploads/2024/12/chakra-with-hands.jpg
END:VEVENT
BEGIN:VEVENT
DTSTART;TZID=UTC:20250317T180000
DTEND;TZID=UTC:20250317T193000
DTSTAMP:20260421T165247
CREATED:20250120T224249Z
LAST-MODIFIED:20250120T224258Z
UID:244112-1742234400-1742239800@shinesedona.com
SUMMARY:Sound Healing Ceremony w/ Devani Paige
DESCRIPTION:
URL:https://shinesedona.com/event/sound-healing-ceremony-w-devani-paige-31725/
CATEGORIES:Events,Expand,Heal
ATTACH;FMTTYPE=image/jpeg:https://shinesedona.com/wp-content/uploads/2023/04/Devani-square-image-w-flutes-.jpg
END:VEVENT
BEGIN:VEVENT
DTSTART;TZID=UTC:20250318T100000
DTEND;TZID=UTC:20250318T170000
DTSTAMP:20260421T165247
CREATED:20250222T002635Z
LAST-MODIFIED:20250222T002643Z
UID:244326-1742292000-1742317200@shinesedona.com
SUMMARY:Cellular Mind Body Reset Session
DESCRIPTION:
URL:https://shinesedona.com/event/cellular-mind-body-reset-session-31825/
CATEGORIES:Expand,Sessions
ATTACH;FMTTYPE=image/jpeg:https://shinesedona.com/wp-content/uploads/2024/09/Cellular-Reset-square-image.jpg
END:VEVENT
BEGIN:VEVENT
DTSTART;TZID=UTC:20250318T180000
DTEND;TZID=UTC:20250318T193000
DTSTAMP:20260421T165247
CREATED:20250119T184826Z
LAST-MODIFIED:20250119T184826Z
UID:244109-1742320800-1742326200@shinesedona.com
SUMMARY:Circular Connected Breathwork w/ Sound Journey Integration led by Cheryl Bailey
DESCRIPTION:
URL:https://shinesedona.com/event/circular-connected-breathwork-w-sound-journey-integration-led-by-cheryl-bailey/
CATEGORIES:Events,Expand,Heal
END:VEVENT
BEGIN:VEVENT
DTSTART;TZID=UTC:20250319T100000
DTEND;TZID=UTC:20250319T170000
DTSTAMP:20260421T165247
CREATED:20250221T183948Z
LAST-MODIFIED:20250221T183959Z
UID:244319-1742378400-1742403600@shinesedona.com
SUMMARY:Intuitive Soul Session & Energy Clearing w/ Joy Gabriel
DESCRIPTION:
URL:https://shinesedona.com/event/intuitive-soul-session-energy-clearing-w-joy-gabriel-31925/
CATEGORIES:Expand,Heal,Sessions
ATTACH;FMTTYPE=image/png:https://shinesedona.com/wp-content/uploads/2024/09/Screenshot-2024-09-17-at-5.39.59 PM.png
END:VEVENT
END:VCALENDAR