BEGIN:VCALENDAR
VERSION:2.0
PRODID:-//Shine Sanctuary Sedona - ECPv6.15.20//NONSGML v1.0//EN
CALSCALE:GREGORIAN
METHOD:PUBLISH
X-ORIGINAL-URL:https://shinesedona.com
X-WR-CALDESC:Events for Shine Sanctuary Sedona
REFRESH-INTERVAL;VALUE=DURATION:PT1H
X-Robots-Tag:noindex
X-PUBLISHED-TTL:PT1H
BEGIN:VTIMEZONE
TZID:UTC
BEGIN:STANDARD
TZOFFSETFROM:+0000
TZOFFSETTO:+0000
TZNAME:UTC
DTSTART:20230101T000000
END:STANDARD
END:VTIMEZONE
BEGIN:VEVENT
DTSTART;TZID=UTC:20240525T180000
DTEND;TZID=UTC:20240525T203000
DTSTAMP:20260422T104200
CREATED:20240504T200221Z
LAST-MODIFIED:20240504T200308Z
UID:241598-1716660000-1716669000@shinesedona.com
SUMMARY:Shamangelic Breathwork Ceremony w/ Anahata Ananda
DESCRIPTION:
URL:https://shinesedona.com/event/shamangelic-breathwork-ceremony-w-anahata-ananda-525/
CATEGORIES:Events,Expand,Heal
ATTACH;FMTTYPE=image/jpeg:https://shinesedona.com/wp-content/uploads/2024/04/breathwork-image-square-new.jpg
END:VEVENT
BEGIN:VEVENT
DTSTART;TZID=UTC:20240526T100000
DTEND;TZID=UTC:20240526T170000
DTSTAMP:20260422T104200
CREATED:20240410T173213Z
LAST-MODIFIED:20240410T173222Z
UID:241372-1716717600-1716742800@shinesedona.com
SUMMARY:Soul Guidance Session w/ Steph Struthers
DESCRIPTION:
URL:https://shinesedona.com/event/soul-guidance-session-w-steph-struthers-526/
CATEGORIES:Expand,Heal,Learn
END:VEVENT
BEGIN:VEVENT
DTSTART;TZID=UTC:20240526T170000
DTEND;TZID=UTC:20240526T183000
DTSTAMP:20260422T104200
CREATED:20240403T175248Z
LAST-MODIFIED:20240403T175255Z
UID:241267-1716742800-1716748200@shinesedona.com
SUMMARY:Sound Immersion Ceremony w/ Tiana Yvonne
DESCRIPTION:
URL:https://shinesedona.com/event/sound-immersion-ceremony-w-tiana-yvonne-526/
CATEGORIES:Events,Expand,Heal
END:VEVENT
BEGIN:VEVENT
DTSTART;TZID=UTC:20240529T170000
DTEND;TZID=UTC:20240529T190000
DTSTAMP:20260422T104200
CREATED:20240503T215117Z
LAST-MODIFIED:20240503T215117Z
UID:241592-1717002000-1717009200@shinesedona.com
SUMMARY:Womb Healing & Activation Workshop w/ Anahata Ananda
DESCRIPTION:
URL:https://shinesedona.com/event/womb-healing-activation-workshop-w-anahata-ananda/
CATEGORIES:Events,Expand,Heal,Learn
ATTACH;FMTTYPE=image/jpeg:https://shinesedona.com/wp-content/uploads/2024/04/womb-healing-square-image.jpg
END:VEVENT
BEGIN:VEVENT
DTSTART;TZID=UTC:20240529T170000
DTEND;TZID=UTC:20240529T190000
DTSTAMP:20260422T104200
CREATED:20240503T215454Z
LAST-MODIFIED:20240503T215540Z
UID:241594-1717002000-1717009200@shinesedona.com
SUMMARY:Livestream Option – Womb Healing & Activation Workshop w/ Anahata Ananda
DESCRIPTION:
URL:https://shinesedona.com/event/livestream-option-womb-healing-activation-workshop-w-anahata-ananda/
CATEGORIES:Events,Expand,Heal,Learn,Livestream
ATTACH;FMTTYPE=image/jpeg:https://shinesedona.com/wp-content/uploads/2024/04/womb-healing-square-image.jpg
END:VEVENT
BEGIN:VEVENT
DTSTART;TZID=UTC:20240530T180000
DTEND;TZID=UTC:20240530T200000
DTSTAMP:20260422T104200
CREATED:20240306T232514Z
LAST-MODIFIED:20240306T232522Z
UID:241204-1717092000-1717099200@shinesedona.com
SUMMARY:Breath is Prayer Ceremony w/ Gwen Payne
DESCRIPTION:
URL:https://shinesedona.com/event/breath-is-prayer-ceremony-w-gwen-payne-530/
CATEGORIES:Events,Expand,Heal
ATTACH;FMTTYPE=image/jpeg:https://shinesedona.com/wp-content/uploads/2022/09/Breath-is-prayer-ceremony.jpg
END:VEVENT
BEGIN:VEVENT
DTSTART;TZID=UTC:20240601T100000
DTEND;TZID=UTC:20240601T170000
DTSTAMP:20260422T104200
CREATED:20240409T212642Z
LAST-MODIFIED:20240409T212649Z
UID:241352-1717236000-1717261200@shinesedona.com
SUMMARY:Restorative Reiki Session w/ Barbie Maraviov
DESCRIPTION:
URL:https://shinesedona.com/event/restorative-reiki-session-w-barbie-maraviov-61/
CATEGORIES:Expand,Heal,Sessions
ATTACH;FMTTYPE=image/jpeg:https://shinesedona.com/wp-content/uploads/2023/06/heal-golden-hands-700-square-image.jpg
END:VEVENT
BEGIN:VEVENT
DTSTART;TZID=UTC:20240607T180000
DTEND;TZID=UTC:20240607T203000
DTSTAMP:20260422T104200
CREATED:20240514T213820Z
LAST-MODIFIED:20240528T164202Z
UID:241616-1717783200-1717792200@shinesedona.com
SUMMARY:ReWilding Breath and Voice Experience w/ Earthshine & Jared
DESCRIPTION:
URL:https://shinesedona.com/event/rewilding-breath-and-voice-workshop-experience-w-earthshine-abigail/
CATEGORIES:Events,Expand,Heal,Learn
ATTACH;FMTTYPE=image/jpeg:https://shinesedona.com/wp-content/uploads/2024/05/Earthshine-event-image-square.jpg
END:VEVENT
BEGIN:VEVENT
DTSTART;TZID=UTC:20240614T180000
DTEND;TZID=UTC:20240614T193000
DTSTAMP:20260422T104200
CREATED:20240605T164452Z
LAST-MODIFIED:20240605T164502Z
UID:241728-1718388000-1718393400@shinesedona.com
SUMMARY:Sound Healing Ceremony w/ Devani Paige
DESCRIPTION:
URL:https://shinesedona.com/event/sound-healing-ceremony-w-devani-paige-614/
CATEGORIES:Events,Expand,Heal
ATTACH;FMTTYPE=image/jpeg:https://shinesedona.com/wp-content/uploads/2023/04/Devani-square-image-w-flutes-.jpg
END:VEVENT
BEGIN:VEVENT
DTSTART;TZID=UTC:20240615T100000
DTEND;TZID=UTC:20240615T170000
DTSTAMP:20260422T104200
CREATED:20240607T223744Z
LAST-MODIFIED:20240607T230821Z
UID:241835-1718445600-1718470800@shinesedona.com
SUMMARY:Restorative Reiki Session w/ Barbie Maraviov
DESCRIPTION:
URL:https://shinesedona.com/event/restorative-reiki-session-w-barbie-6-15/
CATEGORIES:Expand,Heal,Sessions
ATTACH;FMTTYPE=image/jpeg:https://shinesedona.com/wp-content/uploads/2024/06/Reiki-image.jpg
END:VEVENT
BEGIN:VEVENT
DTSTART;TZID=UTC:20240616T100000
DTEND;TZID=UTC:20240616T170000
DTSTAMP:20260422T104200
CREATED:20240607T224747Z
LAST-MODIFIED:20240607T224758Z
UID:241838-1718532000-1718557200@shinesedona.com
SUMMARY:Restorative Reiki Session w/ Barbie Maraviov
DESCRIPTION:
URL:https://shinesedona.com/event/restorative-reiki-session-w-barbie-maraviov-616/
CATEGORIES:Expand,Heal,Sessions
ATTACH;FMTTYPE=image/jpeg:https://shinesedona.com/wp-content/uploads/2024/06/Reiki-image.jpg
END:VEVENT
BEGIN:VEVENT
DTSTART;TZID=UTC:20240620T183000
DTEND;TZID=UTC:20240620T203000
DTSTAMP:20260422T104200
CREATED:20240529T212428Z
LAST-MODIFIED:20240618T170443Z
UID:241641-1718908200-1718915400@shinesedona.com
SUMMARY:Summer Solstice Event ~ Ceremonial Cacao & Sound Journey w/ Athena & Elohim
DESCRIPTION:
URL:https://shinesedona.com/event/june-solstice-event-ceremonial-cacao-sound-journey-w-athena-michelle/
CATEGORIES:Events,Expand,Heal
END:VEVENT
BEGIN:VEVENT
DTSTART;TZID=UTC:20240621T180000
DTEND;TZID=UTC:20240621T203000
DTSTAMP:20260422T104200
CREATED:20240605T191405Z
LAST-MODIFIED:20240605T191419Z
UID:241736-1718992800-1719001800@shinesedona.com
SUMMARY:Shamangelic Breathwork Ceremony w/ Anahata Ananda
DESCRIPTION:
URL:https://shinesedona.com/event/shamangelic-breathwork-ceremony-w-anahata-ananda-621/
CATEGORIES:Events,Expand,Heal
ATTACH;FMTTYPE=image/jpeg:https://shinesedona.com/wp-content/uploads/2024/04/breathwork-image-square-new.jpg
END:VEVENT
BEGIN:VEVENT
DTSTART;TZID=UTC:20240622T100000
DTEND;TZID=UTC:20240622T170000
DTSTAMP:20260422T104200
CREATED:20240607T224626Z
LAST-MODIFIED:20240607T224634Z
UID:241837-1719050400-1719075600@shinesedona.com
SUMMARY:Restorative Reiki Session w/ Barbie Maraviov
DESCRIPTION:
URL:https://shinesedona.com/event/restorative-reiki-session-w-barbie-maraviov-622/
CATEGORIES:Expand,Heal,Sessions
ATTACH;FMTTYPE=image/jpeg:https://shinesedona.com/wp-content/uploads/2024/06/Reiki-image.jpg
END:VEVENT
BEGIN:VEVENT
DTSTART;TZID=UTC:20240622T173000
DTEND;TZID=UTC:20240622T190000
DTSTAMP:20260422T104200
CREATED:20240413T164553Z
LAST-MODIFIED:20240622T165411Z
UID:241415-1719077400-1719082800@shinesedona.com
SUMMARY:Sacred Sound Journey w/ Cheryl Bailey
DESCRIPTION:
URL:https://shinesedona.com/event/sacred-sound-journey-w-cheryl-bailey-622/
CATEGORIES:Events,Expand,Heal
END:VEVENT
BEGIN:VEVENT
DTSTART;TZID=UTC:20240623T100000
DTEND;TZID=UTC:20240623T170000
DTSTAMP:20260422T104200
CREATED:20240607T224908Z
LAST-MODIFIED:20240607T224916Z
UID:241839-1719136800-1719162000@shinesedona.com
SUMMARY:Restorative Reiki Session w/ Barbie Maraviov
DESCRIPTION:
URL:https://shinesedona.com/event/restorative-reiki-session-w-barbie-maraviov-623/
CATEGORIES:Expand,Heal,Sessions
ATTACH;FMTTYPE=image/jpeg:https://shinesedona.com/wp-content/uploads/2024/06/Reiki-image.jpg
END:VEVENT
BEGIN:VEVENT
DTSTART;TZID=UTC:20240626T170000
DTEND;TZID=UTC:20240626T183000
DTSTAMP:20260422T104200
CREATED:20240607T163805Z
LAST-MODIFIED:20240607T163805Z
UID:241801-1719421200-1719426600@shinesedona.com
SUMMARY:Connect to Your Spirit Guides Workshop w/ Anahata Ananda
DESCRIPTION:
URL:https://shinesedona.com/event/connect-to-your-spirit-guides-workshop-w-anahata-ananda/
CATEGORIES:Events,Expand,Heal,Learn
ATTACH;FMTTYPE=image/png:https://shinesedona.com/wp-content/uploads/2024/05/Screenshot-2024-05-30-at-3.23.43 PM.png
END:VEVENT
BEGIN:VEVENT
DTSTART;TZID=UTC:20240626T170000
DTEND;TZID=UTC:20240626T183000
DTSTAMP:20260422T104200
CREATED:20240607T164949Z
LAST-MODIFIED:20240607T164949Z
UID:241805-1719421200-1719426600@shinesedona.com
SUMMARY:Livestream Option - Connect to Your Spirit Guides Workshop w/ Anahata Ananda
DESCRIPTION:
URL:https://shinesedona.com/event/livestream-option-connect-to-your-spirit-guides-workshop-w-anahata-ananda/
CATEGORIES:Events,Expand,Heal,Learn,Livestream
ATTACH;FMTTYPE=image/png:https://shinesedona.com/wp-content/uploads/2024/05/Screenshot-2024-05-30-at-3.23.43 PM.png
END:VEVENT
BEGIN:VEVENT
DTSTART;TZID=UTC:20240627T170000
DTEND;TZID=UTC:20240627T183000
DTSTAMP:20260422T104200
CREATED:20240617T163746Z
LAST-MODIFIED:20240617T163756Z
UID:242070-1719507600-1719513000@shinesedona.com
SUMMARY:Cacao w/ Somatic Breathwork Ceremony w/ Sarah Muncy
DESCRIPTION:
URL:https://shinesedona.com/event/cacao-w-somatic-breathwork-ceremony-w-sarah-muncy/
LOCATION:Shine Sanctuary Sedona\, 162 Coffee Pot Drive Unit D\, Sedona\, AZ\, 86336\, United States
CATEGORIES:Events
END:VEVENT
BEGIN:VEVENT
DTSTART;TZID=UTC:20240628T180000
DTEND;TZID=UTC:20240628T193000
DTSTAMP:20260422T104200
CREATED:20240506T175845Z
LAST-MODIFIED:20240622T165445Z
UID:241604-1719597600-1719603000@shinesedona.com
SUMMARY:Sacred Sound Ceremony w/ Cheryl Bailey
DESCRIPTION:
URL:https://shinesedona.com/event/sacred-sound-ceremony-w-cheryl-bailey-628/
CATEGORIES:Events,Expand,Heal
ATTACH;FMTTYPE=image/jpeg:https://shinesedona.com/wp-content/uploads/2024/06/cheryl-bailey-new-square-image.jpg
END:VEVENT
BEGIN:VEVENT
DTSTART;TZID=UTC:20240630T100000
DTEND;TZID=UTC:20240630T170000
DTSTAMP:20260422T104200
CREATED:20240612T181848Z
LAST-MODIFIED:20240612T181858Z
UID:241995-1719741600-1719766800@shinesedona.com
SUMMARY:Ancient Reiki Healing Session w/ Tara Renee
DESCRIPTION:
URL:https://shinesedona.com/event/ancient-reiki-healing-session-w-tara-renee-630/
CATEGORIES:Expand,Heal,Sessions
END:VEVENT
BEGIN:VEVENT
DTSTART;TZID=UTC:20240701T100000
DTEND;TZID=UTC:20240701T170000
DTSTAMP:20260422T104200
CREATED:20240612T184036Z
LAST-MODIFIED:20240612T184044Z
UID:242009-1719828000-1719853200@shinesedona.com
SUMMARY:Ancient Reiki Healing Session w/ Tara Renee
DESCRIPTION:
URL:https://shinesedona.com/event/ancient-reiki-healing-session-w-tara-renee-71/
CATEGORIES:Expand,Heal,Sessions
END:VEVENT
BEGIN:VEVENT
DTSTART;TZID=UTC:20240705T170000
DTEND;TZID=UTC:20240705T183000
DTSTAMP:20260422T104200
CREATED:20240514T193112Z
LAST-MODIFIED:20240514T193112Z
UID:241610-1720198800-1720204200@shinesedona.com
SUMMARY:New Moon Sound Healing Ceremony w/ Devani Paige
DESCRIPTION:
URL:https://shinesedona.com/event/new-moon-sound-healing-ceremony-w-devani-paige/
CATEGORIES:Events,Expand,Heal
ATTACH;FMTTYPE=image/jpeg:https://shinesedona.com/wp-content/uploads/2023/04/Devani-square-image-w-flutes-.jpg
END:VEVENT
BEGIN:VEVENT
DTSTART;TZID=UTC:20240707T100000
DTEND;TZID=UTC:20240707T170000
DTSTAMP:20260422T104200
CREATED:20240612T182000Z
LAST-MODIFIED:20240612T182010Z
UID:241996-1720346400-1720371600@shinesedona.com
SUMMARY:Ancient Reiki Healing Session w/ Tara Renee
DESCRIPTION:
URL:https://shinesedona.com/event/ancient-reiki-healing-session-w-tara-renee-77/
CATEGORIES:Expand,Heal,Sessions
END:VEVENT
BEGIN:VEVENT
DTSTART;TZID=UTC:20240708T100000
DTEND;TZID=UTC:20240708T170000
DTSTAMP:20260422T104200
CREATED:20240612T184142Z
LAST-MODIFIED:20240612T184151Z
UID:242010-1720432800-1720458000@shinesedona.com
SUMMARY:Ancient Reiki Healing Session w/ Tara Renee
DESCRIPTION:
URL:https://shinesedona.com/event/ancient-reiki-healing-session-w-tara-renee-78/
CATEGORIES:Expand,Heal,Sessions
END:VEVENT
BEGIN:VEVENT
DTSTART;TZID=UTC:20240710T100000
DTEND;TZID=UTC:20240710T170000
DTSTAMP:20260422T104200
CREATED:20240708T190924Z
LAST-MODIFIED:20240708T211243Z
UID:242322-1720605600-1720630800@shinesedona.com
SUMMARY:Cellular Mind Body Reset Session
DESCRIPTION:
URL:https://shinesedona.com/event/cellular-mind-body-reset-session-7-10/
CATEGORIES:Expand,Heal,Sessions
ATTACH;FMTTYPE=image/jpeg:https://shinesedona.com/wp-content/uploads/2024/07/Cellular-Reset-square-image.jpg
END:VEVENT
BEGIN:VEVENT
DTSTART;TZID=UTC:20240711T100000
DTEND;TZID=UTC:20240711T170000
DTSTAMP:20260422T104200
CREATED:20240708T192454Z
LAST-MODIFIED:20240708T192525Z
UID:242324-1720692000-1720717200@shinesedona.com
SUMMARY:Cellular Mind Body Reset Session
DESCRIPTION:
URL:https://shinesedona.com/event/cellular-mind-body-reset-session-7-11/
CATEGORIES:Expand,Heal,Sessions
ATTACH;FMTTYPE=image/jpeg:https://shinesedona.com/wp-content/uploads/2024/07/Cellular-Reset-square-image.jpg
END:VEVENT
BEGIN:VEVENT
DTSTART;TZID=UTC:20240712T090000
DTEND;TZID=UTC:20240729T190000
DTSTAMP:20260422T104200
CREATED:20240212T203342Z
LAST-MODIFIED:20240212T203342Z
UID:241116-1720774800-1722279600@shinesedona.com
SUMMARY:14-Day Shamangelic Healing Modalities & Breathwork Facilitator Training Immersion w/ Anahata
DESCRIPTION:
URL:https://shinesedona.com/event/14-day-shamangelic-healing-modalities-breathwork-facilitator-training-immersion-w-anahata/
CATEGORIES:Events,Expand,Learn,Trainings
ATTACH;FMTTYPE=image/jpeg:https://shinesedona.com/wp-content/uploads/2023/07/Anahata-in-front-of-wings-color-w-altar-.jpg
END:VEVENT
BEGIN:VEVENT
DTSTART;TZID=UTC:20240712T100000
DTEND;TZID=UTC:20240712T170000
DTSTAMP:20260422T104200
CREATED:20240708T192642Z
LAST-MODIFIED:20240708T192817Z
UID:242326-1720778400-1720803600@shinesedona.com
SUMMARY:Cellular Mind Body Reset Session
DESCRIPTION:
URL:https://shinesedona.com/event/cellular-mind-body-reset-session-7-12/
CATEGORIES:Expand,Heal,Sessions
ATTACH;FMTTYPE=image/jpeg:https://shinesedona.com/wp-content/uploads/2024/07/Cellular-Reset-square-image.jpg
END:VEVENT
BEGIN:VEVENT
DTSTART;TZID=UTC:20240713T100000
DTEND;TZID=UTC:20240713T170000
DTSTAMP:20260422T104200
CREATED:20240607T225017Z
LAST-MODIFIED:20240607T225023Z
UID:241840-1720864800-1720890000@shinesedona.com
SUMMARY:Restorative Reiki Session w/ Barbie Maraviov
DESCRIPTION:
URL:https://shinesedona.com/event/restorative-reiki-session-w-barbie-maraviov-713/
CATEGORIES:Expand,Heal,Sessions
ATTACH;FMTTYPE=image/jpeg:https://shinesedona.com/wp-content/uploads/2024/06/Reiki-image.jpg
END:VEVENT
END:VCALENDAR