BEGIN:VCALENDAR
VERSION:2.0
PRODID:-//Shine Sanctuary Sedona - ECPv6.15.20//NONSGML v1.0//EN
CALSCALE:GREGORIAN
METHOD:PUBLISH
X-ORIGINAL-URL:https://shinesedona.com
X-WR-CALDESC:Events for Shine Sanctuary Sedona
REFRESH-INTERVAL;VALUE=DURATION:PT1H
X-Robots-Tag:noindex
X-PUBLISHED-TTL:PT1H
BEGIN:VTIMEZONE
TZID:UTC
BEGIN:STANDARD
TZOFFSETFROM:+0000
TZOFFSETTO:+0000
TZNAME:UTC
DTSTART:20230101T000000
END:STANDARD
END:VTIMEZONE
BEGIN:VEVENT
DTSTART;TZID=UTC:20240922T100000
DTEND;TZID=UTC:20240922T170000
DTSTAMP:20260419T235858
CREATED:20240920T230022Z
LAST-MODIFIED:20240920T230031Z
UID:242911-1726999200-1727024400@shinesedona.com
SUMMARY:Cellular Mind Body Reset Session
DESCRIPTION:
URL:https://shinesedona.com/event/cellular-mind-body-reset-session-922/
CATEGORIES:Expand,Heal,Sessions
ATTACH;FMTTYPE=image/jpeg:https://shinesedona.com/wp-content/uploads/2024/09/Cellular-Reset-square-image.jpg
END:VEVENT
BEGIN:VEVENT
DTSTART;TZID=UTC:20240922T120000
DTEND;TZID=UTC:20240922T140000
DTSTAMP:20260419T235858
CREATED:20240828T200029Z
LAST-MODIFIED:20240828T221312Z
UID:242597-1727006400-1727013600@shinesedona.com
SUMMARY:Autumn Equinox - Self Love Sunday w/ Eva Maurice
DESCRIPTION:
URL:https://shinesedona.com/event/self-love-sunday-w-eva-maurice-922/
CATEGORIES:Events,Expand,Heal,Learn
ATTACH;FMTTYPE=image/jpeg:https://shinesedona.com/wp-content/uploads/2024/08/eva-new-square-image-.jpg
END:VEVENT
BEGIN:VEVENT
DTSTART;TZID=UTC:20240925T100000
DTEND;TZID=UTC:20240925T170000
DTSTAMP:20260419T235858
CREATED:20240901T233219Z
LAST-MODIFIED:20240901T233230Z
UID:242645-1727258400-1727283600@shinesedona.com
SUMMARY:Cellular Mind Body Reset Session
DESCRIPTION:
URL:https://shinesedona.com/event/cellular-mind-body-reset-session-92524/
CATEGORIES:Expand,Heal,Sessions
ATTACH;FMTTYPE=image/jpeg:https://shinesedona.com/wp-content/uploads/2024/07/Cellular-Reset-square-image.jpg
END:VEVENT
BEGIN:VEVENT
DTSTART;TZID=UTC:20240925T190000
DTEND;TZID=UTC:20240925T213000
DTSTAMP:20260419T235858
CREATED:20240814T023001Z
LAST-MODIFIED:20240814T023016Z
UID:242445-1727290800-1727299800@shinesedona.com
SUMMARY:Akashic Records Reading w/ Athena Soultender
DESCRIPTION:
URL:https://shinesedona.com/event/akashic-records-reading-w-athena-soultender-925/
CATEGORIES:Expand,Heal,Learn
ATTACH;FMTTYPE=image/jpeg:https://shinesedona.com/wp-content/uploads/2024/05/Akashic-record-reading.jpg
END:VEVENT
BEGIN:VEVENT
DTSTART;TZID=UTC:20240925T190000
DTEND;TZID=UTC:20240925T213000
DTSTAMP:20260419T235858
CREATED:20240923T172933Z
LAST-MODIFIED:20240923T172944Z
UID:242953-1727290800-1727299800@shinesedona.com
SUMMARY:Intuitive Energy Alignment Session w/ Uma Bacso
DESCRIPTION:
URL:https://shinesedona.com/event/intuitive-energy-alignment-session-w-uma-bacso-925/
CATEGORIES:Expand,Heal,Sessions
END:VEVENT
BEGIN:VEVENT
DTSTART;TZID=UTC:20240926T100000
DTEND;TZID=UTC:20240926T170000
DTSTAMP:20260419T235858
CREATED:20240901T233332Z
LAST-MODIFIED:20240901T233340Z
UID:242646-1727344800-1727370000@shinesedona.com
SUMMARY:Cellular Mind Body Reset Session
DESCRIPTION:
URL:https://shinesedona.com/event/cellular-mind-body-reset-session-92624/
CATEGORIES:Expand,Heal,Sessions
ATTACH;FMTTYPE=image/jpeg:https://shinesedona.com/wp-content/uploads/2024/07/Cellular-Reset-square-image.jpg
END:VEVENT
BEGIN:VEVENT
DTSTART;TZID=UTC:20240927T100000
DTEND;TZID=UTC:20240927T170000
DTSTAMP:20260419T235858
CREATED:20240711T234252Z
LAST-MODIFIED:20240711T234304Z
UID:242370-1727431200-1727456400@shinesedona.com
SUMMARY:Shamangelic Healing Journey w/ Anahata Ananda
DESCRIPTION:
URL:https://shinesedona.com/event/shamangelic-healing-journey-w-anahata-ananda-927/
CATEGORIES:Expand,Heal,Learn,Sessions
ATTACH;FMTTYPE=image/jpeg:https://shinesedona.com/wp-content/uploads/2024/06/Anahata-drum-new.jpg
END:VEVENT
BEGIN:VEVENT
DTSTART;TZID=UTC:20240927T100000
DTEND;TZID=UTC:20240927T170000
DTSTAMP:20260419T235858
CREATED:20240810T200727Z
LAST-MODIFIED:20240810T200737Z
UID:242430-1727431200-1727456400@shinesedona.com
SUMMARY:Intuitive Reading & Guidance Session w/ Earthshine
DESCRIPTION:
URL:https://shinesedona.com/event/intuitive-reading-guidance-session-w-earthshine-927/
CATEGORIES:Expand,Heal,Learn
ATTACH;FMTTYPE=image/jpeg:https://shinesedona.com/wp-content/uploads/2024/05/Earthshine-Abigail-bio-square.jpg
END:VEVENT
BEGIN:VEVENT
DTSTART;TZID=UTC:20240927T200000
DTEND;TZID=UTC:20240927T223000
DTSTAMP:20260419T235858
CREATED:20240815T234440Z
LAST-MODIFIED:20240816T024248Z
UID:242469-1727467200-1727476200@shinesedona.com
SUMMARY:Minimal Deep Tech Set Fidelstyx + Sampaz
DESCRIPTION:
URL:https://shinesedona.com/event/minimal-deep-tech-set-fidelstyx-sampaz/
CATEGORIES:Events,Expand
END:VEVENT
BEGIN:VEVENT
DTSTART;TZID=UTC:20240928T100000
DTEND;TZID=UTC:20240928T170000
DTSTAMP:20260419T235858
CREATED:20240810T200519Z
LAST-MODIFIED:20240810T200530Z
UID:242429-1727517600-1727542800@shinesedona.com
SUMMARY:Shamanic Healing Journey w/ Earthshine
DESCRIPTION:
URL:https://shinesedona.com/event/shamanic-healing-journey-w-earthshine-928/
CATEGORIES:Expand,Heal,Learn,Sessions
ATTACH;FMTTYPE=image/jpeg:https://shinesedona.com/wp-content/uploads/2024/08/Abigail-square-image-1-1-scaled.jpg
END:VEVENT
BEGIN:VEVENT
DTSTART;TZID=UTC:20240928T180000
DTEND;TZID=UTC:20240928T203000
DTSTAMP:20260419T235858
CREATED:20240711T231652Z
LAST-MODIFIED:20240711T231931Z
UID:242368-1727546400-1727555400@shinesedona.com
SUMMARY:Shamangelic Breathwork Ceremony w/ Anahata Ananda
DESCRIPTION:
URL:https://shinesedona.com/event/shamangelic-breathwork-ceremony-w-anahata-ananda-928/
CATEGORIES:Events,Expand,Heal
ATTACH;FMTTYPE=image/jpeg:https://shinesedona.com/wp-content/uploads/2024/04/breathwork-image-square-new.jpg
END:VEVENT
BEGIN:VEVENT
DTSTART;TZID=UTC:20240929T100000
DTEND;TZID=UTC:20240929T170000
DTSTAMP:20260419T235858
CREATED:20240612T183049Z
LAST-MODIFIED:20240612T183056Z
UID:242005-1727604000-1727629200@shinesedona.com
SUMMARY:Ancient Reiki Healing Session w/ Tara Renee
DESCRIPTION:
URL:https://shinesedona.com/event/ancient-reiki-healing-session-w-tara-renee-929/
CATEGORIES:Expand,Heal,Sessions
END:VEVENT
BEGIN:VEVENT
DTSTART;TZID=UTC:20240929T100000
DTEND;TZID=UTC:20240929T170000
DTSTAMP:20260419T235858
CREATED:20240920T195135Z
LAST-MODIFIED:20240920T195146Z
UID:242889-1727604000-1727629200@shinesedona.com
SUMMARY:Soul Path Revelation Session w/ Michelle Grant
DESCRIPTION:
URL:https://shinesedona.com/event/soul-path-revelation-session-w-michelle-grant-9-29/
CATEGORIES:Expand,Heal,Learn
ATTACH;FMTTYPE=image/jpeg:https://shinesedona.com/wp-content/uploads/2024/05/Akashic-record-reading.jpg
END:VEVENT
BEGIN:VEVENT
DTSTART;TZID=UTC:20240929T180000
DTEND;TZID=UTC:20240929T193000
DTSTAMP:20260419T235858
CREATED:20240610T204710Z
LAST-MODIFIED:20240726T193753Z
UID:241949-1727632800-1727638200@shinesedona.com
SUMMARY:Sound Healing Ceremony w/ Devani Paige
DESCRIPTION:
URL:https://shinesedona.com/event/sound-healing-ceremony-w-devani-paige-929/
CATEGORIES:Events,Expand,Heal
ATTACH;FMTTYPE=image/jpeg:https://shinesedona.com/wp-content/uploads/2023/04/Devani-square-image-w-flutes-.jpg
END:VEVENT
BEGIN:VEVENT
DTSTART;TZID=UTC:20241001T190000
DTEND;TZID=UTC:20241001T203000
DTSTAMP:20260419T235858
CREATED:20240914T184717Z
LAST-MODIFIED:20240918T003517Z
UID:242773-1727809200-1727814600@shinesedona.com
SUMMARY:Blue Lotus Sound Healing w/ Keeley Brand
DESCRIPTION:
URL:https://shinesedona.com/event/blue-lotus-sound-healing-w-keeley-brand/
LOCATION:Shine Sanctuary Sedona\, 162 Coffee Pot Drive Unit D\, Sedona\, AZ\, 86336\, United States
CATEGORIES:Events
END:VEVENT
BEGIN:VEVENT
DTSTART;TZID=UTC:20241002T100000
DTEND;TZID=UTC:20241002T170000
DTSTAMP:20260419T235858
CREATED:20240920T224059Z
LAST-MODIFIED:20240920T224109Z
UID:242902-1727863200-1727888400@shinesedona.com
SUMMARY:Cellular Mind Body Reset Session
DESCRIPTION:
URL:https://shinesedona.com/event/cellular-mind-body-reset-session-102/
CATEGORIES:Expand,Heal,Sessions
ATTACH;FMTTYPE=image/jpeg:https://shinesedona.com/wp-content/uploads/2024/09/Cellular-Reset-square-image.jpg
END:VEVENT
BEGIN:VEVENT
DTSTART;TZID=UTC:20241002T170000
DTEND;TZID=UTC:20241002T190000
DTSTAMP:20260419T235858
CREATED:20240912T193643Z
LAST-MODIFIED:20240912T195436Z
UID:242751-1727888400-1727895600@shinesedona.com
SUMMARY:Tools for Conscious Parenting Workshop w/ Anahata Ananda (Livestream Option Available)
DESCRIPTION:
URL:https://shinesedona.com/event/tools-for-conscious-parenting-workshop-w-anahata-ananda/
CATEGORIES:Events,Expand,Heal,Learn,Livestream
ATTACH;FMTTYPE=image/jpeg:https://shinesedona.com/wp-content/uploads/2024/09/conscious-parenting-image-square.jpg
END:VEVENT
BEGIN:VEVENT
DTSTART;TZID=UTC:20241003T100000
DTEND;TZID=UTC:20241003T170000
DTSTAMP:20260419T235858
CREATED:20240920T224216Z
LAST-MODIFIED:20240920T224226Z
UID:242904-1727949600-1727974800@shinesedona.com
SUMMARY:Cellular Mind Body Reset Session
DESCRIPTION:
URL:https://shinesedona.com/event/cellular-mind-body-reset-session-103/
CATEGORIES:Expand,Heal,Sessions
ATTACH;FMTTYPE=image/jpeg:https://shinesedona.com/wp-content/uploads/2024/09/Cellular-Reset-square-image.jpg
END:VEVENT
BEGIN:VEVENT
DTSTART;TZID=UTC:20241003T180000
DTEND;TZID=UTC:20241003T200000
DTSTAMP:20260419T235858
CREATED:20240905T210716Z
LAST-MODIFIED:20240905T210726Z
UID:242702-1727978400-1727985600@shinesedona.com
SUMMARY:Ceremonial Cacao & Sound Journey w/ Athena Soultender & Viola Rose
DESCRIPTION:
URL:https://shinesedona.com/event/ceremonial-cacao-sound-journey-w-athena-soultender-viola-rose-103/
CATEGORIES:Events,Expand,Heal
ATTACH;FMTTYPE=image/jpeg:https://shinesedona.com/wp-content/uploads/2024/08/cacao-sound-athena.jpg
END:VEVENT
BEGIN:VEVENT
DTSTART;TZID=UTC:20241004T100000
DTEND;TZID=UTC:20241004T170000
DTSTAMP:20260419T235858
CREATED:20240831T193849Z
LAST-MODIFIED:20240831T193921Z
UID:242619-1728036000-1728061200@shinesedona.com
SUMMARY:Restorative Reiki Session w/ Barbie Maraviov
DESCRIPTION:
URL:https://shinesedona.com/event/restorative-reiki-session-w-barbie-maraviov-104/
CATEGORIES:Expand,Heal,Sessions
ATTACH;FMTTYPE=image/jpeg:https://shinesedona.com/wp-content/uploads/2024/06/Reiki-image.jpg
END:VEVENT
BEGIN:VEVENT
DTSTART;TZID=UTC:20241004T100000
DTEND;TZID=UTC:20241004T170000
DTSTAMP:20260419T235858
CREATED:20240920T195740Z
LAST-MODIFIED:20240920T195801Z
UID:242890-1728036000-1728061200@shinesedona.com
SUMMARY:Soul Path Revelations Session (Akashic Records) w/ Michelle Grant
DESCRIPTION:
URL:https://shinesedona.com/event/soul-path-revelations-session-akashic-records-w-michelle-grant-10-4/
CATEGORIES:Expand,Heal,Learn
ATTACH;FMTTYPE=image/jpeg:https://shinesedona.com/wp-content/uploads/2024/05/Akashic-record-reading.jpg
END:VEVENT
BEGIN:VEVENT
DTSTART;TZID=UTC:20241005T100000
DTEND;TZID=UTC:20241005T170000
DTSTAMP:20260419T235858
CREATED:20240918T181022Z
LAST-MODIFIED:20240918T181022Z
UID:242851-1728122400-1728147600@shinesedona.com
SUMMARY:Energy Clearing & Chakra Balancing Session w/ Joy Gabriel
DESCRIPTION:
URL:https://shinesedona.com/event/energy-clearing-chakra-balancing-session-w-joy-gabriel/
CATEGORIES:Expand,Heal,Sessions
ATTACH;FMTTYPE=image/png:https://shinesedona.com/wp-content/uploads/2024/09/Screenshot-2024-09-17-at-5.39.59 PM.png
END:VEVENT
BEGIN:VEVENT
DTSTART;TZID=UTC:20241005T100000
DTEND;TZID=UTC:20241005T170000
DTSTAMP:20260419T235858
CREATED:20240920T195908Z
LAST-MODIFIED:20240920T195917Z
UID:242891-1728122400-1728147600@shinesedona.com
SUMMARY:Soul Path Revelations Session (Akashic Records) w/ Michelle Grant
DESCRIPTION:
URL:https://shinesedona.com/event/soul-path-revelations-session-akashic-records-w-michelle-grant-10-5/
CATEGORIES:Expand,Heal,Learn
ATTACH;FMTTYPE=image/jpeg:https://shinesedona.com/wp-content/uploads/2024/05/Akashic-record-reading.jpg
END:VEVENT
BEGIN:VEVENT
DTSTART;TZID=UTC:20241005T100000
DTEND;TZID=UTC:20241005T170000
DTSTAMP:20260419T235858
CREATED:20240920T200020Z
LAST-MODIFIED:20240920T200020Z
UID:242892-1728122400-1728147600@shinesedona.com
SUMMARY:Soul Path Revelations Session (Akashic Records) w/ Michelle Grant
DESCRIPTION:
URL:https://shinesedona.com/event/soul-path-revelations-session-akashic-records-w-michelle-grant/
ATTACH;FMTTYPE=image/jpeg:https://shinesedona.com/wp-content/uploads/2024/05/Akashic-record-reading.jpg
END:VEVENT
BEGIN:VEVENT
DTSTART;TZID=UTC:20241005T180000
DTEND;TZID=UTC:20241005T200000
DTSTAMP:20260419T235858
CREATED:20240910T182836Z
LAST-MODIFIED:20240910T182836Z
UID:242719-1728151200-1728158400@shinesedona.com
SUMMARY:Velvet Flow ~ A Feminine Qi Gong Practice & Workshop with KC Baker
DESCRIPTION:
URL:https://shinesedona.com/event/velvet-flow-a-feminine-qi-gong-practice-workshop-with-kc-baker/
CATEGORIES:Events,Expand,Heal,Learn
ATTACH;FMTTYPE=image/png:https://shinesedona.com/wp-content/uploads/2024/09/Screenshot-2024-09-06-at-12.15.24 PM.png
END:VEVENT
BEGIN:VEVENT
DTSTART;TZID=UTC:20241006T100000
DTEND;TZID=UTC:20241006T170000
DTSTAMP:20260419T235858
CREATED:20240612T183203Z
LAST-MODIFIED:20240612T183211Z
UID:242006-1728208800-1728234000@shinesedona.com
SUMMARY:Ancient Reiki Healing Session w/ Tara Renee
DESCRIPTION:
URL:https://shinesedona.com/event/ancient-reiki-healing-session-w-tara-renee-106/
CATEGORIES:Expand,Heal,Sessions
END:VEVENT
BEGIN:VEVENT
DTSTART;TZID=UTC:20241006T100000
DTEND;TZID=UTC:20241006T170000
DTSTAMP:20260419T235858
CREATED:20240920T200123Z
LAST-MODIFIED:20240920T200138Z
UID:242893-1728208800-1728234000@shinesedona.com
SUMMARY:Soul Path Revelations Session (Akashic Records) w/ Michelle Grant
DESCRIPTION:
URL:https://shinesedona.com/event/soul-path-revelations-session-akashic-records-w-michelle-grant-10-6/
CATEGORIES:Expand,Heal,Learn
ATTACH;FMTTYPE=image/jpeg:https://shinesedona.com/wp-content/uploads/2024/05/Akashic-record-reading.jpg
END:VEVENT
BEGIN:VEVENT
DTSTART;TZID=UTC:20241009T100000
DTEND;TZID=UTC:20241009T170000
DTSTAMP:20260419T235858
CREATED:20240920T224326Z
LAST-MODIFIED:20240920T224334Z
UID:242905-1728468000-1728493200@shinesedona.com
SUMMARY:Cellular Mind Body Reset Session
DESCRIPTION:
URL:https://shinesedona.com/event/cellular-mind-body-reset-session-109/
CATEGORIES:Expand,Heal,Sessions
ATTACH;FMTTYPE=image/jpeg:https://shinesedona.com/wp-content/uploads/2024/09/Cellular-Reset-square-image.jpg
END:VEVENT
BEGIN:VEVENT
DTSTART;TZID=UTC:20241010T100000
DTEND;TZID=UTC:20241010T170000
DTSTAMP:20260419T235858
CREATED:20240918T181133Z
LAST-MODIFIED:20240918T181142Z
UID:242852-1728554400-1728579600@shinesedona.com
SUMMARY:Energy Clearing & Chakra Balancing Session w/ Joy Gabriel
DESCRIPTION:
URL:https://shinesedona.com/event/energy-clearing-chakra-balancing-session-w-joy-gabriel-10-10-24/
CATEGORIES:Expand,Heal,Sessions
ATTACH;FMTTYPE=image/png:https://shinesedona.com/wp-content/uploads/2024/09/Screenshot-2024-09-17-at-5.39.59 PM.png
END:VEVENT
BEGIN:VEVENT
DTSTART;TZID=UTC:20241010T180000
DTEND;TZID=UTC:20241010T193000
DTSTAMP:20260419T235858
CREATED:20240827T002255Z
LAST-MODIFIED:20240827T002303Z
UID:242577-1728583200-1728588600@shinesedona.com
SUMMARY:Sacred Sound Journey w/ Cheryl Bailey
DESCRIPTION:
URL:https://shinesedona.com/event/sacred-sound-journey-w-cheryl-bailey-1010/
CATEGORIES:Events,Expand,Heal
ATTACH;FMTTYPE=image/jpeg:https://shinesedona.com/wp-content/uploads/2024/06/cheryl-bailey-new-square-image.jpg
END:VEVENT
END:VCALENDAR