BEGIN:VCALENDAR
VERSION:2.0
PRODID:-//Shine Sanctuary Sedona - ECPv6.15.20//NONSGML v1.0//EN
CALSCALE:GREGORIAN
METHOD:PUBLISH
X-ORIGINAL-URL:https://shinesedona.com
X-WR-CALDESC:Events for Shine Sanctuary Sedona
REFRESH-INTERVAL;VALUE=DURATION:PT1H
X-Robots-Tag:noindex
X-PUBLISHED-TTL:PT1H
BEGIN:VTIMEZONE
TZID:UTC
BEGIN:STANDARD
TZOFFSETFROM:+0000
TZOFFSETTO:+0000
TZNAME:UTC
DTSTART:20230101T000000
END:STANDARD
END:VTIMEZONE
BEGIN:VEVENT
DTSTART;TZID=UTC:20241112T100000
DTEND;TZID=UTC:20241112T150000
DTSTAMP:20260422T104205
CREATED:20241101T153458Z
LAST-MODIFIED:20241104T000200Z
UID:243280-1731405600-1731423600@shinesedona.com
SUMMARY:Energy Clearing & Chakra Balancing Session w/ Joy Gabriel
DESCRIPTION:
URL:https://shinesedona.com/event/energy-clearing-chakra-balancing-session-w-joy-gabriel-1112/
CATEGORIES:Expand,Heal,Sessions
ATTACH;FMTTYPE=image/png:https://shinesedona.com/wp-content/uploads/2024/09/Screenshot-2024-09-17-at-5.39.59 PM.png
END:VEVENT
BEGIN:VEVENT
DTSTART;TZID=UTC:20241113T100000
DTEND;TZID=UTC:20241113T143000
DTSTAMP:20260422T104205
CREATED:20241027T233256Z
LAST-MODIFIED:20241027T233304Z
UID:243166-1731492000-1731508200@shinesedona.com
SUMMARY:Angel Reiki Session w/ Amanda Shannon
DESCRIPTION:
URL:https://shinesedona.com/event/angel-reiki-session-w-amanda-shannon-1113/
CATEGORIES:Expand,Heal,Sessions
ATTACH;FMTTYPE=image/jpeg:https://shinesedona.com/wp-content/uploads/2023/08/angelic-hands-1.jpg
END:VEVENT
BEGIN:VEVENT
DTSTART;TZID=UTC:20241113T100000
DTEND;TZID=UTC:20241113T170000
DTSTAMP:20260422T104205
CREATED:20241101T154104Z
LAST-MODIFIED:20241101T154112Z
UID:243282-1731492000-1731517200@shinesedona.com
SUMMARY:Intuitive Soul Session with Joy Gabriel
DESCRIPTION:
URL:https://shinesedona.com/event/intuitive-soul-session-with-joy-gabriel-1113/
CATEGORIES:Expand,Heal,Learn
ATTACH;FMTTYPE=image/jpeg:https://shinesedona.com/wp-content/uploads/2024/09/Joy-Gabriel-Square-2-copy.jpeg
END:VEVENT
BEGIN:VEVENT
DTSTART;TZID=UTC:20241113T150000
DTEND;TZID=UTC:20241113T170000
DTSTAMP:20260422T104205
CREATED:20240920T230955Z
LAST-MODIFIED:20241027T234442Z
UID:242914-1731510000-1731517200@shinesedona.com
SUMMARY:Cellular Mind Body Reset Session
DESCRIPTION:
URL:https://shinesedona.com/event/cellular-mind-body-reset-session-1113/
CATEGORIES:Expand,Heal,Sessions
ATTACH;FMTTYPE=image/jpeg:https://shinesedona.com/wp-content/uploads/2024/09/Cellular-Reset-square-image.jpg
END:VEVENT
BEGIN:VEVENT
DTSTART;TZID=UTC:20241114T100000
DTEND;TZID=UTC:20241114T170000
DTSTAMP:20260422T104205
CREATED:20241027T000928Z
LAST-MODIFIED:20241027T000936Z
UID:243143-1731578400-1731603600@shinesedona.com
SUMMARY:Energy Clearing & Chakra Balancing Session w/ Joy Gabriel
DESCRIPTION:
URL:https://shinesedona.com/event/energy-clearing-chakra-balancing-session-w-joy-gabriel-1114/
CATEGORIES:Expand,Heal,Sessions
ATTACH;FMTTYPE=image/png:https://shinesedona.com/wp-content/uploads/2024/09/Screenshot-2024-09-17-at-5.39.59 PM.png
END:VEVENT
BEGIN:VEVENT
DTSTART;TZID=UTC:20241114T100000
DTEND;TZID=UTC:20241114T170000
DTSTAMP:20260422T104205
CREATED:20241029T180625Z
LAST-MODIFIED:20241029T180633Z
UID:243190-1731578400-1731603600@shinesedona.com
SUMMARY:Intuitive Angel Reading w/ Amanda Shannon
DESCRIPTION:
URL:https://shinesedona.com/event/intuitive-angel-reading-w-amanda-shannon-111424/
CATEGORIES:Expand,Heal,Learn
ATTACH;FMTTYPE=image/png:https://shinesedona.com/wp-content/uploads/2023/10/Screen-Shot-2023-10-02-at-11.21.48-AM.png
END:VEVENT
BEGIN:VEVENT
DTSTART;TZID=UTC:20241114T180000
DTEND;TZID=UTC:20241114T193000
DTSTAMP:20260422T104205
CREATED:20240914T192301Z
LAST-MODIFIED:20241003T171218Z
UID:242778-1731607200-1731612600@shinesedona.com
SUMMARY:Sound Healing Ceremony w/ Keeley Brand
DESCRIPTION:
URL:https://shinesedona.com/event/sound-healing-ceremony-w-keeley-brand-1114/
CATEGORIES:Events,Expand,Heal
ATTACH;FMTTYPE=image/jpeg:https://shinesedona.com/wp-content/uploads/2024/10/Keeley-NEW-.jpg
END:VEVENT
BEGIN:VEVENT
DTSTART;TZID=UTC:20241115T100000
DTEND;TZID=UTC:20241115T143000
DTSTAMP:20260422T104205
CREATED:20241029T180908Z
LAST-MODIFIED:20241029T180923Z
UID:243191-1731664800-1731681000@shinesedona.com
SUMMARY:Intuitive Angel Reading w/ Amanda Shannon
DESCRIPTION:
URL:https://shinesedona.com/event/intuitive-angel-reading-w-amanda-shannon-111524/
CATEGORIES:Expand,Heal,Learn
ATTACH;FMTTYPE=image/png:https://shinesedona.com/wp-content/uploads/2023/10/Screen-Shot-2023-10-02-at-11.21.48-AM.png
END:VEVENT
BEGIN:VEVENT
DTSTART;TZID=UTC:20241115T100000
DTEND;TZID=UTC:20241115T170000
DTSTAMP:20260422T104205
CREATED:20240831T194612Z
LAST-MODIFIED:20240831T194620Z
UID:242625-1731664800-1731690000@shinesedona.com
SUMMARY:Restorative Reiki Session w/ Barbie Maraviov
DESCRIPTION:
URL:https://shinesedona.com/event/restorative-reiki-session-w-barbie-maraviov-1115/
CATEGORIES:Expand,Heal,Sessions
ATTACH;FMTTYPE=image/jpeg:https://shinesedona.com/wp-content/uploads/2024/06/Reiki-image.jpg
END:VEVENT
BEGIN:VEVENT
DTSTART;TZID=UTC:20241115T180000
DTEND;TZID=UTC:20241115T193000
DTSTAMP:20260422T104205
CREATED:20240828T212940Z
LAST-MODIFIED:20240828T212940Z
UID:242605-1731693600-1731699000@shinesedona.com
SUMMARY:Full Moon Sacred Sound Journey w/ Cheryl Bailey
DESCRIPTION:
URL:https://shinesedona.com/event/full-moon-sacred-sound-journey-w-cheryl-bailey/
CATEGORIES:Events,Expand,Heal
ATTACH;FMTTYPE=image/jpeg:https://shinesedona.com/wp-content/uploads/2024/06/cheryl-bailey-new-square-image.jpg
END:VEVENT
BEGIN:VEVENT
DTSTART;TZID=UTC:20241116T100000
DTEND;TZID=UTC:20241116T170000
DTSTAMP:20260422T104205
CREATED:20241112T174804Z
LAST-MODIFIED:20241112T174814Z
UID:243480-1731751200-1731776400@shinesedona.com
SUMMARY:Intuitive Reading and Guidance Session w/ Abigail Earthshine
DESCRIPTION:
URL:https://shinesedona.com/event/intuitive-reading-and-guidance-session-w-abigail-earthshine-1116/
CATEGORIES:Expand,Heal,Learn
ATTACH;FMTTYPE=image/jpeg:https://shinesedona.com/wp-content/uploads/2024/06/Earthshine-square-image.jpg
END:VEVENT
BEGIN:VEVENT
DTSTART;TZID=UTC:20241116T180000
DTEND;TZID=UTC:20241116T193000
DTSTAMP:20260422T104205
CREATED:20241029T234348Z
LAST-MODIFIED:20241029T234533Z
UID:243204-1731780000-1731785400@shinesedona.com
SUMMARY:Ceremonial Cacao & Sound Journey w/ Athena Soultender
DESCRIPTION:
URL:https://shinesedona.com/event/ceremonial-cacao-sound-journey-w-athena-soultender-1116/
CATEGORIES:Events,Expand,Heal
ATTACH;FMTTYPE=image/jpeg:https://shinesedona.com/wp-content/uploads/2024/08/cacao-sound-athena.jpg
END:VEVENT
BEGIN:VEVENT
DTSTART;TZID=UTC:20241117T100000
DTEND;TZID=UTC:20241117T143000
DTSTAMP:20260422T104205
CREATED:20241029T174611Z
LAST-MODIFIED:20241029T174622Z
UID:243183-1731837600-1731853800@shinesedona.com
SUMMARY:Angel Reiki Session w/ Amanda Shannon
DESCRIPTION:
URL:https://shinesedona.com/event/angel-reiki-session-w-amanda-shannon-1117/
CATEGORIES:Expand,Heal,Sessions
ATTACH;FMTTYPE=image/jpeg:https://shinesedona.com/wp-content/uploads/2023/08/angelic-hands-1.jpg
END:VEVENT
BEGIN:VEVENT
DTSTART;TZID=UTC:20241117T180000
DTEND;TZID=UTC:20241117T193000
DTSTAMP:20260422T104205
CREATED:20240914T195541Z
LAST-MODIFIED:20240914T195551Z
UID:242786-1731866400-1731871800@shinesedona.com
SUMMARY:Sound Healing Ceremony w/ Devani Paige
DESCRIPTION:
URL:https://shinesedona.com/event/sound-healing-ceremony-w-devani-paige-11-17/
CATEGORIES:Events,Expand,Heal
ATTACH;FMTTYPE=image/jpeg:https://shinesedona.com/wp-content/uploads/2023/04/Devani-square-image-w-flutes-.jpg
END:VEVENT
BEGIN:VEVENT
DTSTART;TZID=UTC:20241118T100000
DTEND;TZID=UTC:20241118T143000
DTSTAMP:20260422T104205
CREATED:20241029T181038Z
LAST-MODIFIED:20241029T181048Z
UID:243192-1731924000-1731940200@shinesedona.com
SUMMARY:Intuitive Angel Reading w/ Amanda Shannon
DESCRIPTION:
URL:https://shinesedona.com/event/intuitive-angel-reading-w-amanda-shannon-111824/
CATEGORIES:Expand,Heal,Learn
ATTACH;FMTTYPE=image/png:https://shinesedona.com/wp-content/uploads/2023/10/Screen-Shot-2023-10-02-at-11.21.48-AM.png
END:VEVENT
BEGIN:VEVENT
DTSTART;TZID=UTC:20241119T090000
DTEND;TZID=UTC:20241121T170000
DTSTAMP:20260422T104205
CREATED:20241108T180300Z
LAST-MODIFIED:20241108T180300Z
UID:243435-1732006800-1732208400@shinesedona.com
SUMMARY:True Radiance Sedona Retreat w/ Athena Llewellyn
DESCRIPTION:
URL:https://shinesedona.com/event/true-radiance-sedona-retreat-w-athena-llewellyn/
CATEGORIES:Events
END:VEVENT
BEGIN:VEVENT
DTSTART;TZID=UTC:20241119T100000
DTEND;TZID=UTC:20241119T143000
DTSTAMP:20260422T104205
CREATED:20241029T181153Z
LAST-MODIFIED:20241029T181205Z
UID:243193-1732010400-1732026600@shinesedona.com
SUMMARY:Intuitive Angel Reading w/ Amanda Shannon
DESCRIPTION:
URL:https://shinesedona.com/event/intuitive-angel-reading-w-amanda-shannon-111924/
CATEGORIES:Expand,Heal,Learn
ATTACH;FMTTYPE=image/png:https://shinesedona.com/wp-content/uploads/2023/10/Screen-Shot-2023-10-02-at-11.21.48-AM.png
END:VEVENT
BEGIN:VEVENT
DTSTART;TZID=UTC:20241119T100000
DTEND;TZID=UTC:20241119T170000
DTSTAMP:20260422T104205
CREATED:20241108T194503Z
LAST-MODIFIED:20241108T194514Z
UID:243438-1732010400-1732035600@shinesedona.com
SUMMARY:Energy Healing & Chakra Balancing Session w/ Joy Gabriel
DESCRIPTION:
URL:https://shinesedona.com/event/energy-healing-chakra-balancing-session-w-joy-gabriel-111924/
CATEGORIES:Expand,Heal,Sessions
ATTACH;FMTTYPE=image/png:https://shinesedona.com/wp-content/uploads/2024/09/Screenshot-2024-09-17-at-5.39.59 PM.png
END:VEVENT
BEGIN:VEVENT
DTSTART;TZID=UTC:20241120T100000
DTEND;TZID=UTC:20241120T143000
DTSTAMP:20260422T104205
CREATED:20241027T233422Z
LAST-MODIFIED:20241027T233430Z
UID:243167-1732096800-1732113000@shinesedona.com
SUMMARY:Angel Reiki Session w/ Amanda Shannon
DESCRIPTION:
URL:https://shinesedona.com/event/angel-reiki-session-w-amanda-shannon-1120/
CATEGORIES:Expand,Heal,Sessions
ATTACH;FMTTYPE=image/jpeg:https://shinesedona.com/wp-content/uploads/2023/08/angelic-hands-1.jpg
END:VEVENT
BEGIN:VEVENT
DTSTART;TZID=UTC:20241120T150000
DTEND;TZID=UTC:20241120T170000
DTSTAMP:20260422T104205
CREATED:20240920T231216Z
LAST-MODIFIED:20241027T234411Z
UID:242916-1732114800-1732122000@shinesedona.com
SUMMARY:Cellular Mind Body Reset Session
DESCRIPTION:
URL:https://shinesedona.com/event/cellular-mind-body-reset-session-1120-2/
CATEGORIES:Expand,Heal,Sessions
ATTACH;FMTTYPE=image/jpeg:https://shinesedona.com/wp-content/uploads/2024/09/Cellular-Reset-square-image.jpg
END:VEVENT
BEGIN:VEVENT
DTSTART;TZID=UTC:20241121T100000
DTEND;TZID=UTC:20241121T133000
DTSTAMP:20260422T104205
CREATED:20240918T181536Z
LAST-MODIFIED:20241115T230856Z
UID:242855-1732183200-1732195800@shinesedona.com
SUMMARY:Energy Clearing & Chakra Balancing Session w/ Joy Gabriel
DESCRIPTION:
URL:https://shinesedona.com/event/energy-clearing-chakra-balancing-session-w-joy-gabriel-11-21-24/
CATEGORIES:Expand,Heal,Sessions
ATTACH;FMTTYPE=image/png:https://shinesedona.com/wp-content/uploads/2024/09/Screenshot-2024-09-17-at-5.39.59 PM.png
END:VEVENT
BEGIN:VEVENT
DTSTART;TZID=UTC:20241121T100000
DTEND;TZID=UTC:20241121T170000
DTSTAMP:20260422T104205
CREATED:20241029T181312Z
LAST-MODIFIED:20241029T181351Z
UID:243194-1732183200-1732208400@shinesedona.com
SUMMARY:Intuitive Angel Reading w/ Amanda Shannon
DESCRIPTION:
URL:https://shinesedona.com/event/intuitive-angel-reading-w-amanda-shannon-112124/
CATEGORIES:Expand,Heal,Learn
ATTACH;FMTTYPE=image/png:https://shinesedona.com/wp-content/uploads/2023/10/Screen-Shot-2023-10-02-at-11.21.48-AM.png
END:VEVENT
BEGIN:VEVENT
DTSTART;TZID=UTC:20241121T180000
DTEND;TZID=UTC:20241121T193000
DTSTAMP:20260422T104205
CREATED:20241001T205514Z
LAST-MODIFIED:20241029T163225Z
UID:243055-1732212000-1732217400@shinesedona.com
SUMMARY:Ceremonial Cacao & Sound Journey w/ Athena Soultender
DESCRIPTION:
URL:https://shinesedona.com/event/ceremonial-cacao-sound-journey-w-athena-soultender-and-viola-rose-11-21-24/
CATEGORIES:Events,Expand,Heal
ATTACH;FMTTYPE=image/jpeg:https://shinesedona.com/wp-content/uploads/2024/08/cacao-sound-athena.jpg
END:VEVENT
BEGIN:VEVENT
DTSTART;TZID=UTC:20241122T100000
DTEND;TZID=UTC:20241122T143000
DTSTAMP:20260422T104205
CREATED:20241029T181506Z
LAST-MODIFIED:20241029T181516Z
UID:243195-1732269600-1732285800@shinesedona.com
SUMMARY:Intuitive Angel Reading w/ Amanda Shannon
DESCRIPTION:
URL:https://shinesedona.com/event/intuitive-angel-reading-w-amanda-shannon-112224/
CATEGORIES:Expand,Heal,Learn
ATTACH;FMTTYPE=image/png:https://shinesedona.com/wp-content/uploads/2023/10/Screen-Shot-2023-10-02-at-11.21.48-AM.png
END:VEVENT
BEGIN:VEVENT
DTSTART;TZID=UTC:20241122T100000
DTEND;TZID=UTC:20241122T170000
DTSTAMP:20260422T104205
CREATED:20240831T194721Z
LAST-MODIFIED:20240831T194729Z
UID:242626-1732269600-1732294800@shinesedona.com
SUMMARY:Restorative Reiki Session w/ Barbie Maraviov
DESCRIPTION:
URL:https://shinesedona.com/event/restorative-reiki-session-w-barbie-maraviov-1122/
CATEGORIES:Expand,Heal,Sessions
ATTACH;FMTTYPE=image/jpeg:https://shinesedona.com/wp-content/uploads/2024/06/Reiki-image.jpg
END:VEVENT
BEGIN:VEVENT
DTSTART;TZID=UTC:20241123T100000
DTEND;TZID=UTC:20241123T170000
DTSTAMP:20260422T104205
CREATED:20241112T174935Z
LAST-MODIFIED:20241112T174943Z
UID:243481-1732356000-1732381200@shinesedona.com
SUMMARY:Intuitive Reading and Guidance Session w/ Abigail Earthshine
DESCRIPTION:
URL:https://shinesedona.com/event/intuitive-reading-and-guidance-session-w-abigail-earthshine-1123/
CATEGORIES:Expand,Heal,Learn
ATTACH;FMTTYPE=image/jpeg:https://shinesedona.com/wp-content/uploads/2024/06/Earthshine-square-image.jpg
END:VEVENT
BEGIN:VEVENT
DTSTART;TZID=UTC:20241123T100000
DTEND;TZID=UTC:20241123T170000
DTSTAMP:20260422T104205
CREATED:20241119T151320Z
LAST-MODIFIED:20241119T151329Z
UID:243534-1732356000-1732381200@shinesedona.com
SUMMARY:Cellular Mind Body Reset Session
DESCRIPTION:
URL:https://shinesedona.com/event/cellular-mind-body-reset-session-112324/
CATEGORIES:Expand,Heal,Sessions
ATTACH;FMTTYPE=image/jpeg:https://shinesedona.com/wp-content/uploads/2024/09/Cellular-Reset-square-image.jpg
END:VEVENT
BEGIN:VEVENT
DTSTART;TZID=UTC:20241123T180000
DTEND;TZID=UTC:20241123T193000
DTSTAMP:20260422T104205
CREATED:20240914T201509Z
LAST-MODIFIED:20240914T201518Z
UID:242791-1732384800-1732390200@shinesedona.com
SUMMARY:Sound Healing Ceremony w/ Devani Paige
DESCRIPTION:
URL:https://shinesedona.com/event/sound-healing-ceremony-w-devani-paige-11-23/
CATEGORIES:Events,Expand,Heal
ATTACH;FMTTYPE=image/jpeg:https://shinesedona.com/wp-content/uploads/2023/04/Devani-square-image-w-flutes-.jpg
END:VEVENT
BEGIN:VEVENT
DTSTART;TZID=UTC:20241124T100000
DTEND;TZID=UTC:20241124T143000
DTSTAMP:20260422T104205
CREATED:20241027T233537Z
LAST-MODIFIED:20241027T233602Z
UID:243168-1732442400-1732458600@shinesedona.com
SUMMARY:Angel Reiki Session w/ Amanda Shannon
DESCRIPTION:
URL:https://shinesedona.com/event/angel-reiki-session-w-amanda-shannon-1124/
CATEGORIES:Expand,Heal,Sessions
ATTACH;FMTTYPE=image/jpeg:https://shinesedona.com/wp-content/uploads/2023/08/angelic-hands-1.jpg
END:VEVENT
BEGIN:VEVENT
DTSTART;TZID=UTC:20241124T173000
DTEND;TZID=UTC:20241124T193000
DTSTAMP:20260422T104205
CREATED:20241123T161118Z
LAST-MODIFIED:20241123T161128Z
UID:243597-1732469400-1732476600@shinesedona.com
SUMMARY:Shamangelic Breathwork Ceremony w/ Anahata Ananda
DESCRIPTION:
URL:https://shinesedona.com/event/shamangelic-breathwork-ceremony-w-anahata-ananda-1124/
CATEGORIES:Events,Expand,Heal
ATTACH;FMTTYPE=image/jpeg:https://shinesedona.com/wp-content/uploads/2024/05/ana-hug-group.jpg
END:VEVENT
END:VCALENDAR